BEGIN:VCALENDAR
VERSION:2.0
PRODID:-//Akron Bugle - ECPv6.15.20//NONSGML v1.0//EN
CALSCALE:GREGORIAN
METHOD:PUBLISH
X-ORIGINAL-URL:https://akronbugle.com
X-WR-CALDESC:Events for Akron Bugle
REFRESH-INTERVAL;VALUE=DURATION:PT1H
X-Robots-Tag:noindex
X-PUBLISHED-TTL:PT1H
BEGIN:VTIMEZONE
TZID:America/New_York
BEGIN:DAYLIGHT
TZOFFSETFROM:-0500
TZOFFSETTO:-0400
TZNAME:EDT
DTSTART:20250309T070000
END:DAYLIGHT
BEGIN:STANDARD
TZOFFSETFROM:-0400
TZOFFSETTO:-0500
TZNAME:EST
DTSTART:20251102T060000
END:STANDARD
BEGIN:DAYLIGHT
TZOFFSETFROM:-0500
TZOFFSETTO:-0400
TZNAME:EDT
DTSTART:20260308T070000
END:DAYLIGHT
BEGIN:STANDARD
TZOFFSETFROM:-0400
TZOFFSETTO:-0500
TZNAME:EST
DTSTART:20261101T060000
END:STANDARD
BEGIN:DAYLIGHT
TZOFFSETFROM:-0500
TZOFFSETTO:-0400
TZNAME:EDT
DTSTART:20270314T070000
END:DAYLIGHT
BEGIN:STANDARD
TZOFFSETFROM:-0400
TZOFFSETTO:-0500
TZNAME:EST
DTSTART:20271107T060000
END:STANDARD
END:VTIMEZONE
BEGIN:VEVENT
DTSTART;TZID=America/New_York:20260427T183000
DTEND;TZID=America/New_York:20260427T213000
DTSTAMP:20260423T122821
CREATED:20260419T172720Z
LAST-MODIFIED:20260419T172720Z
UID:6558-1777314600-1777325400@akronbugle.com
SUMMARY:Akron Central School Board of Education meeting
DESCRIPTION:Akron Central School Board of Education meeting – 47 Bloomingdale Ave.\, Wednesday\, May 27 – BOE Regular Business Meeting – HS Cafeteria – Executive Session 6:30 p.m.\, Regular meeting 7:00 p.m.
URL:https://akronbugle.com/calendar/akron-central-school-board-of-education-meeting-10/
LOCATION:Akron Central School\, 47 Bloomingdale Ave.\, Akron\, NY\, 14001
CATEGORIES:Akron Central School
END:VEVENT
BEGIN:VEVENT
DTSTART;TZID=America/New_York:20260512T190000
DTEND;TZID=America/New_York:20260512T213000
DTSTAMP:20260423T122821
CREATED:20260411T191939Z
LAST-MODIFIED:20260411T191939Z
UID:6513-1778612400-1778621400@akronbugle.com
SUMMARY:Akron Central School Board of Education meeting
DESCRIPTION:Akron Central School Board of Education meeting – Budget Hearing in the auditorium at 7:00 p.m. followed by regular meeting in the High School Cafeteria.
URL:https://akronbugle.com/calendar/akron-central-school-board-of-education-meeting-9/
LOCATION:Akron Central School\, 47 Bloomingdale Ave.\, Akron\, NY\, 14001
CATEGORIES:Akron Central School
END:VEVENT
BEGIN:VEVENT
DTSTART;TZID=America/New_York:20260519T120000
DTEND;TZID=America/New_York:20260519T210000
DTSTAMP:20260423T122821
CREATED:20260411T192547Z
LAST-MODIFIED:20260411T192547Z
UID:6519-1779192000-1779224400@akronbugle.com
SUMMARY:Akron Central Board of Education Budget vote and Board member elections
DESCRIPTION:Gym 3 – 47 Bloomingdale Ave.\, Tuesday\, May 19 – noon to 9:00 p.m.
URL:https://akronbugle.com/calendar/akron-central-board-of-education-budget-vote-and-board-member-elections/
LOCATION:NY
CATEGORIES:Akron Central School
END:VEVENT
BEGIN:VEVENT
DTSTART;TZID=America/New_York:20260610T183000
DTEND;TZID=America/New_York:20260610T213000
DTSTAMP:20260423T122821
CREATED:20260419T172952Z
LAST-MODIFIED:20260419T172952Z
UID:6560-1781116200-1781127000@akronbugle.com
SUMMARY:Akron Central School Board of Education meeting
DESCRIPTION:Akron Central School Board of Education meeting – 47 Bloomingdale Ave.\, Wednesday\, June 10 – BOE Regular Business Meeting – HS Cafeteria – Executive Session 6:30 p.m.\, Regular meeting 7:00 p.m.
URL:https://akronbugle.com/calendar/akron-central-school-board-of-education-meeting-11/
LOCATION:Akron Central School\, 47 Bloomingdale Ave.\, Akron\, NY\, 14001
CATEGORIES:Akron Central School
END:VEVENT
BEGIN:VEVENT
DTSTART;TZID=America/New_York:20260624T183000
DTEND;TZID=America/New_York:20260624T213000
DTSTAMP:20260423T122821
CREATED:20260419T173200Z
LAST-MODIFIED:20260419T173200Z
UID:6563-1782325800-1782336600@akronbugle.com
SUMMARY:Akron Central School Board of Education meeting
DESCRIPTION:Akron Central School Board of Education meeting – 47 Bloomingdale Ave.\, Wednesday\, June 24 – BOE Regular Business Meeting – HS Cafeteria – Executive Session 6:30 p.m.\, Regular meeting 7:00 p.m.
URL:https://akronbugle.com/calendar/akron-central-school-board-of-education-meeting-12/
LOCATION:Akron Central School\, 47 Bloomingdale Ave.\, Akron\, NY\, 14001
CATEGORIES:Akron Central School
END:VEVENT
END:VCALENDAR