BEGIN:VCALENDAR
VERSION:2.0
PRODID:-//Akron Bugle - ECPv6.15.20//NONSGML v1.0//EN
CALSCALE:GREGORIAN
METHOD:PUBLISH
X-WR-CALNAME:Akron Bugle
X-ORIGINAL-URL:https://akronbugle.com
X-WR-CALDESC:Events for Akron Bugle
REFRESH-INTERVAL;VALUE=DURATION:PT1H
X-Robots-Tag:noindex
X-PUBLISHED-TTL:PT1H
BEGIN:VTIMEZONE
TZID:America/New_York
BEGIN:DAYLIGHT
TZOFFSETFROM:-0500
TZOFFSETTO:-0400
TZNAME:EDT
DTSTART:20190310T070000
END:DAYLIGHT
BEGIN:STANDARD
TZOFFSETFROM:-0400
TZOFFSETTO:-0500
TZNAME:EST
DTSTART:20191103T060000
END:STANDARD
BEGIN:DAYLIGHT
TZOFFSETFROM:-0500
TZOFFSETTO:-0400
TZNAME:EDT
DTSTART:20200308T070000
END:DAYLIGHT
BEGIN:STANDARD
TZOFFSETFROM:-0400
TZOFFSETTO:-0500
TZNAME:EST
DTSTART:20201101T060000
END:STANDARD
BEGIN:DAYLIGHT
TZOFFSETFROM:-0500
TZOFFSETTO:-0400
TZNAME:EDT
DTSTART:20210314T070000
END:DAYLIGHT
BEGIN:STANDARD
TZOFFSETFROM:-0400
TZOFFSETTO:-0500
TZNAME:EST
DTSTART:20211107T060000
END:STANDARD
END:VTIMEZONE
BEGIN:VEVENT
DTSTART;TZID=America/New_York:20201007T190000
DTEND;TZID=America/New_York:20201007T190000
DTSTAMP:20260423T163618
CREATED:20200912T152033Z
LAST-MODIFIED:20200912T152033Z
UID:1764-1602097200-1602097200@akronbugle.com
SUMMARY:ACS School Board of Education Workshop/Business Meeting
DESCRIPTION:The Akron School Board of Education will host a workshop and business meeting on Wednesday\, Oct. 7 at 7 p.m. in the high school cafeteria\, 47 Bloomingdale Ave.
URL:https://akronbugle.com/calendar/acs-school-board-of-education-workshop-business-meeting/
LOCATION:Akron Central School\, 47 Bloomingdale Ave.\, Akron\, NY\, 14001
CATEGORIES:Akron Central School
END:VEVENT
BEGIN:VEVENT
DTSTART;TZID=America/New_York:20200923T190000
DTEND;TZID=America/New_York:20200923T190000
DTSTAMP:20260423T163618
CREATED:20200905T202640Z
LAST-MODIFIED:20200905T202640Z
UID:1616-1600887600-1600887600@akronbugle.com
SUMMARY:Akron Central School Board of Education Meeting
DESCRIPTION:The Akron Center School Board of Education will meet for a business meeting on Wednesday\, Sept. 23 at 7 p.m. in the high school cafeteria\, 47 Bloomingdale Ave.
URL:https://akronbugle.com/calendar/akron-central-school-board-of-education-meeting/
LOCATION:Akron Central School\, 47 Bloomingdale Ave.\, Akron\, NY\, 14001
CATEGORIES:Akron Central School
END:VEVENT
BEGIN:VEVENT
DTSTART;TZID=America/New_York:20200916T190000
DTEND;TZID=America/New_York:20200916T190000
DTSTAMP:20260423T163618
CREATED:20200912T151734Z
LAST-MODIFIED:20200912T151734Z
UID:1760-1600282800-1600282800@akronbugle.com
SUMMARY:ACS Board of Education Special Meeting
DESCRIPTION:The Akron Central School Board of Education will hold a special meeting on Wednesday\, Sept. 16 at 7 p.m. in the high school cafeteria\, 47 Bloomingdale Ave.
URL:https://akronbugle.com/calendar/acs-board-of-education-special-meeting/
LOCATION:Akron Central School\, 47 Bloomingdale Ave.\, Akron\, NY\, 14001
CATEGORIES:Akron Central School
END:VEVENT
END:VCALENDAR