BEGIN:VCALENDAR
VERSION:2.0
PRODID:-//Akron Bugle - ECPv6.15.20//NONSGML v1.0//EN
CALSCALE:GREGORIAN
METHOD:PUBLISH
X-ORIGINAL-URL:https://akronbugle.com
X-WR-CALDESC:Events for Akron Bugle
REFRESH-INTERVAL;VALUE=DURATION:PT1H
X-Robots-Tag:noindex
X-PUBLISHED-TTL:PT1H
BEGIN:VTIMEZONE
TZID:America/New_York
BEGIN:DAYLIGHT
TZOFFSETFROM:-0500
TZOFFSETTO:-0400
TZNAME:EDT
DTSTART:20190310T070000
END:DAYLIGHT
BEGIN:STANDARD
TZOFFSETFROM:-0400
TZOFFSETTO:-0500
TZNAME:EST
DTSTART:20191103T060000
END:STANDARD
BEGIN:DAYLIGHT
TZOFFSETFROM:-0500
TZOFFSETTO:-0400
TZNAME:EDT
DTSTART:20200308T070000
END:DAYLIGHT
BEGIN:STANDARD
TZOFFSETFROM:-0400
TZOFFSETTO:-0500
TZNAME:EST
DTSTART:20201101T060000
END:STANDARD
BEGIN:DAYLIGHT
TZOFFSETFROM:-0500
TZOFFSETTO:-0400
TZNAME:EDT
DTSTART:20210314T070000
END:DAYLIGHT
BEGIN:STANDARD
TZOFFSETFROM:-0400
TZOFFSETTO:-0500
TZNAME:EST
DTSTART:20211107T060000
END:STANDARD
BEGIN:DAYLIGHT
TZOFFSETFROM:-0500
TZOFFSETTO:-0400
TZNAME:EDT
DTSTART:20220313T070000
END:DAYLIGHT
BEGIN:STANDARD
TZOFFSETFROM:-0400
TZOFFSETTO:-0500
TZNAME:EST
DTSTART:20221106T060000
END:STANDARD
BEGIN:DAYLIGHT
TZOFFSETFROM:-0500
TZOFFSETTO:-0400
TZNAME:EDT
DTSTART:20230312T070000
END:DAYLIGHT
BEGIN:STANDARD
TZOFFSETFROM:-0400
TZOFFSETTO:-0500
TZNAME:EST
DTSTART:20231105T060000
END:STANDARD
END:VTIMEZONE
BEGIN:VEVENT
DTSTART;TZID=America/New_York:20220228T183000
DTEND;TZID=America/New_York:20220228T203000
DTSTAMP:20260423T201414
CREATED:20220224T021224Z
LAST-MODIFIED:20220224T021224Z
UID:3142-1646073000-1646080200@akronbugle.com
SUMMARY:Newstead Town Board Meeting
DESCRIPTION:Newstead Town Board – Work Session 6:45 p.m.\, Meeting 7:30 p.m.\, Monday\, February 28\, 2022\, 5 Clarence Center Rd.\, Akron\, NY.
URL:https://akronbugle.com/calendar/newstead-town-board-meeting-12/
LOCATION:Newstead Town Hall\, 5 Clarence Center Road\, Akron\, NY\, 14001
CATEGORIES:Newstead Town Board,Village & Town Meetings
ATTACH;FMTTYPE=image/jpeg:https://akronbugle.com/wp-content/uploads/2020/11/townlogo.jpg
END:VEVENT
BEGIN:VEVENT
DTSTART;TZID=America/New_York:20220103T190000
DTEND;TZID=America/New_York:20220103T203000
DTSTAMP:20260423T201414
CREATED:20220101T154328Z
LAST-MODIFIED:20220101T154639Z
UID:3018-1641236400-1641241800@akronbugle.com
SUMMARY:Newstead Town Board meeting
DESCRIPTION:Swearing In of newly elected officials and Organizational Meeting for 2022 – 7:00 p.m.\, Monday\, January 3\, 2022\, 5 Clarence Center Rd.\, Akron\, NY.
URL:https://akronbugle.com/calendar/newstead-town-board-meeting-11/
LOCATION:Newstead Town Hall\, 5 Clarence Center Road\, Akron\, NY\, 14001
CATEGORIES:Newstead Town Board,Village & Town Meetings
END:VEVENT
BEGIN:VEVENT
DTSTART;TZID=America/New_York:20211122T184500
DTEND;TZID=America/New_York:20211122T184500
DTSTAMP:20260423T201414
CREATED:20211107T205825Z
LAST-MODIFIED:20211107T205825Z
UID:2886-1637606700-1637606700@akronbugle.com
SUMMARY:Newstead Town Board
DESCRIPTION:
URL:https://akronbugle.com/calendar/newstead-town-board-4/
LOCATION:Newstead Town Hall\, 5 Clarence Center Road\, Akron\, NY\, 14001
CATEGORIES:Newstead Town Board
END:VEVENT
BEGIN:VEVENT
DTSTART;TZID=America/New_York:20211108T190000
DTEND;TZID=America/New_York:20211108T190000
DTSTAMP:20260423T201414
CREATED:20211107T201048Z
LAST-MODIFIED:20211107T201048Z
UID:2880-1636398000-1636398000@akronbugle.com
SUMMARY:Newstead Town Board
DESCRIPTION:Work Session 7:00 p.m.\, Monday\, November 1\, 2021\, 5 Clarence Center Rd.\, Akron\, NY.
URL:https://akronbugle.com/calendar/newstead-town-board-3/
LOCATION:Newstead Town Hall\, 5 Clarence Center Road\, Akron\, NY\, 14001
CATEGORIES:Newstead Town Board
ATTACH;FMTTYPE=image/jpeg:https://akronbugle.com/wp-content/uploads/2020/11/townlogo.jpg
END:VEVENT
BEGIN:VEVENT
DTSTART;TZID=America/New_York:20211018T190000
DTEND;TZID=America/New_York:20211018T203000
DTSTAMP:20260423T201414
CREATED:20211007T005940Z
LAST-MODIFIED:20211007T005940Z
UID:2847-1634583600-1634589000@akronbugle.com
SUMMARY:Newstead Town Board
DESCRIPTION:Work Session 7:00 p.m.
URL:https://akronbugle.com/calendar/newstead-town-board-2/
LOCATION:Newstead Town Hall\, 5 Clarence Center Road\, Akron\, NY\, 14001
CATEGORIES:Newstead Town Board
END:VEVENT
BEGIN:VEVENT
DTSTART;TZID=America/New_York:20211012T183000
DTEND;TZID=America/New_York:20211012T203000
DTSTAMP:20260423T201414
CREATED:20211007T002839Z
LAST-MODIFIED:20211007T002839Z
UID:2831-1634063400-1634070600@akronbugle.com
SUMMARY:Newstead Town Board
DESCRIPTION:Work Session 6:45; Meeting 7:30 p.m.
URL:https://akronbugle.com/calendar/newstead-town-board/
LOCATION:Newstead Town Hall\, 5 Clarence Center Road\, Akron\, NY\, 14001
CATEGORIES:Newstead Town Board
END:VEVENT
BEGIN:VEVENT
DTSTART;TZID=America/New_York:20210913T183000
DTEND;TZID=America/New_York:20210913T210000
DTSTAMP:20260423T201414
CREATED:20210909T221859Z
LAST-MODIFIED:20210912T222214Z
UID:2739-1631557800-1631566800@akronbugle.com
SUMMARY:Newstead Town Board meeting
DESCRIPTION:Work Session 6:45; Meeting 7:30 p.m.\, 5 Clarence Center Rd.\, Akron\, NY.
URL:https://akronbugle.com/calendar/newstead-town-board-meeting-10/
LOCATION:Newstead Town Hall\, 5 Clarence Center Road\, Akron\, NY\, 14001
CATEGORIES:Newstead Town Board
END:VEVENT
BEGIN:VEVENT
DTSTART;TZID=America/New_York:20210823T193000
DTEND;TZID=America/New_York:20210823T193000
DTSTAMP:20260423T201414
CREATED:20210717T133645Z
LAST-MODIFIED:20210717T133645Z
UID:2606-1629747000-1629747000@akronbugle.com
SUMMARY:Newstead Town Board Meeting
DESCRIPTION:The Newstead Town Board will host its meeting at 7:30 p.m. on Monday\, Aug. 23 at the Town Hall\, 5 Clarence Center Rd.\, Akron. The meeting will be preceded by a work session at 6:45 p.m.
URL:https://akronbugle.com/calendar/newstead-town-board-meeting-9/
LOCATION:Newstead Town Hall\, 5 Clarence Center Road\, Akron\, NY\, 14001
CATEGORIES:Newstead Town Board
END:VEVENT
BEGIN:VEVENT
DTSTART;TZID=America/New_York:20210809T193000
DTEND;TZID=America/New_York:20210809T193000
DTSTAMP:20260423T201414
CREATED:20210717T133436Z
LAST-MODIFIED:20210717T133436Z
UID:2602-1628537400-1628537400@akronbugle.com
SUMMARY:Newstead Town Board Meeting
DESCRIPTION:The Newstead Town Board will host its meeting at 7:30 p.m. on Monday\, Aug. 9 at the Town Hall\, 5 Clarence Center Rd.\, Akron. The meeting will be preceded by a work session at 6:45 p.m.
URL:https://akronbugle.com/calendar/newstead-town-board-meeting-8/
LOCATION:Newstead Town Hall\, 5 Clarence Center Road\, Akron\, NY\, 14001
CATEGORIES:Newstead Town Board
END:VEVENT
BEGIN:VEVENT
DTSTART;TZID=America/New_York:20210726T193000
DTEND;TZID=America/New_York:20210726T193000
DTSTAMP:20260423T201414
CREATED:20210717T133154Z
LAST-MODIFIED:20210717T133154Z
UID:2598-1627327800-1627327800@akronbugle.com
SUMMARY:Newstead Town Board Meeting
DESCRIPTION:The Newstead Town Board will host its meeting at 7:30 p.m. on Monday\, July 26 at the Town Hall\, 5 Clarence Center Rd.\, Akron. The meeting will be preceded by a work session beginning at 6:45 p.m.
URL:https://akronbugle.com/calendar/newstead-town-board-meeting-7/
LOCATION:Newstead Town Hall\, 5 Clarence Center Road\, Akron\, NY\, 14001
CATEGORIES:Newstead Town Board
END:VEVENT
BEGIN:VEVENT
DTSTART;TZID=America/New_York:20210719T190000
DTEND;TZID=America/New_York:20210719T190000
DTSTAMP:20260423T201414
CREATED:20210717T133033Z
LAST-MODIFIED:20210717T133033Z
UID:2596-1626721200-1626721200@akronbugle.com
SUMMARY:Newstead Town Board Meeting
DESCRIPTION:The Newstead Town Board will host a work session at 7 p.m. on Monday\, July 19 at the Town Hall\, 5 Clarence Center Rd.\, Akron.
URL:https://akronbugle.com/calendar/newstead-town-board-meeting-6/
LOCATION:Newstead Town Hall\, 5 Clarence Center Road\, Akron\, NY\, 14001
CATEGORIES:Newstead Town Board
END:VEVENT
BEGIN:VEVENT
DTSTART;TZID=America/New_York:20210614T193000
DTEND;TZID=America/New_York:20210614T193000
DTSTAMP:20260423T201414
CREATED:20210529T011014Z
LAST-MODIFIED:20210529T011014Z
UID:2392-1623699000-1623699000@akronbugle.com
SUMMARY:Newstead Town Board Meeting
DESCRIPTION:The Newstead Town Board will hold a regular meeting at 7:30 p.m. on Monday\, June 14 at the Town Hall\, 5 Clarence Center Road. The meeting is preceded by a work session at 6:45 p.m.
URL:https://akronbugle.com/calendar/newstead-town-board-meeting-5/
LOCATION:Newstead Town Hall\, 5 Clarence Center Road\, Akron\, NY\, 14001
CATEGORIES:Newstead Town Board
END:VEVENT
BEGIN:VEVENT
DTSTART;TZID=America/New_York:20210607T190000
DTEND;TZID=America/New_York:20210607T190000
DTSTAMP:20260423T201414
CREATED:20210529T010850Z
LAST-MODIFIED:20210529T010909Z
UID:2389-1623092400-1623092400@akronbugle.com
SUMMARY:Newstead Town Board Work Session
DESCRIPTION:The Newstead Town Board will hold a work session at 7 p.m. on Monday\, June 7 at the Town Hall\, 5 Clarence Center Road.
URL:https://akronbugle.com/calendar/newstead-town-board-meeting-4/
LOCATION:Newstead Town Hall\, 5 Clarence Center Road\, Akron\, NY\, 14001
CATEGORIES:Newstead Town Board
END:VEVENT
BEGIN:VEVENT
DTSTART;TZID=America/New_York:20210222T183000
DTEND;TZID=America/New_York:20210222T203000
DTSTAMP:20260423T201414
CREATED:20210212T222523Z
LAST-MODIFIED:20210212T222523Z
UID:2092-1614018600-1614025800@akronbugle.com
SUMMARY:Newstead Town Board meeting
DESCRIPTION:Work Session 6:45; Meeting 7:30 p.m.\, Monday\, February 22\, 2021\, 5 Clarence Center Rd.\, Akron\, NY.  Please note – Under the current COVID-19 protocol the Town Board can meet by email\, video chat\, phone call without public present if they need too.
URL:https://akronbugle.com/calendar/newstead-town-board-meeting-3/
LOCATION:NY
CATEGORIES:Newstead Town Board,Village & Town Meetings
END:VEVENT
BEGIN:VEVENT
DTSTART;TZID=America/New_York:20201214T183000
DTEND;TZID=America/New_York:20201214T203000
DTSTAMP:20260423T201414
CREATED:20201203T225035Z
LAST-MODIFIED:20201206T225317Z
UID:1967-1607970600-1607977800@akronbugle.com
SUMMARY:Newstead Town Board work session and meeting
DESCRIPTION:Work Session 6:45 p.m.\, regular meeting 7:30 p.m. Please note – Under the current COVID-19 protocol the Town Board can meet by email\, video chat\, phone call without public present if they need too.
URL:https://akronbugle.com/calendar/newstead-town-board-work-session-and-meeting/
LOCATION:Newstead Town Hall\, 5 Clarence Center Road\, Akron\, NY\, 14001
CATEGORIES:Newstead Town Board,Village & Town Meetings
END:VEVENT
BEGIN:VEVENT
DTSTART;TZID=America/New_York:20201207T190000
DTEND;TZID=America/New_York:20201207T210000
DTSTAMP:20260423T201414
CREATED:20201203T223922Z
LAST-MODIFIED:20201206T224117Z
UID:1963-1607367600-1607374800@akronbugle.com
SUMMARY:Newstead Town Board work session
DESCRIPTION:Please note – Under the current COVID-19 protocol the Town Board can meet by email\, video chat\, phone call without public present if they need too.
URL:https://akronbugle.com/calendar/newstead-town-board-work-session/
LOCATION:Newstead Town Hall\, 5 Clarence Center Road\, Akron\, NY\, 14001
CATEGORIES:Newstead Town Board,Village & Town Meetings
END:VEVENT
BEGIN:VEVENT
DTSTART;TZID=America/New_York:20200928T193000
DTEND;TZID=America/New_York:20200928T193000
DTSTAMP:20260423T201414
CREATED:20200905T202426Z
LAST-MODIFIED:20200905T202426Z
UID:1614-1601321400-1601321400@akronbugle.com
SUMMARY:Newstead Town Board Meeting
DESCRIPTION:The Newstead Town board will host its regularly scheduled meeting at 7:30 p.m. on Monday\, Sept. 28 with a work session beginning at 6:45 p.m. The meeting will take place at 5 Clarence Center Road in Akron. Please note — Under the current COVID-19 protocol\, the Town Board can meet by email\, video chat or phone call without public present if needed.
URL:https://akronbugle.com/calendar/newstead-town-board-meeting-2/
LOCATION:Newstead Town Hall\, 5 Clarence Center Road\, Akron\, NY\, 14001
CATEGORIES:Newstead Town Board
END:VEVENT
BEGIN:VEVENT
DTSTART;TZID=America/New_York:20200914T193000
DTEND;TZID=America/New_York:20200914T193000
DTSTAMP:20260423T201414
CREATED:20200905T200244Z
LAST-MODIFIED:20200905T200412Z
UID:1603-1600111800-1600111800@akronbugle.com
SUMMARY:Newstead Town Board Meeting
DESCRIPTION:The Newstead Town board will host its regularly scheduled meeting at 7:30 p.m. on Monday\, Sept. 14 with a work session beginning at 6:45 p.m. The meeting will take place at 5 Clarence Center Road in Akron. Please note — Under the current COVID-19 protocol\, the Town Board can meet by email\, video chat or phone call without public present if needed.
URL:https://akronbugle.com/calendar/newstead-town-board-meeting/
LOCATION:Newstead Town Hall\, 5 Clarence Center Road\, Akron\, NY\, 14001
CATEGORIES:Newstead Town Board
END:VEVENT
END:VCALENDAR