BEGIN:VCALENDAR
VERSION:2.0
PRODID:-//Akron Bugle - ECPv6.15.20//NONSGML v1.0//EN
CALSCALE:GREGORIAN
METHOD:PUBLISH
X-WR-CALNAME:Akron Bugle
X-ORIGINAL-URL:https://akronbugle.com
X-WR-CALDESC:Events for Akron Bugle
REFRESH-INTERVAL;VALUE=DURATION:PT1H
X-Robots-Tag:noindex
X-PUBLISHED-TTL:PT1H
BEGIN:VTIMEZONE
TZID:America/New_York
BEGIN:DAYLIGHT
TZOFFSETFROM:-0500
TZOFFSETTO:-0400
TZNAME:EDT
DTSTART:20210314T070000
END:DAYLIGHT
BEGIN:STANDARD
TZOFFSETFROM:-0400
TZOFFSETTO:-0500
TZNAME:EST
DTSTART:20211107T060000
END:STANDARD
BEGIN:DAYLIGHT
TZOFFSETFROM:-0500
TZOFFSETTO:-0400
TZNAME:EDT
DTSTART:20220313T070000
END:DAYLIGHT
BEGIN:STANDARD
TZOFFSETFROM:-0400
TZOFFSETTO:-0500
TZNAME:EST
DTSTART:20221106T060000
END:STANDARD
BEGIN:DAYLIGHT
TZOFFSETFROM:-0500
TZOFFSETTO:-0400
TZNAME:EDT
DTSTART:20230312T070000
END:DAYLIGHT
BEGIN:STANDARD
TZOFFSETFROM:-0400
TZOFFSETTO:-0500
TZNAME:EST
DTSTART:20231105T060000
END:STANDARD
BEGIN:DAYLIGHT
TZOFFSETFROM:-0500
TZOFFSETTO:-0400
TZNAME:EDT
DTSTART:20240310T070000
END:DAYLIGHT
BEGIN:STANDARD
TZOFFSETFROM:-0400
TZOFFSETTO:-0500
TZNAME:EST
DTSTART:20241103T060000
END:STANDARD
BEGIN:DAYLIGHT
TZOFFSETFROM:-0500
TZOFFSETTO:-0400
TZNAME:EDT
DTSTART:20250309T070000
END:DAYLIGHT
BEGIN:STANDARD
TZOFFSETFROM:-0400
TZOFFSETTO:-0500
TZNAME:EST
DTSTART:20251102T060000
END:STANDARD
END:VTIMEZONE
BEGIN:VEVENT
DTSTART;TZID=America/New_York:20240122T190000
DTEND;TZID=America/New_York:20240122T200000
DTSTAMP:20260423T151838
CREATED:20240111T234733Z
LAST-MODIFIED:20240111T234733Z
UID:4607-1705950000-1705953600@akronbugle.com
SUMMARY:Akron Village Board meeting
DESCRIPTION:Akron Village Board meeting – Monday\, January 22 – Regular meeting 7 p.m.\, Akron Village Hall\, 21 Main St.\, Akron.
URL:https://akronbugle.com/calendar/akron-village-board-meeting-29/
LOCATION:Akron Village Hall\, 21 Main St.\, Akron\, NY\, 14001
CATEGORIES:Akron Village Board,Village & Town Meetings
END:VEVENT
BEGIN:VEVENT
DTSTART;TZID=America/New_York:20240122T183000
DTEND;TZID=America/New_York:20240122T203000
DTSTAMP:20260423T151838
CREATED:20240111T234533Z
LAST-MODIFIED:20240111T234815Z
UID:4605-1705948200-1705955400@akronbugle.com
SUMMARY:Newstead Town Board meeting
DESCRIPTION:Newstead Town Board meeting – Monday\, January 22 – Work Session 6:45 p.m.\, Regular meeting 7:30 p.m.
URL:https://akronbugle.com/calendar/newstead-town-board-meeting-27/
LOCATION:Newstead Town Hall\, 5 Clarence Center Road\, Akron\, NY\, 14001
CATEGORIES:Newstead Town Board,Village & Town Meetings
END:VEVENT
BEGIN:VEVENT
DTSTART;TZID=America/New_York:20231127T190000
DTEND;TZID=America/New_York:20231127T210000
DTSTAMP:20260423T151838
CREATED:20231108T213514Z
LAST-MODIFIED:20231108T213514Z
UID:4524-1701111600-1701118800@akronbugle.com
SUMMARY:Newstead Town Board Meeting
DESCRIPTION:Newstead Town Board Meeting – 5 Clarence Center Road\, Akron\, NY Work Session 6:45 p.m.; regular meeting 7:30 p.m.; Monday\, November 27.
URL:https://akronbugle.com/calendar/newstead-town-board-meeting-26/
LOCATION:NY
CATEGORIES:Newstead Town Board,Village & Town Meetings
END:VEVENT
BEGIN:VEVENT
DTSTART;TZID=America/New_York:20231120T190000
DTEND;TZID=America/New_York:20231120T210000
DTSTAMP:20260423T151838
CREATED:20231108T213145Z
LAST-MODIFIED:20231108T213303Z
UID:4520-1700506800-1700514000@akronbugle.com
SUMMARY:Newstead Town Board Work Session
DESCRIPTION:Newstead Town Board Work Session – 5 Clarence Center Road\, Akron\, NY Work Session 7:00 p.m.  Monday\, November 20.
URL:https://akronbugle.com/calendar/newstead-town-board-work-session-6/
LOCATION:Newstead Town Hall\, 5 Clarence Center Road\, Akron\, NY\, 14001
CATEGORIES:Newstead Town Board,Village & Town Meetings
END:VEVENT
BEGIN:VEVENT
DTSTART;TZID=America/New_York:20231120T190000
DTEND;TZID=America/New_York:20231120T210000
DTSTAMP:20260423T151838
CREATED:20231108T213001Z
LAST-MODIFIED:20231108T213001Z
UID:4518-1700506800-1700514000@akronbugle.com
SUMMARY:Akron Village Board meeting
DESCRIPTION:Akron Village Board meeting – Monday\, November 20\, regular meeting at 7:00 p.m. Akron Village Hall\, 21 Main St.\, Akron.
URL:https://akronbugle.com/calendar/akron-village-board-meeting-28/
LOCATION:NY
CATEGORIES:Akron Village Board,Village & Town Meetings
END:VEVENT
BEGIN:VEVENT
DTSTART;TZID=America/New_York:20231113T190000
DTEND;TZID=America/New_York:20231113T210000
DTSTAMP:20260423T151838
CREATED:20231108T212654Z
LAST-MODIFIED:20231108T212654Z
UID:4514-1699902000-1699909200@akronbugle.com
SUMMARY:Newstead Town Board meeting
DESCRIPTION:Newstead Town Board Meeting – 5 Clarence Center Road\, Akron\, NY Work Session 6:45 p.m.; regular meeting 7:30 p.m.; Monday\, November 13.
URL:https://akronbugle.com/calendar/newstead-town-board-meeting-25/
LOCATION:Newstead Town Hall\, 5 Clarence Center Road\, Akron\, NY\, 14001
CATEGORIES:Newstead Town Board,Village & Town Meetings
END:VEVENT
BEGIN:VEVENT
DTSTART;TZID=America/New_York:20231106T180000
DTEND;TZID=America/New_York:20231106T203000
DTSTAMP:20260423T151838
CREATED:20231102T022531Z
LAST-MODIFIED:20231102T022531Z
UID:4504-1699293600-1699302600@akronbugle.com
SUMMARY:Akron Village Board
DESCRIPTION:Akron Village Board meeting – Monday\, November 6\, work session 6 p.m.\, regular meeting at 7:00 p.m. Akron Village Hall\, 21 Main St.\, Akron.
URL:https://akronbugle.com/calendar/akron-village-board-2/
LOCATION:Akron Village Hall\, 21 Main St.\, Akron\, NY\, 14001
CATEGORIES:Akron Village Board,Village & Town Meetings
END:VEVENT
BEGIN:VEVENT
DTSTART;TZID=America/New_York:20230814T183000
DTEND;TZID=America/New_York:20230814T203000
DTSTAMP:20260423T151838
CREATED:20230804T150225Z
LAST-MODIFIED:20230804T150225Z
UID:4368-1692037800-1692045000@akronbugle.com
SUMMARY:Newstead Town Board Meeting
DESCRIPTION:Newstead Town Board Meeting – 5 Clarence Center Road\, Akron\, NY Work Session 6:45 p.m.; regular meeting 7:30 p.m. Monday\, August 14.
URL:https://akronbugle.com/calendar/newstead-town-board-meeting-24/
LOCATION:Newstead Town Hall\, 5 Clarence Center Road\, Akron\, NY\, 14001
CATEGORIES:Newstead Town Board,Village & Town Meetings
END:VEVENT
BEGIN:VEVENT
DTSTART;TZID=America/New_York:20230807T190000
DTEND;TZID=America/New_York:20230807T190000
DTSTAMP:20260423T151838
CREATED:20230804T144057Z
LAST-MODIFIED:20230804T144714Z
UID:4358-1691434800-1691434800@akronbugle.com
SUMMARY:Newstead Town Board meeting
DESCRIPTION:Newstead Town Board Meeting – 5 Clarence Center Road\, Akron\, NY Work Session 7:00 p.m. Monday\, August 7.
URL:https://akronbugle.com/calendar/newstead-town-board-meeting-23/
LOCATION:Newstead Town Hall\, 5 Clarence Center Road\, Akron\, NY\, 14001
CATEGORIES:Newstead Town Board,Village & Town Meetings
END:VEVENT
BEGIN:VEVENT
DTSTART;TZID=America/New_York:20230807T180000
DTEND;TZID=America/New_York:20230807T203000
DTSTAMP:20260423T151838
CREATED:20230804T143751Z
LAST-MODIFIED:20230804T143751Z
UID:4354-1691431200-1691440200@akronbugle.com
SUMMARY:Akron Village Board Meeting
DESCRIPTION:Akron Village Board meeting – Monday\, August 7 work session at 6:00 p.m. and regular meeting at 7:00 p.m. meeting. Akron Village Hall\, 21 Main Street.
URL:https://akronbugle.com/calendar/akron-village-board-meeting-27/
LOCATION:Akron Village Hall\, 21 Main St.\, Akron\, NY\, 14001
CATEGORIES:Akron Village Board,Village & Town Meetings
END:VEVENT
BEGIN:VEVENT
DTSTART;TZID=America/New_York:20230717T063000
DTEND;TZID=America/New_York:20230717T210000
DTSTAMP:20260423T151838
CREATED:20230714T212557Z
LAST-MODIFIED:20230714T212557Z
UID:4263-1689575400-1689627600@akronbugle.com
SUMMARY:Newstead Town Board meeting
DESCRIPTION:Newstead Town Board Meeting – 5 Clarence Center Road\, Akron\, NY Work Session 6:45 p.m.; regular meeting 7:30 p.m. Monday\, July 17.
URL:https://akronbugle.com/calendar/newstead-town-board-meeting-22/
LOCATION:Newstead Town Hall\, 5 Clarence Center Road\, Akron\, NY\, 14001
CATEGORIES:Newstead Town Board,Village & Town Meetings
END:VEVENT
BEGIN:VEVENT
DTSTART;TZID=America/New_York:20230612T193000
DTEND;TZID=America/New_York:20230612T210000
DTSTAMP:20260423T151838
CREATED:20230609T155151Z
LAST-MODIFIED:20230609T155151Z
UID:4134-1686598200-1686603600@akronbugle.com
SUMMARY:Newstead Town Board meeting
DESCRIPTION:Newstead Town Board Meeting – 5 Clarence Center Road\, Akron\, NY Work Session 6:45 p.m.; regular meeting 7:30 p.m. Monday\, June 12.
URL:https://akronbugle.com/calendar/newstead-town-board-meeting-21/
LOCATION:Newstead Town Hall\, 5 Clarence Center Road\, Akron\, NY\, 14001
CATEGORIES:Newstead Town Board,Village & Town Meetings
END:VEVENT
BEGIN:VEVENT
DTSTART;TZID=America/New_York:20230515T190000
DTEND;TZID=America/New_York:20230515T210000
DTSTAMP:20260423T151838
CREATED:20230511T142340Z
LAST-MODIFIED:20230511T142340Z
UID:4104-1684177200-1684184400@akronbugle.com
SUMMARY:Akron Village Board meeting
DESCRIPTION:Akron Village Board meeting – Monday\, May 15 at 7:00 p.m. meeting. Akron Village Hall\, 21 Main Street.
URL:https://akronbugle.com/calendar/akron-village-board-meeting-26/
LOCATION:Akron Village Hall\, 21 Main St.\, Akron\, NY\, 14001
CATEGORIES:Akron Village Board,Village & Town Meetings
END:VEVENT
BEGIN:VEVENT
DTSTART;TZID=America/New_York:20230227T183000
DTEND;TZID=America/New_York:20230227T203000
DTSTAMP:20260423T151838
CREATED:20230227T135340Z
LAST-MODIFIED:20230227T135340Z
UID:4043-1677522600-1677529800@akronbugle.com
SUMMARY:Newstead Town Board Meeting
DESCRIPTION:Newstead Town Board Meeting – 5 Clarence Center Road\, Akron\, NY Work Session 6:45 p.m.; regular meeting 7:30 p.m. Monday\, February 27.
URL:https://akronbugle.com/calendar/newstead-town-board-meeting-20/
LOCATION:Newstead Town Hall\, 5 Clarence Center Road\, Akron\, NY\, 14001
CATEGORIES:Newstead Town Board,Village & Town Meetings
END:VEVENT
BEGIN:VEVENT
DTSTART;TZID=America/New_York:20230123T183000
DTEND;TZID=America/New_York:20230123T203000
DTSTAMP:20260423T151838
CREATED:20230105T021950Z
LAST-MODIFIED:20230105T022429Z
UID:3946-1674498600-1674505800@akronbugle.com
SUMMARY:Newstead Town Board Meeting
DESCRIPTION:Newstead Town Board Meeting – 5 Clarence Center Road\, Akron\, NY Work Session 6:45 p.m.; regular meeting 7:30 p.m. Monday\, January 23.
URL:https://akronbugle.com/calendar/newstead-town-board-meeting-18/
LOCATION:Newstead Town Hall\, 5 Clarence Center Road\, Akron\, NY\, 14001
CATEGORIES:Newstead Town Board,Village & Town Meetings
END:VEVENT
BEGIN:VEVENT
DTSTART;TZID=America/New_York:20230123T180000
DTEND;TZID=America/New_York:20230123T200000
DTSTAMP:20260423T151838
CREATED:20230105T022350Z
LAST-MODIFIED:20230105T022502Z
UID:3948-1674496800-1674504000@akronbugle.com
SUMMARY:Akron Village Board meeting
DESCRIPTION:Akron Village Board meeting – Monday\, January 23 at 6:00 p.m. Work Session; 7:00 p.m. meeting. Akron Village Hall\, 21 Main Street.
URL:https://akronbugle.com/calendar/akron-village-board-meeting-25/
LOCATION:Akron Village Hall\, 21 Main St.\, Akron\, NY\, 14001
CATEGORIES:Akron Village Board,Village & Town Meetings
END:VEVENT
BEGIN:VEVENT
DTSTART;TZID=America/New_York:20230109T183000
DTEND;TZID=America/New_York:20230109T203000
DTSTAMP:20260423T151838
CREATED:20230105T021449Z
LAST-MODIFIED:20230105T022659Z
UID:3942-1673289000-1673296200@akronbugle.com
SUMMARY:Newstead Town Board meeting
DESCRIPTION:Newstead Town Board Meeting – 5 Clarence Center Road\, Akron\, NY Work Session 6:45 p.m.; regular meeting 7:30 p.m. Monday\, January 9.
URL:https://akronbugle.com/calendar/newstead-town-board-meeting-17/
LOCATION:Newstead Town Hall\, 5 Clarence Center Road\, Akron\, NY\, 14001
CATEGORIES:Newstead Town Board,Village & Town Meetings
END:VEVENT
BEGIN:VEVENT
DTSTART;TZID=America/New_York:20230109T180000
DTEND;TZID=America/New_York:20230109T200000
DTSTAMP:20260423T151838
CREATED:20230105T021229Z
LAST-MODIFIED:20230105T022742Z
UID:3940-1673287200-1673294400@akronbugle.com
SUMMARY:Akron Village Board meeting
DESCRIPTION:Akron Village Board meeting – Monday\, January 9 at 6:00 p.m. Work Session; 7:00 p.m. meeting. Akron Village Hall\, 21 Main Street.
URL:https://akronbugle.com/calendar/akron-village-board-meeting-24/
LOCATION:Akron Village Hall\, 21 Main St.\, Akron\, NY\, 14001
CATEGORIES:Akron Village Board,Village & Town Meetings
END:VEVENT
BEGIN:VEVENT
DTSTART;TZID=America/New_York:20221121T190000
DTEND;TZID=America/New_York:20221121T203000
DTSTAMP:20260423T151838
CREATED:20221116T224530Z
LAST-MODIFIED:20221116T224530Z
UID:3810-1669057200-1669062600@akronbugle.com
SUMMARY:Akron Village Board Meeting
DESCRIPTION:Regular meeting.
URL:https://akronbugle.com/calendar/akron-village-board-meeting-22/
LOCATION:Akron Village Hall\, 21 Main St.\, Akron\, NY\, 14001
CATEGORIES:Akron Village Board,Village & Town Meetings
END:VEVENT
BEGIN:VEVENT
DTSTART;TZID=America/New_York:20220919T190000
DTEND;TZID=America/New_York:20220919T203000
DTSTAMP:20260423T151838
CREATED:20220825T134649Z
LAST-MODIFIED:20220825T134649Z
UID:3630-1663614000-1663619400@akronbugle.com
SUMMARY:Newstead Town Board Work Session
DESCRIPTION:Newstead Town Board Work Session – 5 Clarence Center Road\, Akron\, NY 7:00 p.m. Monday\, September 19.
URL:https://akronbugle.com/calendar/newstead-town-board-work-session-5/
LOCATION:Newstead Town Hall\, 5 Clarence Center Road\, Akron\, NY\, 14001
CATEGORIES:Newstead Town Board,Village & Town Meetings
END:VEVENT
BEGIN:VEVENT
DTSTART;TZID=America/New_York:20220919T190000
DTEND;TZID=America/New_York:20220919T203000
DTSTAMP:20260423T151838
CREATED:20220825T134405Z
LAST-MODIFIED:20220825T134405Z
UID:3628-1663614000-1663619400@akronbugle.com
SUMMARY:Akron Village Board meeting
DESCRIPTION:Akron Village Board meeting – Monday\, September 19\,  7:00 p.m. regular meeting. Akron Village Hall\, 21 Main Street.
URL:https://akronbugle.com/calendar/akron-village-board-meeting-21/
LOCATION:Akron Village Hall\, 21 Main St.\, Akron\, NY\, 14001
CATEGORIES:Akron Village Board,Village & Town Meetings
END:VEVENT
BEGIN:VEVENT
DTSTART;TZID=America/New_York:20220912T190000
DTEND;TZID=America/New_York:20220912T203000
DTSTAMP:20260423T151838
CREATED:20220825T122817Z
LAST-MODIFIED:20220825T122817Z
UID:3624-1663009200-1663014600@akronbugle.com
SUMMARY:Newstead Town Board Meeting
DESCRIPTION:Newstead Town Board Meeting – 5 Clarence Center Road\, Akron\, NY Work Session 6:45 p.m.\, Regular meeting 7:30 p.m. Monday\, September 12.
URL:https://akronbugle.com/calendar/newstead-town-board-meeting-15/
LOCATION:Newstead Town Hall\, 5 Clarence Center Road\, Akron\, NY\, 14001
CATEGORIES:Newstead Town Board,Village & Town Meetings
END:VEVENT
BEGIN:VEVENT
DTSTART;TZID=America/New_York:20220912T180000
DTEND;TZID=America/New_York:20220912T200000
DTSTAMP:20260423T151838
CREATED:20220825T122611Z
LAST-MODIFIED:20220825T122611Z
UID:3622-1663005600-1663012800@akronbugle.com
SUMMARY:Akron Village Board meeting
DESCRIPTION:Akron Village Board meeting – Monday\, September 12\, 6 p.m. Work Session\, 7:00 p.m. regular meeting.
URL:https://akronbugle.com/calendar/akron-village-board-meeting-20/
LOCATION:Akron Village Hall\, 21 Main St.\, Akron\, NY\, 14001
CATEGORIES:Akron Village Board,Village & Town Meetings
END:VEVENT
BEGIN:VEVENT
DTSTART;TZID=America/New_York:20220801T180000
DTEND;TZID=America/New_York:20220801T200000
DTSTAMP:20260423T151838
CREATED:20220728T214246Z
LAST-MODIFIED:20220729T214427Z
UID:3543-1659376800-1659384000@akronbugle.com
SUMMARY:Akron Village Board meeting
DESCRIPTION:Akron Village Board meeting – Monday\, August 1\, 6 p.m. Work Session\, 7:00 p.m. regular meeting.
URL:https://akronbugle.com/calendar/akron-village-board-meeting-19/
LOCATION:Akron Village Hall\, 21 Main St.\, Akron\, NY\, 14001
CATEGORIES:Akron Village Board,Village & Town Meetings
END:VEVENT
BEGIN:VEVENT
DTSTART;TZID=America/New_York:20220711T183000
DTEND;TZID=America/New_York:20220711T203000
DTSTAMP:20260423T151838
CREATED:20220708T221751Z
LAST-MODIFIED:20220708T221751Z
UID:3500-1657564200-1657571400@akronbugle.com
SUMMARY:Newstead Town Board meeting
DESCRIPTION:Newstead Town Board – Work Session 6:45 p.m. Regular Meeting 7:30 p.m.\, Monday\, July 11\, 2022\, 5 Clarence Center Rd.\, Akron\, NY.
URL:https://akronbugle.com/calendar/newstead-town-board-meeting-14/
LOCATION:Newstead Town Hall\, 5 Clarence Center Road\, Akron\, NY\, 14001
CATEGORIES:Newstead Town Board,Village & Town Meetings
END:VEVENT
BEGIN:VEVENT
DTSTART;TZID=America/New_York:20220711T180000
DTEND;TZID=America/New_York:20220711T203000
DTSTAMP:20260423T151838
CREATED:20220708T221538Z
LAST-MODIFIED:20220708T221538Z
UID:3498-1657562400-1657571400@akronbugle.com
SUMMARY:Akron Village Board meeting
DESCRIPTION:Akron Village Board – Work Session\, 6 p.m.\, Meeting 7 p.m.\, Monday\, July 11\, at 21 Main Street\, Akron\, NY.
URL:https://akronbugle.com/calendar/akron-village-board-meeting-18/
LOCATION:Akron Village Hall\, 21 Main St.\, Akron\, NY\, 14001
CATEGORIES:Akron Village Board,Village & Town Meetings
END:VEVENT
BEGIN:VEVENT
DTSTART;TZID=America/New_York:20220613T190000
DTEND;TZID=America/New_York:20220613T203000
DTSTAMP:20260423T151838
CREATED:20220610T131110Z
LAST-MODIFIED:20220610T131110Z
UID:3377-1655146800-1655152200@akronbugle.com
SUMMARY:Newstead Town Board
DESCRIPTION:Newstead Town Board – Work Session 6:45 p.m.\, Regular meeting 7:30 p.m.\, Monday\, June 13\, 2022\, 5 Clarence Center Rd.\, Akron\, NY.
URL:https://akronbugle.com/calendar/newstead-town-board-5/
LOCATION:Newstead Town Hall\, 5 Clarence Center Road\, Akron\, NY\, 14001
CATEGORIES:Newstead Town Board
END:VEVENT
BEGIN:VEVENT
DTSTART;TZID=America/New_York:20220516T190000
DTEND;TZID=America/New_York:20220516T203000
DTSTAMP:20260423T151838
CREATED:20220429T195831Z
LAST-MODIFIED:20220429T195831Z
UID:3289-1652727600-1652733000@akronbugle.com
SUMMARY:Akron Village Board meeting
DESCRIPTION:Akron Village Board –Meeting 7 p.m.\, Monday\, May 16\, at 21 Main Street\, Akron\, NY.
URL:https://akronbugle.com/calendar/akron-village-board-meeting-17/
LOCATION:Akron Village Hall\, 21 Main St.\, Akron\, NY\, 14001
CATEGORIES:Akron Village Board,Village & Town Meetings
END:VEVENT
BEGIN:VEVENT
DTSTART;TZID=America/New_York:20220509T183000
DTEND;TZID=America/New_York:20220609T200000
DTSTAMP:20260423T151838
CREATED:20220429T195328Z
LAST-MODIFIED:20220429T195328Z
UID:3285-1652121000-1654804800@akronbugle.com
SUMMARY:Newstead Town Board meeting
DESCRIPTION:Work Session 6:45 p.m.\, Regular meeting 7:30 p.m.\, Monday\, May 9\, 2022\, 5 Clarence Center Rd.\, Akron\, NY. \n 
URL:https://akronbugle.com/calendar/newstead-town-board-meeting-13/
LOCATION:Newstead Town Hall\, 5 Clarence Center Road\, Akron\, NY\, 14001
CATEGORIES:Newstead Town Board,Village & Town Meetings
END:VEVENT
BEGIN:VEVENT
DTSTART;TZID=America/New_York:20220404T190000
DTEND;TZID=America/New_York:20220404T210000
DTSTAMP:20260423T151838
CREATED:20220330T211532Z
LAST-MODIFIED:20220330T211532Z
UID:3190-1649098800-1649106000@akronbugle.com
SUMMARY:Newstead Town Board work session
DESCRIPTION:Newstead Town Board – Work Session 7:00 p.m.\, Monday\, April 4\, 2022\, 5 Clarence Center Rd.\, Akron\, NY.
URL:https://akronbugle.com/calendar/newstead-town-board-work-session-2/
LOCATION:Newstead Town Hall\, 5 Clarence Center Road\, Akron\, NY\, 14001
CATEGORIES:Newstead Town Board,Village & Town Meetings
END:VEVENT
END:VCALENDAR