BEGIN:VCALENDAR
VERSION:2.0
PRODID:-//Akron Bugle - ECPv6.15.20//NONSGML v1.0//EN
CALSCALE:GREGORIAN
METHOD:PUBLISH
X-WR-CALNAME:Akron Bugle
X-ORIGINAL-URL:https://akronbugle.com
X-WR-CALDESC:Events for Akron Bugle
REFRESH-INTERVAL;VALUE=DURATION:PT1H
X-Robots-Tag:noindex
X-PUBLISHED-TTL:PT1H
BEGIN:VTIMEZONE
TZID:America/New_York
BEGIN:DAYLIGHT
TZOFFSETFROM:-0500
TZOFFSETTO:-0400
TZNAME:EDT
DTSTART:20230312T070000
END:DAYLIGHT
BEGIN:STANDARD
TZOFFSETFROM:-0400
TZOFFSETTO:-0500
TZNAME:EST
DTSTART:20231105T060000
END:STANDARD
BEGIN:DAYLIGHT
TZOFFSETFROM:-0500
TZOFFSETTO:-0400
TZNAME:EDT
DTSTART:20240310T070000
END:DAYLIGHT
BEGIN:STANDARD
TZOFFSETFROM:-0400
TZOFFSETTO:-0500
TZNAME:EST
DTSTART:20241103T060000
END:STANDARD
BEGIN:DAYLIGHT
TZOFFSETFROM:-0500
TZOFFSETTO:-0400
TZNAME:EDT
DTSTART:20250309T070000
END:DAYLIGHT
BEGIN:STANDARD
TZOFFSETFROM:-0400
TZOFFSETTO:-0500
TZNAME:EST
DTSTART:20251102T060000
END:STANDARD
END:VTIMEZONE
BEGIN:VEVENT
DTSTART;TZID=America/New_York:20241107T073000
DTEND;TZID=America/New_York:20241107T083000
DTSTAMP:20260424T135647
CREATED:20240823T130636Z
LAST-MODIFIED:20240823T130636Z
UID:5117-1730964600-1730968200@akronbugle.com
SUMMARY:Rotary Club of Akron-Newstead meeting
DESCRIPTION:Club Assembly Meeting
URL:https://akronbugle.com/calendar/rotary-club-of-akron-newstead-meeting-9/
LOCATION:American Legion LL Tillman Post 900\, 9 Eckerson Ave. Akron.\, 9 Eckerson Ave.\, Akron\, New York\, 14001
CATEGORIES:Organizations
END:VEVENT
BEGIN:VEVENT
DTSTART;TZID=America/New_York:20241114T073000
DTEND;TZID=America/New_York:20241114T083000
DTSTAMP:20260424T135647
CREATED:20240823T130743Z
LAST-MODIFIED:20240823T130743Z
UID:5119-1731569400-1731573000@akronbugle.com
SUMMARY:Rotary Club of Akron-Newstead meeting
DESCRIPTION:Weekly Meeting
URL:https://akronbugle.com/calendar/rotary-club-of-akron-newstead-meeting-10/
LOCATION:American Legion LL Tillman Post 900\, 9 Eckerson Ave. Akron.\, 9 Eckerson Ave.\, Akron\, New York\, 14001
CATEGORIES:Organizations
END:VEVENT
BEGIN:VEVENT
DTSTART;TZID=America/New_York:20241121T073000
DTEND;TZID=America/New_York:20241121T083000
DTSTAMP:20260424T135647
CREATED:20240823T130844Z
LAST-MODIFIED:20240823T130844Z
UID:5121-1732174200-1732177800@akronbugle.com
SUMMARY:Rotary Club of Akron-Newstead meeting
DESCRIPTION:Weekly Meeting
URL:https://akronbugle.com/calendar/rotary-club-of-akron-newstead-meeting-11/
LOCATION:American Legion LL Tillman Post 900\, 9 Eckerson Ave. Akron.\, 9 Eckerson Ave.\, Akron\, New York\, 14001
CATEGORIES:Organizations
END:VEVENT
END:VCALENDAR