BEGIN:VCALENDAR
VERSION:2.0
PRODID:-//Akron Bugle - ECPv6.15.20//NONSGML v1.0//EN
CALSCALE:GREGORIAN
METHOD:PUBLISH
X-ORIGINAL-URL:https://akronbugle.com
X-WR-CALDESC:Events for Akron Bugle
REFRESH-INTERVAL;VALUE=DURATION:PT1H
X-Robots-Tag:noindex
X-PUBLISHED-TTL:PT1H
BEGIN:VTIMEZONE
TZID:America/New_York
BEGIN:DAYLIGHT
TZOFFSETFROM:-0500
TZOFFSETTO:-0400
TZNAME:EDT
DTSTART:20250309T070000
END:DAYLIGHT
BEGIN:STANDARD
TZOFFSETFROM:-0400
TZOFFSETTO:-0500
TZNAME:EST
DTSTART:20251102T060000
END:STANDARD
BEGIN:DAYLIGHT
TZOFFSETFROM:-0500
TZOFFSETTO:-0400
TZNAME:EDT
DTSTART:20260308T070000
END:DAYLIGHT
BEGIN:STANDARD
TZOFFSETFROM:-0400
TZOFFSETTO:-0500
TZNAME:EST
DTSTART:20261101T060000
END:STANDARD
BEGIN:DAYLIGHT
TZOFFSETFROM:-0500
TZOFFSETTO:-0400
TZNAME:EDT
DTSTART:20270314T070000
END:DAYLIGHT
BEGIN:STANDARD
TZOFFSETFROM:-0400
TZOFFSETTO:-0500
TZNAME:EST
DTSTART:20271107T060000
END:STANDARD
END:VTIMEZONE
BEGIN:VEVENT
DTSTART;TZID=America/New_York:20260502T170000
DTEND;TZID=America/New_York:20260502T213000
DTSTAMP:20260423T124251
CREATED:20260320T195157Z
LAST-MODIFIED:20260320T195157Z
UID:6488-1777741200-1777757400@akronbugle.com
SUMMARY:Kentucky Derby Dash
DESCRIPTION:
URL:https://akronbugle.com/calendar/kentucky-derby-dash/
LOCATION:Akron Acres\, 12607 Stage Rd.\, Akron\, NY\, 14001\, United States
CATEGORIES:Organizations,Things to Do
END:VEVENT
BEGIN:VEVENT
DTSTART;TZID=America/New_York:20260503T130000
DTEND;TZID=America/New_York:20260503T150000
DTSTAMP:20260423T124251
CREATED:20260419T170404Z
LAST-MODIFIED:20260419T170404Z
UID:6550-1777813200-1777820400@akronbugle.com
SUMMARY:Local Revolutionary War veteran exhibit
DESCRIPTION:“Local Revolutionary War veterans”- mini exhibit\, and  “Landmarks and Legacies”. “Moments in Time” exhibits\, Sunday\, May 3\, 1-3 and Wednesday May 6 from 10-1 p.m.  Knight Sutton Museum and Research Center 123 Main Street\, Akron\, N.Y.
URL:https://akronbugle.com/calendar/local-revolutionary-war-veteran-exhibit/
LOCATION:Knight-Sutton Museum\, Main Street\, Akron\, NY\, 14001\, United States
CATEGORIES:Things to Do
END:VEVENT
BEGIN:VEVENT
DTSTART;TZID=America/New_York:20260503T130000
DTEND;TZID=America/New_York:20260503T150000
DTSTAMP:20260423T124251
CREATED:20260419T172138Z
LAST-MODIFIED:20260419T172138Z
UID:6554-1777813200-1777820400@akronbugle.com
SUMMARY:Highlights of the Octagon tours
DESCRIPTION:“Highlights of the Octagon” Tours – Sunday May 3\, 1 -3 p.m.  Semi-guided.  No reservations needed. 145 Main St. Akron N.Y.
URL:https://akronbugle.com/calendar/highlights-of-the-octagon-tours/
LOCATION:Rich-Twin Octagon House\, 145 Main Street\, Akron\, NY\, 14001\, United States
CATEGORIES:Things to Do
END:VEVENT
BEGIN:VEVENT
DTSTART;TZID=America/New_York:20260503T140000
DTEND;TZID=America/New_York:20260503T150000
DTSTAMP:20260423T124251
CREATED:20260419T172429Z
LAST-MODIFIED:20260419T172429Z
UID:6556-1777816800-1777820400@akronbugle.com
SUMMARY:Ecumenical Choir Concert
DESCRIPTION:Ecumenical Choir Concert – Alden Area Ecumenical Choir will present “What a Wondrous Love” on Sunday\, May 3\, 2026 at 2 p.m.\, Akron First UMC\, 7 Church Street\, Akron.  Admission free (donations or new twin bedding kindly accepted to benefit Sleep in Heavenly Peace).
URL:https://akronbugle.com/calendar/ecumenical-choir-concert/
LOCATION:Akron First United Methodist Church\, 7 Church Street\, Akron\, NY\, 14001\, United States
CATEGORIES:Things to Do
END:VEVENT
BEGIN:VEVENT
DTSTART;TZID=America/New_York:20260506T100000
DTEND;TZID=America/New_York:20260506T130000
DTSTAMP:20260423T124251
CREATED:20260419T170520Z
LAST-MODIFIED:20260419T170520Z
UID:6552-1778061600-1778072400@akronbugle.com
SUMMARY:Local Revolutionary War veteran exhibit
DESCRIPTION:“Local Revolutionary War veterans”- mini exhibit\, and  “Landmarks and Legacies”. “Moments in Time” exhibits\, Sunday\, May 3\, 1-3 and Wednesday May 6 from 10-1 p.m.  Knight Sutton Museum and Research Center 123 Main Street\, Akron\, N.Y.
URL:https://akronbugle.com/calendar/local-revolutionary-war-veteran-exhibit-2/
LOCATION:Knight-Sutton Museum\, Main Street\, Akron\, NY\, 14001\, United States
CATEGORIES:Things to Do
END:VEVENT
BEGIN:VEVENT
DTSTART;TZID=America/New_York:20260514T190000
DTEND;TZID=America/New_York:20260514T203000
DTSTAMP:20260423T124251
CREATED:20260320T172425Z
LAST-MODIFIED:20260320T172425Z
UID:6467-1778785200-1778790600@akronbugle.com
SUMMARY:Pioneer Patriots
DESCRIPTION:Newstead Historical Society presents a program on the men who fought in the war for Independence and then settled in and around the Town of Newstead.
URL:https://akronbugle.com/calendar/pioneer-patriots/
LOCATION:Newstead Town Hall\, 5 Clarence Center Road\, Akron\, NY\, 14001
CATEGORIES:Organizations,Things to Do
END:VEVENT
BEGIN:VEVENT
DTSTART;TZID=America/New_York:20260514T190000
DTEND;TZID=America/New_York:20260514T203000
DTSTAMP:20260423T124251
CREATED:20260411T192207Z
LAST-MODIFIED:20260411T192207Z
UID:6515-1778785200-1778790600@akronbugle.com
SUMMARY:'Pioneer Patriots'
DESCRIPTION:Newstead Historical Society program presented by Clarence Town Historian Joseph McGreevy\, Thursday\, May 14\, 7:00 p.m.\, Newstead Town Hall\, 5 Clarence Center Road\, Akron\, NY.
URL:https://akronbugle.com/calendar/pioneer-patriots-2/
LOCATION:Newstead Town Hall\, 5 Clarence Center Road\, Akron\, NY\, 14001
CATEGORIES:Organizations,Things to Do
END:VEVENT
BEGIN:VEVENT
DTSTART;TZID=America/New_York:20260516T090000
DTEND;TZID=America/New_York:20260516T120000
DTSTAMP:20260423T124251
CREATED:20260411T192739Z
LAST-MODIFIED:20260411T192739Z
UID:6521-1778922000-1778932800@akronbugle.com
SUMMARY:Household Hazardous Waste/Electronic Recycling/Shredding Event
DESCRIPTION:May 16 from 9:00 am. to 12:00 noon at the Joint Facility\, 12707 Clarence Center Rd.\, Akron
URL:https://akronbugle.com/calendar/household-hazardous-waste-electronic-recycling-shredding-event/
LOCATION:NY
CATEGORIES:Things to Do
END:VEVENT
END:VCALENDAR