BEGIN:VCALENDAR
VERSION:2.0
PRODID:-//Akron Bugle - ECPv6.15.20//NONSGML v1.0//EN
CALSCALE:GREGORIAN
METHOD:PUBLISH
X-ORIGINAL-URL:https://akronbugle.com
X-WR-CALDESC:Events for Akron Bugle
REFRESH-INTERVAL;VALUE=DURATION:PT1H
X-Robots-Tag:noindex
X-PUBLISHED-TTL:PT1H
BEGIN:VTIMEZONE
TZID:America/New_York
BEGIN:DAYLIGHT
TZOFFSETFROM:-0500
TZOFFSETTO:-0400
TZNAME:EDT
DTSTART:20250309T070000
END:DAYLIGHT
BEGIN:STANDARD
TZOFFSETFROM:-0400
TZOFFSETTO:-0500
TZNAME:EST
DTSTART:20251102T060000
END:STANDARD
BEGIN:DAYLIGHT
TZOFFSETFROM:-0500
TZOFFSETTO:-0400
TZNAME:EDT
DTSTART:20260308T070000
END:DAYLIGHT
BEGIN:STANDARD
TZOFFSETFROM:-0400
TZOFFSETTO:-0500
TZNAME:EST
DTSTART:20261101T060000
END:STANDARD
BEGIN:DAYLIGHT
TZOFFSETFROM:-0500
TZOFFSETTO:-0400
TZNAME:EDT
DTSTART:20270314T070000
END:DAYLIGHT
BEGIN:STANDARD
TZOFFSETFROM:-0400
TZOFFSETTO:-0500
TZNAME:EST
DTSTART:20271107T060000
END:STANDARD
END:VTIMEZONE
BEGIN:VEVENT
DTSTART;TZID=America/New_York:20260604T170000
DTEND;TZID=America/New_York:20260604T203000
DTSTAMP:20260423T140824
CREATED:20260414T153302Z
LAST-MODIFIED:20260414T153314Z
UID:6534-1780592400-1780605000@akronbugle.com
SUMMARY:Akron-Newstead Chamber of Commerce Thursday Cruise Night
DESCRIPTION:Street\, Strip\, Gasser
URL:https://akronbugle.com/calendar/akron-chamber-of-commerce-thursday-cruise-night/
LOCATION:Downtown Akron\, Akron\, NY\, 14001
CATEGORIES:Things to Do
END:VEVENT
BEGIN:VEVENT
DTSTART;TZID=America/New_York:20260604T170000
DTEND;TZID=America/New_York:20260604T203000
DTSTAMP:20260423T140824
CREATED:20260414T153628Z
LAST-MODIFIED:20260414T153628Z
UID:6537-1780592400-1780605000@akronbugle.com
SUMMARY:Farmers Market
DESCRIPTION:Local produce\, products\, and vendors
URL:https://akronbugle.com/calendar/farmers-market/
LOCATION:Russell Park\, Main Street\, Akron\, NY\, 14001\, United States
CATEGORIES:Things to Do
END:VEVENT
BEGIN:VEVENT
DTSTART;TZID=America/New_York:20260611T190000
DTEND;TZID=America/New_York:20260611T203000
DTSTAMP:20260423T140824
CREATED:20260320T172813Z
LAST-MODIFIED:20260320T173750Z
UID:6470-1781204400-1781209800@akronbugle.com
SUMMARY:History of the White House
DESCRIPTION:Newstead Historical Society presents a program about the history and roles of the White House.
URL:https://akronbugle.com/calendar/history-of-the-white-house/
LOCATION:Newstead Town Hall\, 5 Clarence Center Road\, Akron\, NY\, 14001
CATEGORIES:Organizations,Things to Do
END:VEVENT
BEGIN:VEVENT
DTSTART;TZID=America/New_York:20260613T090000
DTEND;TZID=America/New_York:20260613T150000
DTSTAMP:20260423T140824
CREATED:20260414T153951Z
LAST-MODIFIED:20260414T153951Z
UID:6540-1781341200-1781362800@akronbugle.com
SUMMARY:Akron-Newstead Chamber of Commerce Sidewalk Sale
DESCRIPTION:Local businesses and restaurants\, variety of vendors with crafts and other products.
URL:https://akronbugle.com/calendar/akron-newstead-chamber-of-commerce-sidewalk-sale/
LOCATION:Downtown Akron\, Akron\, NY\, 14001
CATEGORIES:Things to Do
END:VEVENT
BEGIN:VEVENT
DTSTART;TZID=America/New_York:20260619T193000
DTEND;TZID=America/New_York:20260619T210000
DTSTAMP:20260423T140824
CREATED:20260419T180127Z
LAST-MODIFIED:20260419T180127Z
UID:6576-1781897400-1781902800@akronbugle.com
SUMMARY:Akron Community Band concert
DESCRIPTION:Akron Community Band concert in Russell Park.  Variety of music genres.  New Time.
URL:https://akronbugle.com/calendar/akron-community-band-concert-25/
LOCATION:Russell Park\, Main Street\, Akron\, NY\, 14001\, United States
CATEGORIES:Things to Do
END:VEVENT
END:VCALENDAR