BEGIN:VCALENDAR
VERSION:2.0
PRODID:-//Akron Bugle - ECPv6.15.20//NONSGML v1.0//EN
CALSCALE:GREGORIAN
METHOD:PUBLISH
X-WR-CALNAME:Akron Bugle
X-ORIGINAL-URL:https://akronbugle.com
X-WR-CALDESC:Events for Akron Bugle
REFRESH-INTERVAL;VALUE=DURATION:PT1H
X-Robots-Tag:noindex
X-PUBLISHED-TTL:PT1H
BEGIN:VTIMEZONE
TZID:America/New_York
BEGIN:DAYLIGHT
TZOFFSETFROM:-0500
TZOFFSETTO:-0400
TZNAME:EDT
DTSTART:20250309T070000
END:DAYLIGHT
BEGIN:STANDARD
TZOFFSETFROM:-0400
TZOFFSETTO:-0500
TZNAME:EST
DTSTART:20251102T060000
END:STANDARD
BEGIN:DAYLIGHT
TZOFFSETFROM:-0500
TZOFFSETTO:-0400
TZNAME:EDT
DTSTART:20260308T070000
END:DAYLIGHT
BEGIN:STANDARD
TZOFFSETFROM:-0400
TZOFFSETTO:-0500
TZNAME:EST
DTSTART:20261101T060000
END:STANDARD
BEGIN:DAYLIGHT
TZOFFSETFROM:-0500
TZOFFSETTO:-0400
TZNAME:EDT
DTSTART:20270314T070000
END:DAYLIGHT
BEGIN:STANDARD
TZOFFSETFROM:-0400
TZOFFSETTO:-0500
TZNAME:EST
DTSTART:20271107T060000
END:STANDARD
END:VTIMEZONE
BEGIN:VEVENT
DTSTART;TZID=America/New_York:20260703T190000
DTEND;TZID=America/New_York:20260703T203000
DTSTAMP:20260423T153350
CREATED:20260419T180358Z
LAST-MODIFIED:20260419T180358Z
UID:6578-1783105200-1783110600@akronbugle.com
SUMMARY:Akron Community Band concert
DESCRIPTION:Akron Community Band concert in Veterans Park.  Variety of music genres.  New Time.
URL:https://akronbugle.com/calendar/akron-community-band-concert-26/
LOCATION:Veterans Park\, Buell St.\, Akron\, NY\, 14001
CATEGORIES:Things to Do
END:VEVENT
BEGIN:VEVENT
DTSTART;TZID=America/New_York:20260703T190000
DTEND;TZID=America/New_York:20260703T230000
DTSTAMP:20260423T153350
CREATED:20260419T175054Z
LAST-MODIFIED:20260419T175054Z
UID:6571-1783105200-1783119600@akronbugle.com
SUMMARY:Fourth of July Celebration Concert/Fireworks
DESCRIPTION:The Akron Celebration Committee will sponsor Fireworks in Veterans Park on Friday\, July 3.  The Akron Community Band will present a concert beginning at 7 p.m.  The Newstead Exempt Club will have refreshments for sale as will some food trucks.  Fireworks at dusk.
URL:https://akronbugle.com/calendar/fourth-of-july-celebration-concert-fireworks/
LOCATION:Veterans Park\, Buell St.\, Akron\, NY\, 14001
CATEGORIES:Things to Do
ATTACH;FMTTYPE=image/webp:https://akronbugle.com/wp-content/uploads/2026/04/rsw_400cg_truem.webp
END:VEVENT
BEGIN:VEVENT
DTSTART;TZID=America/New_York:20260704T100000
DTEND;TZID=America/New_York:20260704T150000
DTSTAMP:20260423T153350
CREATED:20260320T174126Z
LAST-MODIFIED:20260320T174126Z
UID:6475-1783159200-1783177200@akronbugle.com
SUMMARY:Independence Day Festivities
DESCRIPTION:Newstead Historical Society celebrates the nation’s 250th anniversary with their popular annual fundraisers – the Amish quilt raffle and baked pies sale at the Knight-Sutton Museum.  Both the Museum and Rich-Twinn Octagon House will be open to visitors.
URL:https://akronbugle.com/calendar/independence-day-festivities/
LOCATION:Knight-Sutton Museum\, Main Street\, Akron\, NY\, 14001\, United States
CATEGORIES:Organizations,Things to Do
END:VEVENT
BEGIN:VEVENT
DTSTART;TZID=America/New_York:20260704T100000
DTEND;TZID=America/New_York:20260704T210000
DTSTAMP:20260423T153350
CREATED:20260419T175843Z
LAST-MODIFIED:20260419T175843Z
UID:6574-1783159200-1783198800@akronbugle.com
SUMMARY:Akron Fourth of July Celebration
DESCRIPTION:Soapbox derby\, activities for children\, food stands and trucks\, gala parade\, concerts are all part of developing Fourth of July Celebration in Russell Park.  Watch for details.
URL:https://akronbugle.com/calendar/akron-fourth-of-july-celebration-2/
LOCATION:Russell Park\, Main Street\, Akron\, NY\, 14001\, United States
CATEGORIES:Things to Do
ATTACH;FMTTYPE=image/webp:https://akronbugle.com/wp-content/uploads/2026/04/rsw_400cg_truem.webp
END:VEVENT
BEGIN:VEVENT
DTSTART;TZID=America/New_York:20260710T193000
DTEND;TZID=America/New_York:20260710T210000
DTSTAMP:20260423T153350
CREATED:20260419T180508Z
LAST-MODIFIED:20260419T180508Z
UID:6580-1783711800-1783717200@akronbugle.com
SUMMARY:Akron Community Band Concert
DESCRIPTION:Akron Community Band concert in Russell Park.  Variety of music genres.  New Time.
URL:https://akronbugle.com/calendar/akron-community-band-concert-27/
LOCATION:Russell Park\, Main Street\, Akron\, NY\, 14001\, United States
CATEGORIES:Things to Do
END:VEVENT
BEGIN:VEVENT
DTSTART;TZID=America/New_York:20260717T193000
DTEND;TZID=America/New_York:20260717T210000
DTSTAMP:20260423T153350
CREATED:20260419T180606Z
LAST-MODIFIED:20260419T180606Z
UID:6582-1784316600-1784322000@akronbugle.com
SUMMARY:Akron Community Band concert in Russell Park
DESCRIPTION:Akron Community Band concert in Russell Park.  Variety of music genres.  New Time.
URL:https://akronbugle.com/calendar/akron-community-band-concert-in-russell-park/
LOCATION:Russell Park\, Main Street\, Akron\, NY\, 14001\, United States
CATEGORIES:Things to Do
END:VEVENT
BEGIN:VEVENT
DTSTART;TZID=America/New_York:20260724T193000
DTEND;TZID=America/New_York:20260724T210000
DTSTAMP:20260423T153350
CREATED:20260419T180712Z
LAST-MODIFIED:20260419T180712Z
UID:6584-1784921400-1784926800@akronbugle.com
SUMMARY:Akron Community Band concert
DESCRIPTION:Akron Community Band concert in Russell Park.  Christmas in July.
URL:https://akronbugle.com/calendar/akron-community-band-concert-28/
LOCATION:NY
CATEGORIES:Things to Do
END:VEVENT
BEGIN:VEVENT
DTSTART;TZID=America/New_York:20260731T193000
DTEND;TZID=America/New_York:20260731T210000
DTSTAMP:20260423T153350
CREATED:20260419T180828Z
LAST-MODIFIED:20260419T180828Z
UID:6586-1785526200-1785531600@akronbugle.com
SUMMARY:Akron Community Band concert
DESCRIPTION:Akron Community Band concert in Russell Park.  Variety of musical selections.
URL:https://akronbugle.com/calendar/akron-community-band-concert-29/
LOCATION:Russell Park\, Main Street\, Akron\, NY\, 14001\, United States
CATEGORIES:Things to Do
END:VEVENT
END:VCALENDAR