BEGIN:VCALENDAR
VERSION:2.0
PRODID:-//Akron Bugle - ECPv6.15.20//NONSGML v1.0//EN
CALSCALE:GREGORIAN
METHOD:PUBLISH
X-ORIGINAL-URL:https://akronbugle.com
X-WR-CALDESC:Events for Akron Bugle
REFRESH-INTERVAL;VALUE=DURATION:PT1H
X-Robots-Tag:noindex
X-PUBLISHED-TTL:PT1H
BEGIN:VTIMEZONE
TZID:America/New_York
BEGIN:DAYLIGHT
TZOFFSETFROM:-0500
TZOFFSETTO:-0400
TZNAME:EDT
DTSTART:20250309T070000
END:DAYLIGHT
BEGIN:STANDARD
TZOFFSETFROM:-0400
TZOFFSETTO:-0500
TZNAME:EST
DTSTART:20251102T060000
END:STANDARD
BEGIN:DAYLIGHT
TZOFFSETFROM:-0500
TZOFFSETTO:-0400
TZNAME:EDT
DTSTART:20260308T070000
END:DAYLIGHT
BEGIN:STANDARD
TZOFFSETFROM:-0400
TZOFFSETTO:-0500
TZNAME:EST
DTSTART:20261101T060000
END:STANDARD
BEGIN:DAYLIGHT
TZOFFSETFROM:-0500
TZOFFSETTO:-0400
TZNAME:EDT
DTSTART:20270314T070000
END:DAYLIGHT
BEGIN:STANDARD
TZOFFSETFROM:-0400
TZOFFSETTO:-0500
TZNAME:EST
DTSTART:20271107T060000
END:STANDARD
END:VTIMEZONE
BEGIN:VEVENT
DTSTART;TZID=America/New_York:20260506T100000
DTEND;TZID=America/New_York:20260506T130000
DTSTAMP:20260423T141117
CREATED:20260419T170520Z
LAST-MODIFIED:20260419T170520Z
UID:6552-1778061600-1778072400@akronbugle.com
SUMMARY:Local Revolutionary War veteran exhibit
DESCRIPTION:“Local Revolutionary War veterans”- mini exhibit\, and  “Landmarks and Legacies”. “Moments in Time” exhibits\, Sunday\, May 3\, 1-3 and Wednesday May 6 from 10-1 p.m.  Knight Sutton Museum and Research Center 123 Main Street\, Akron\, N.Y.
URL:https://akronbugle.com/calendar/local-revolutionary-war-veteran-exhibit-2/
LOCATION:Knight-Sutton Museum\, Main Street\, Akron\, NY\, 14001\, United States
CATEGORIES:Things to Do
END:VEVENT
END:VCALENDAR