BEGIN:VCALENDAR
VERSION:2.0
PRODID:-//Akron Bugle - ECPv6.15.20//NONSGML v1.0//EN
CALSCALE:GREGORIAN
METHOD:PUBLISH
X-WR-CALNAME:Akron Bugle
X-ORIGINAL-URL:https://akronbugle.com
X-WR-CALDESC:Events for Akron Bugle
REFRESH-INTERVAL;VALUE=DURATION:PT1H
X-Robots-Tag:noindex
X-PUBLISHED-TTL:PT1H
BEGIN:VTIMEZONE
TZID:America/New_York
BEGIN:DAYLIGHT
TZOFFSETFROM:-0500
TZOFFSETTO:-0400
TZNAME:EDT
DTSTART:20230312T070000
END:DAYLIGHT
BEGIN:STANDARD
TZOFFSETFROM:-0400
TZOFFSETTO:-0500
TZNAME:EST
DTSTART:20231105T060000
END:STANDARD
BEGIN:DAYLIGHT
TZOFFSETFROM:-0500
TZOFFSETTO:-0400
TZNAME:EDT
DTSTART:20240310T070000
END:DAYLIGHT
BEGIN:STANDARD
TZOFFSETFROM:-0400
TZOFFSETTO:-0500
TZNAME:EST
DTSTART:20241103T060000
END:STANDARD
BEGIN:DAYLIGHT
TZOFFSETFROM:-0500
TZOFFSETTO:-0400
TZNAME:EDT
DTSTART:20250309T070000
END:DAYLIGHT
BEGIN:STANDARD
TZOFFSETFROM:-0400
TZOFFSETTO:-0500
TZNAME:EST
DTSTART:20251102T060000
END:STANDARD
BEGIN:DAYLIGHT
TZOFFSETFROM:-0500
TZOFFSETTO:-0400
TZNAME:EDT
DTSTART:20260308T070000
END:DAYLIGHT
BEGIN:STANDARD
TZOFFSETFROM:-0400
TZOFFSETTO:-0500
TZNAME:EST
DTSTART:20261101T060000
END:STANDARD
BEGIN:DAYLIGHT
TZOFFSETFROM:-0500
TZOFFSETTO:-0400
TZNAME:EDT
DTSTART:20270314T070000
END:DAYLIGHT
BEGIN:STANDARD
TZOFFSETFROM:-0400
TZOFFSETTO:-0500
TZNAME:EST
DTSTART:20271107T060000
END:STANDARD
END:VTIMEZONE
BEGIN:VEVENT
DTSTART;TZID=America/New_York:20260415T163000
DTEND;TZID=America/New_York:20260415T190000
DTSTAMP:20260423T141332
CREATED:20260413T144905Z
LAST-MODIFIED:20260413T144905Z
UID:6528-1776270600-1776279600@akronbugle.com
SUMMARY:Spaghetti Dinner
DESCRIPTION:Boy Scout Troop #559 Semi-Annual Spaghetti Dinner\, Wednesday\, April 15\, 2026 4:30 to 7:00 p.m.  First United Methodist Church\, 7 Church Street\, Akron.  Drive Thru Only.  Enter drive-thru lane from Main Street and exit onto John St.  Dinner includes: spaghetti\, homemade sauce\, salad/dressing\, bread and butter and a dessert.  Presale: $12; At the Door $13.  See a Scout for Pre-Sale Info or call: 716-531-2299
URL:https://akronbugle.com/calendar/spaghetti-dinner/
LOCATION:Akron First United Methodist Church\, 7 Church Street\, Akron\, NY\, 14001\, United States
CATEGORIES:Things to Do
END:VEVENT
BEGIN:VEVENT
DTSTART;TZID=America/New_York:20260411T100000
DTEND;TZID=America/New_York:20260411T160000
DTSTAMP:20260423T141332
CREATED:20260410T171406Z
LAST-MODIFIED:20260410T173301Z
UID:6501-1775901600-1775923200@akronbugle.com
SUMMARY:Spring Craft and Vendor Show
DESCRIPTION:Newstead Fire Company Exempt Club Spring Craft and Vendor Show \n10:00 am. to 4 p.m.  Basket Raffle\, Food\, Vendors
URL:https://akronbugle.com/calendar/spring-craft-and-vendor-show/
LOCATION:Newstead Fire Hall\, 5621 Cummings Road\, Akron\, NY\, 14001
CATEGORIES:Things to Do
ATTACH;FMTTYPE=image/jpeg:https://akronbugle.com/wp-content/uploads/2026/04/Spring.jpg
END:VEVENT
BEGIN:VEVENT
DTSTART;TZID=America/New_York:20260409T190000
DTEND;TZID=America/New_York:20260409T203000
DTSTAMP:20260423T141332
CREATED:20260320T172215Z
LAST-MODIFIED:20260320T172215Z
UID:6465-1775761200-1775766600@akronbugle.com
SUMMARY:Lexington and Concord
DESCRIPTION:Newstead Historical Society presents a program on the background of the Revolutionary War
URL:https://akronbugle.com/calendar/lexington-and-concord/
LOCATION:Newstead Town Hall\, 5 Clarence Center Road\, Akron\, NY\, 14001
CATEGORIES:Organizations,Things to Do
END:VEVENT
BEGIN:VEVENT
DTSTART;TZID=America/New_York:20260329T160000
DTEND;TZID=America/New_York:20260329T190000
DTSTAMP:20260423T141332
CREATED:20260320T193113Z
LAST-MODIFIED:20260320T193113Z
UID:6485-1774800000-1774810800@akronbugle.com
SUMMARY:Sunday Sauce Spaghetti Dinner
DESCRIPTION:
URL:https://akronbugle.com/calendar/sunday-sauce-spaghetti-dinner/
LOCATION:Akron Fire Hall\, 1 Main Street\, Akron\, NY\, 14001\, United States
CATEGORIES:Organizations,Things to Do
ORGANIZER;CN="Rotary Club of Akron-Newstead":MAILTO:akronwds@hotmail.com
END:VEVENT
BEGIN:VEVENT
DTSTART;TZID=America/New_York:20260328T100000
DTEND;TZID=America/New_York:20260328T110000
DTSTAMP:20260423T141332
CREATED:20260320T180318Z
LAST-MODIFIED:20260320T180318Z
UID:6483-1774692000-1774695600@akronbugle.com
SUMMARY:Easter Egg Hunt
DESCRIPTION:
URL:https://akronbugle.com/calendar/easter-egg-hunt-3/
LOCATION:Newstead Fire Hall\, 5621 Cummings Road\, Akron\, NY\, 14001
CATEGORIES:Organizations,Things to Do
END:VEVENT
BEGIN:VEVENT
DTSTART;TZID=America/New_York:20241024T180000
DTEND;TZID=America/New_York:20241024T220000
DTSTAMP:20260423T141332
CREATED:20240823T130409Z
LAST-MODIFIED:20240823T130409Z
UID:5113-1729792800-1729807200@akronbugle.com
SUMMARY:Rotary Club of Akron-Newstead Annual Raffle
DESCRIPTION:Annual Raffle – Time TBD
URL:https://akronbugle.com/calendar/rotary-club-of-akron-newstead-annual-raffle/
LOCATION:NY
CATEGORIES:Things to Do
END:VEVENT
BEGIN:VEVENT
DTSTART;TZID=America/New_York:20241002T173000
DTEND;TZID=America/New_York:20241002T210000
DTSTAMP:20260423T141332
CREATED:20240824T163056Z
LAST-MODIFIED:20240824T163056Z
UID:5127-1727890200-1727902800@akronbugle.com
SUMMARY:Oktoberfest
DESCRIPTION:Newstead Republican Party sponsored Oktoberfest Wednesday\, October 2\, 2024 5:30 to 9:00 p.m.
URL:https://akronbugle.com/calendar/oktoberfest/
LOCATION:Akron Acres\, 12607 Stage Rd.\, Akron\, NY\, 14001\, United States
CATEGORIES:Things to Do
ATTACH;FMTTYPE=application/pdf:https://akronbugle.com/wp-content/uploads/securepdfs/2024/08/August-24-Updated-Oktoberfest-ad-poster.pdf
END:VEVENT
BEGIN:VEVENT
DTSTART;TZID=America/New_York:20240928T160000
DTEND;TZID=America/New_York:20240928T200000
DTSTAMP:20260423T141332
CREATED:20240824T162557Z
LAST-MODIFIED:20240824T162557Z
UID:5125-1727539200-1727553600@akronbugle.com
SUMMARY:Akron Lions Club Steak-Roast Dinner
DESCRIPTION:Steak-Roast Dinner\, Saturday\, September 28\, 2024 to benefit community projects
URL:https://akronbugle.com/calendar/akron-lions-club-steak-roast-dinner/
LOCATION:American Legion LL Tillman Post 900\, 9 Eckerson Ave. Akron.\, 9 Eckerson Ave.\, Akron\, New York\, 14001
CATEGORIES:Things to Do
ATTACH;FMTTYPE=image/jpeg:https://akronbugle.com/wp-content/uploads/2024/08/LionsClubAdcmyk.jpg
END:VEVENT
BEGIN:VEVENT
DTSTART;TZID=America/New_York:20240928T120000
DTEND;TZID=America/New_York:20240928T150000
DTSTAMP:20260423T141332
CREATED:20240824T164607Z
LAST-MODIFIED:20240824T164607Z
UID:5137-1727524800-1727535600@akronbugle.com
SUMMARY:Trinity's Annual Chowder Sale
DESCRIPTION:Trinity’s Annual Chowder Sale and Basket Raffle.  Trinity Lutheran Church South Newstead\, South Newstead Rd.\, Akron.  12 to 3 p.m.
URL:https://akronbugle.com/calendar/trinitys-annual-chowder-sale/
LOCATION:Trinity Lutheran Church\, 4809 South Newstead Rd.\, Akron\, NY\, 14001
CATEGORIES:Things to Do
END:VEVENT
BEGIN:VEVENT
DTSTART;TZID=America/New_York:20240914T130000
DTEND;TZID=America/New_York:20240914T160000
DTSTAMP:20260423T141332
CREATED:20240824T163758Z
LAST-MODIFIED:20240824T163758Z
UID:5134-1726318800-1726329600@akronbugle.com
SUMMARY:Veteran Picnic
DESCRIPTION:All local Veterans and families are invited to a family picnic.  September 14\, 2024\, American Legion Post #900\, 9 Eckerson Ave.\, Akron from 1 to 4 p.m.  Please RSVP to Fred Pask 716-542-2065
URL:https://akronbugle.com/calendar/veteran-picnic/
LOCATION:American Legion LL Tillman Post 900\, 9 Eckerson Ave. Akron.\, 9 Eckerson Ave.\, Akron\, New York\, 14001
CATEGORIES:Organizations,Things to Do
ATTACH;FMTTYPE=image/jpeg:https://akronbugle.com/wp-content/uploads/2024/08/CommuntityVeteranPicniccmyk.jpg
END:VEVENT
BEGIN:VEVENT
DTSTART;TZID=America/New_York:20240829T173000
DTEND;TZID=America/New_York:20240829T203000
DTSTAMP:20260423T141332
CREATED:20240801T145453Z
LAST-MODIFIED:20240801T145453Z
UID:5026-1724952600-1724963400@akronbugle.com
SUMMARY:Thursday Night Cruise
DESCRIPTION:Thursday Night Cruise Nights – sponsored by Akron Chamber of Commerce.  August 29 Street\, Strip\, Willy’s Night sponsored by Whiting Door  – Main Street Akron from 5:30 to 8:30 p.m.
URL:https://akronbugle.com/calendar/thursday-night-cruise-4/
LOCATION:Downtown Akron\, Akron\, NY\, 14001
CATEGORIES:Things to Do
END:VEVENT
BEGIN:VEVENT
DTSTART;TZID=America/New_York:20240822T173000
DTEND;TZID=America/New_York:20240822T203000
DTSTAMP:20260423T141332
CREATED:20240801T145213Z
LAST-MODIFIED:20240801T145213Z
UID:5022-1724347800-1724358600@akronbugle.com
SUMMARY:Thursday Night Cruise
DESCRIPTION:Thursday Night Cruise Nights – sponsored by Akron Chamber of Commerce.  August 22 Offroad A & 4×4 Night sponsored by Niagara Label  – Main Street Akron from 5:30 to 8:30 p.m.
URL:https://akronbugle.com/calendar/thursday-night-cruise-3/
LOCATION:Downtown Akron\, Akron\, NY\, 14001
CATEGORIES:Things to Do
END:VEVENT
BEGIN:VEVENT
DTSTART;TZID=America/New_York:20240818T130000
DTEND;TZID=America/New_York:20240818T150000
DTSTAMP:20260423T141332
CREATED:20240801T144636Z
LAST-MODIFIED:20240801T144752Z
UID:5016-1723986000-1723993200@akronbugle.com
SUMMARY:Knight-Sutton Museum
DESCRIPTION:Knight-Sutton Museum & Research Center Exhibits – Sunday\, August 18 from 1-3pm\, 123 Main St. Akron\, NY
URL:https://akronbugle.com/calendar/knight-sutton-museum/
LOCATION:Knight-Sutton Museum\, Main Street\, Akron\, NY\, 14001\, United States
CATEGORIES:Things to Do
END:VEVENT
BEGIN:VEVENT
DTSTART;TZID=America/New_York:20240818T130000
DTEND;TZID=America/New_York:20240818T150000
DTSTAMP:20260423T141332
CREATED:20240801T144514Z
LAST-MODIFIED:20240801T144514Z
UID:5014-1723986000-1723993200@akronbugle.com
SUMMARY:Octagon House Tours
DESCRIPTION:Highlights of the Octagon House Tours– Sunday\, August 18 from  1 -3 pm\, 145 Main St. Akron\, NY.
URL:https://akronbugle.com/calendar/octagon-house-tours/
LOCATION:Rich-Twin Octagon House\, 145 Main Street\, Akron\, NY\, 14001\, United States
CATEGORIES:Things to Do
END:VEVENT
BEGIN:VEVENT
DTSTART;TZID=America/New_York:20240816T200000
DTEND;TZID=America/New_York:20240816T213000
DTSTAMP:20260423T141332
CREATED:20240801T144324Z
LAST-MODIFIED:20240801T144324Z
UID:5012-1723838400-1723843800@akronbugle.com
SUMMARY:Akron Community Band Concert
DESCRIPTION:Akron Community Band Concert  – Friday\, August 16\, Russell Park\, Akron 8 to 9:30 p.m.  Sponsored by Village of Akron\, Town of Newstead\, and County of Erie.
URL:https://akronbugle.com/calendar/akron-community-band-concert-24/
LOCATION:Russell Park\, Main Street\, Akron\, NY\, 14001\, United States
CATEGORIES:Things to Do
END:VEVENT
BEGIN:VEVENT
DTSTART;TZID=America/New_York:20240815T173000
DTEND;TZID=America/New_York:20240815T203000
DTSTAMP:20260423T141332
CREATED:20240801T144139Z
LAST-MODIFIED:20240801T144139Z
UID:5010-1723743000-1723753800@akronbugle.com
SUMMARY:Thursday Night Cruise
DESCRIPTION:Thursday Night Cruise Nights – sponsored by Akron Chamber of Commerce.  August 15 Tractor Night sponsored by Whiting Door  – Main Street Akron from 5:30 to 8:30 p.m.
URL:https://akronbugle.com/calendar/thursday-night-cruise-2/
LOCATION:Downtown Akron\, Akron\, NY\, 14001
CATEGORIES:Things to Do
END:VEVENT
BEGIN:VEVENT
DTSTART;TZID=America/New_York:20240809T200000
DTEND;TZID=America/New_York:20240809T213000
DTSTAMP:20260423T141332
CREATED:20240801T143746Z
LAST-MODIFIED:20240801T143746Z
UID:5006-1723233600-1723239000@akronbugle.com
SUMMARY:Akron Community Band Concert
DESCRIPTION:Akron Community Band Concert  – Friday\, August 9\, Russell Park\, Akron 8 to 9:30 p.m.  Sponsored by Village of Akron\, Town of Newstead\, and County of Erie.
URL:https://akronbugle.com/calendar/akron-community-band-concert-23/
LOCATION:Russell Park\, Main Street\, Akron\, NY\, 14001\, United States
CATEGORIES:Things to Do
END:VEVENT
BEGIN:VEVENT
DTSTART;TZID=America/New_York:20240808T173000
DTEND;TZID=America/New_York:20240808T203000
DTSTAMP:20260423T141332
CREATED:20240801T143608Z
LAST-MODIFIED:20240801T143608Z
UID:5004-1723138200-1723149000@akronbugle.com
SUMMARY:Thursday Night Cruise Nights
DESCRIPTION:Thursday Night Cruise Nights – sponsored by Akron Chamber of Commerce.  August 8 Corvette Night sponsored by Old Scotland Road – Main Street Akron from 5:30 to 8:30 p.m.  “Retro Phonics” in concert on Main Street.
URL:https://akronbugle.com/calendar/thursday-night-cruise-nights/
LOCATION:Downtown Akron\, Akron\, NY\, 14001
CATEGORIES:Things to Do
END:VEVENT
BEGIN:VEVENT
DTSTART;TZID=America/New_York:20240804T130000
DTEND;TZID=America/New_York:20240804T150000
DTSTAMP:20260423T141332
CREATED:20240801T143019Z
LAST-MODIFIED:20240801T143019Z
UID:4996-1722776400-1722783600@akronbugle.com
SUMMARY:Knight-Sutton Museum exhibits
DESCRIPTION:Knight-Sutton Museum & Research Center Exhibits – Sunday\, August 4 from 1-3pm\, 123 Main St. Akron\, NY
URL:https://akronbugle.com/calendar/knight-sutton-museum-exhibits-2/
LOCATION:Knight-Sutton Museum\, Main Street\, Akron\, NY\, 14001\, United States
CATEGORIES:Things to Do
END:VEVENT
BEGIN:VEVENT
DTSTART;TZID=America/New_York:20240804T130000
DTEND;TZID=America/New_York:20240804T150000
DTSTAMP:20260423T141332
CREATED:20240801T142837Z
LAST-MODIFIED:20240801T142837Z
UID:4994-1722776400-1722783600@akronbugle.com
SUMMARY:Octagon House tour
DESCRIPTION:Highlights of the Octagon House Tours– Sunday\, August 4 from  1 -3 pm\, 145 Main St. Akron\, NY.
URL:https://akronbugle.com/calendar/octagon-house-tour-2/
LOCATION:Rich-Twin Octagon House\, 145 Main Street\, Akron\, NY\, 14001\, United States
CATEGORIES:Things to Do
END:VEVENT
BEGIN:VEVENT
DTSTART;TZID=America/New_York:20240802T200000
DTEND;TZID=America/New_York:20240802T213000
DTSTAMP:20260423T141332
CREATED:20240801T142717Z
LAST-MODIFIED:20240801T142717Z
UID:4992-1722628800-1722634200@akronbugle.com
SUMMARY:Akron Community Band Concert
DESCRIPTION:Akron Community Band Concert  – Friday\, August 2\, Russell Park\, Akron 8 to 9:30 p.m.  Sponsored by Village of Akron\, Town of Newstead\, and County of Erie.
URL:https://akronbugle.com/calendar/akron-community-band-concert-22/
LOCATION:Russell Park\, Main Street\, Akron\, NY\, 14001\, United States
CATEGORIES:Things to Do
END:VEVENT
BEGIN:VEVENT
DTSTART;TZID=America/New_York:20240801T173000
DTEND;TZID=America/New_York:20240801T203000
DTSTAMP:20260423T141332
CREATED:20240801T142541Z
LAST-MODIFIED:20240801T142541Z
UID:4990-1722533400-1722544200@akronbugle.com
SUMMARY:Thursday Night Cruise
DESCRIPTION:Thursday Night Cruise Nights – sponsored by Akron Chamber of Commerce.  August 1 Jeep Night sponsored by Flying Head – Main Street Akron from 5:30 to 8:30 p.m.
URL:https://akronbugle.com/calendar/thursday-night-cruise/
LOCATION:Downtown Akron\, Akron\, NY\, 14001
CATEGORIES:Things to Do
END:VEVENT
BEGIN:VEVENT
DTSTART;TZID=America/New_York:20240721T130000
DTEND;TZID=America/New_York:20240721T150000
DTSTAMP:20260423T141332
CREATED:20240714T202326Z
LAST-MODIFIED:20240714T202326Z
UID:4905-1721566800-1721574000@akronbugle.com
SUMMARY:Knight-Sutton Museum & Research Center Exhibits
DESCRIPTION:Knight-Sutton Museum & Research Center Exhibits – Sunday\, July 21 from 1-3pm\, 123 Main St. Akron\, NY
URL:https://akronbugle.com/calendar/knight-sutton-museum-research-center-exhibits-3/
LOCATION:Knight-Sutton Museum\, Main Street\, Akron\, NY\, 14001\, United States
CATEGORIES:Things to Do
END:VEVENT
BEGIN:VEVENT
DTSTART;TZID=America/New_York:20240721T130000
DTEND;TZID=America/New_York:20240721T150000
DTSTAMP:20260423T141332
CREATED:20240714T202040Z
LAST-MODIFIED:20240714T202040Z
UID:4902-1721566800-1721574000@akronbugle.com
SUMMARY:Highlights of the Octagon House Tours
DESCRIPTION:Highlights of the Octagon House Tours– Sunday\, July 21 from  1 -3 pm\, 145 Main St. Akron\, NY.
URL:https://akronbugle.com/calendar/highlights-of-the-octagon-house-tours-2/
LOCATION:Rich-Twin Octagon House\, 145 Main Street\, Akron\, NY\, 14001\, United States
CATEGORIES:Things to Do
END:VEVENT
BEGIN:VEVENT
DTSTART;TZID=America/New_York:20240719T200000
DTEND;TZID=America/New_York:20240719T213000
DTSTAMP:20260423T141332
CREATED:20240714T201902Z
LAST-MODIFIED:20240714T201902Z
UID:4901-1721419200-1721424600@akronbugle.com
SUMMARY:Akron Community Band Concert
DESCRIPTION:Akron Community Band Concert  – Friday\, July 19\, Russell Park\, Akron 8 to 9:30 p.m.  Sponsored by Village of Akron\, Town of Newstead\, and County of Erie.
URL:https://akronbugle.com/calendar/akron-community-band-concert-21/
LOCATION:Russell Park\, Main Street\, Akron\, NY\, 14001\, United States
CATEGORIES:Things to Do
END:VEVENT
BEGIN:VEVENT
DTSTART;TZID=America/New_York:20240718T173000
DTEND;TZID=America/New_York:20240718T203000
DTSTAMP:20260423T141332
CREATED:20240714T201738Z
LAST-MODIFIED:20240714T201738Z
UID:4899-1721323800-1721334600@akronbugle.com
SUMMARY:Akron Chamber of Commerce Cruise Night
DESCRIPTION:Thursday Night Cruise Nights – sponsored by Akron Chamber of Commerce.  July 18 Bob Lucia Night sponsored by Pixley’s Food Mart  – Main Street Akron from 5:30 to 8:30 p.m.
URL:https://akronbugle.com/calendar/akron-chamber-of-commerce-cruise-night-7/
LOCATION:Downtown Akron\, Akron\, NY\, 14001
CATEGORIES:Things to Do
END:VEVENT
BEGIN:VEVENT
DTSTART;TZID=America/New_York:20240707T130000
DTEND;TZID=America/New_York:20240707T150000
DTSTAMP:20260423T141332
CREATED:20240705T201706Z
LAST-MODIFIED:20240705T201706Z
UID:4892-1720357200-1720364400@akronbugle.com
SUMMARY:Highlights of the Octagon House Tours
DESCRIPTION:Highlights of the Octagon House Tours– Sunday\, July 7 from  1 -3 pm\, 145 Main St. Akron\, NY.
URL:https://akronbugle.com/calendar/highlights-of-the-octagon-house-tours/
LOCATION:Rich-Twin Octagon House\, 145 Main Street\, Akron\, NY\, 14001\, United States
CATEGORIES:Things to Do
END:VEVENT
BEGIN:VEVENT
DTSTART;TZID=America/New_York:20240707T130000
DTEND;TZID=America/New_York:20240707T150000
DTSTAMP:20260423T141332
CREATED:20240705T201442Z
LAST-MODIFIED:20240705T201442Z
UID:4890-1720357200-1720364400@akronbugle.com
SUMMARY:Knight-Sutton Museum & Research Center Exhibits
DESCRIPTION:Knight-Sutton Museum & Research Center Exhibits – Sunday\, July 7 from 1-3pm\, 123 Main St. Akron\, NY
URL:https://akronbugle.com/calendar/knight-sutton-museum-research-center-exhibits-2/
LOCATION:Knight-Sutton Museum\, Main Street\, Akron\, NY\, 14001\, United States
CATEGORIES:Things to Do
END:VEVENT
BEGIN:VEVENT
DTSTART;TZID=America/New_York:20240706T100000
DTEND;TZID=America/New_York:20240706T140000
DTSTAMP:20260423T141332
CREATED:20240705T122934Z
LAST-MODIFIED:20240705T122934Z
UID:4884-1720260000-1720274400@akronbugle.com
SUMMARY:Annual Kids' Day at Limerick School
DESCRIPTION:Second Annual Kids’ Day at Limerick School – July 6 from 10 a.m. to 2 p.m. Free Event
URL:https://akronbugle.com/calendar/annual-kids-day-at-limerick-school/
LOCATION:Limerick Hall\, 12579 Clarence Center Road\, Akron\, NY\, 14001\, United States
CATEGORIES:Things to Do
END:VEVENT
BEGIN:VEVENT
DTSTART;TZID=America/New_York:20240705T200000
DTEND;TZID=America/New_York:20240705T213000
DTSTAMP:20260423T141332
CREATED:20240705T122453Z
LAST-MODIFIED:20240705T122453Z
UID:4882-1720209600-1720215000@akronbugle.com
SUMMARY:Akron Community Band concert
DESCRIPTION:Akron Community Band Concert  – Friday\, July 5\, Russell Park\, Akron 8 to 9:30 p.m.  Sponsored by Village of Akron\, Town of Newstead\, and County of Erie.
URL:https://akronbugle.com/calendar/akron-community-band-concert-20/
LOCATION:Russell Park\, Main Street\, Akron\, NY\, 14001\, United States
CATEGORIES:Things to Do
END:VEVENT
END:VCALENDAR