BEGIN:VCALENDAR
VERSION:2.0
PRODID:-//Akron Bugle - ECPv6.15.20//NONSGML v1.0//EN
CALSCALE:GREGORIAN
METHOD:PUBLISH
X-WR-CALNAME:Akron Bugle
X-ORIGINAL-URL:https://akronbugle.com
X-WR-CALDESC:Events for Akron Bugle
REFRESH-INTERVAL;VALUE=DURATION:PT1H
X-Robots-Tag:noindex
X-PUBLISHED-TTL:PT1H
BEGIN:VTIMEZONE
TZID:America/New_York
BEGIN:DAYLIGHT
TZOFFSETFROM:-0500
TZOFFSETTO:-0400
TZNAME:EDT
DTSTART:20210314T070000
END:DAYLIGHT
BEGIN:STANDARD
TZOFFSETFROM:-0400
TZOFFSETTO:-0500
TZNAME:EST
DTSTART:20211107T060000
END:STANDARD
BEGIN:DAYLIGHT
TZOFFSETFROM:-0500
TZOFFSETTO:-0400
TZNAME:EDT
DTSTART:20220313T070000
END:DAYLIGHT
BEGIN:STANDARD
TZOFFSETFROM:-0400
TZOFFSETTO:-0500
TZNAME:EST
DTSTART:20221106T060000
END:STANDARD
BEGIN:DAYLIGHT
TZOFFSETFROM:-0500
TZOFFSETTO:-0400
TZNAME:EDT
DTSTART:20230312T070000
END:DAYLIGHT
BEGIN:STANDARD
TZOFFSETFROM:-0400
TZOFFSETTO:-0500
TZNAME:EST
DTSTART:20231105T060000
END:STANDARD
BEGIN:DAYLIGHT
TZOFFSETFROM:-0500
TZOFFSETTO:-0400
TZNAME:EDT
DTSTART:20240310T070000
END:DAYLIGHT
BEGIN:STANDARD
TZOFFSETFROM:-0400
TZOFFSETTO:-0500
TZNAME:EST
DTSTART:20241103T060000
END:STANDARD
BEGIN:DAYLIGHT
TZOFFSETFROM:-0500
TZOFFSETTO:-0400
TZNAME:EDT
DTSTART:20250309T070000
END:DAYLIGHT
BEGIN:STANDARD
TZOFFSETFROM:-0400
TZOFFSETTO:-0500
TZNAME:EST
DTSTART:20251102T060000
END:STANDARD
END:VTIMEZONE
BEGIN:VEVENT
DTSTART;TZID=America/New_York:20240507T123000
DTEND;TZID=America/New_York:20240507T133000
DTSTAMP:20260423T181403
CREATED:20240503T162605Z
LAST-MODIFIED:20240503T162605Z
UID:4802-1715085000-1715088600@akronbugle.com
SUMMARY:FeedMore Farm Market Truck
DESCRIPTION:FeedMore Farm Market Truck will visit Akron-Newstead Senior Center every 1st and 3rd Tuesday and the Newstead Public Library every 2nd and 3rd Tuesday from 12:30 p.m. until 1:30 p.m.  Beginning Tuesday\, May 7.
URL:https://akronbugle.com/calendar/feedmore-farm-market-truck/
LOCATION:Akron-Newstead Senior Center\, 5691 Cummings Road\, Akron\, NY\, 14001
CATEGORIES:Things to Do
END:VEVENT
BEGIN:VEVENT
DTSTART;TZID=America/New_York:20240505T130000
DTEND;TZID=America/New_York:20240505T150000
DTSTAMP:20260423T181403
CREATED:20240503T151146Z
LAST-MODIFIED:20240503T151146Z
UID:4798-1714914000-1714921200@akronbugle.com
SUMMARY:Knight-Sutton Museum Exhibits
DESCRIPTION:Knight-Sutton Museum & Research Center Exhibits – Sunday\, May 5 from 1-3 p.m.\, 123 Main St. Akron\, NY
URL:https://akronbugle.com/calendar/knight-sutton-museum-exhibits/
LOCATION:Knight-Sutton Museum\, Main Street\, Akron\, NY\, 14001\, United States
CATEGORIES:Things to Do
END:VEVENT
BEGIN:VEVENT
DTSTART;TZID=America/New_York:20240505T130000
DTEND;TZID=America/New_York:20240505T150000
DTSTAMP:20260423T181403
CREATED:20240503T150904Z
LAST-MODIFIED:20240503T150904Z
UID:4795-1714914000-1714921200@akronbugle.com
SUMMARY:Octagon House tour
DESCRIPTION:Highlights of the Octagon House Tours– Sunday\, May 5 from 1 -3 p.m.\, 145 Main St. Akron\, NY.
URL:https://akronbugle.com/calendar/octagon-house-tour/
LOCATION:Rich-Twin Octagon House\, 145 Main Street\, Akron\, NY\, 14001\, United States
CATEGORIES:Things to Do
END:VEVENT
BEGIN:VEVENT
DTSTART;TZID=America/New_York:20240505T130000
DTEND;TZID=America/New_York:20240505T150000
DTSTAMP:20260423T181403
CREATED:20240503T150416Z
LAST-MODIFIED:20240503T150416Z
UID:4793-1714914000-1714921200@akronbugle.com
SUMMARY:Limerick School/Hall Tours
DESCRIPTION:Limerick School/Hall Tours – open free of charge Sunday\, May 5\, 6074 Cummings Rd. Akron\, NY.
URL:https://akronbugle.com/calendar/limerick-school-hall-tours/
CATEGORIES:Things to Do
END:VEVENT
BEGIN:VEVENT
DTSTART;TZID=America/New_York:20240504T100000
DTEND;TZID=America/New_York:20240504T140000
DTSTAMP:20260423T181403
CREATED:20240503T150145Z
LAST-MODIFIED:20240503T150145Z
UID:4791-1714816800-1714831200@akronbugle.com
SUMMARY:'Fashion in Akron'
DESCRIPTION:“Fashion in Akron” sponsored by NHS Knight-Sutton Museum and Main Street Merchants\, on Saturday\, May 4\, from 10 a.m. to 2 p.m.
URL:https://akronbugle.com/calendar/fashion-in-akron/
LOCATION:Downtown Akron\, Akron\, NY\, 14001
CATEGORIES:Things to Do
END:VEVENT
BEGIN:VEVENT
DTSTART;TZID=America/New_York:20240316T180000
DTEND;TZID=America/New_York:20240316T220000
DTSTAMP:20260423T181403
CREATED:20240309T125853Z
LAST-MODIFIED:20240309T125853Z
UID:4725-1710612000-1710626400@akronbugle.com
SUMMARY:Meat Raffle
DESCRIPTION:Meat Raffle – sponsored by Akron Newstead Rotary\, Saturday March 16\, 2024 from 6 p.m. To 10 p.m. at the American Legion\, 9 Eckerson Avenue\, Akron\, NY.  Tickets available at akronnewsteadrotary.square.site
URL:https://akronbugle.com/calendar/meat-raffle/
LOCATION:American Legion LL Tillman Post 900\, 9 Eckerson Ave. Akron.\, 9 Eckerson Ave.\, Akron\, New York\, 14001
CATEGORIES:Things to Do
END:VEVENT
BEGIN:VEVENT
DTSTART;TZID=America/New_York:20240316T100000
DTEND;TZID=America/New_York:20240316T140000
DTSTAMP:20260423T181403
CREATED:20240309T125152Z
LAST-MODIFIED:20240309T125152Z
UID:4722-1710583200-1710597600@akronbugle.com
SUMMARY:Bunny's Breakfast and Food Drive
DESCRIPTION:Bunny’s Breakfast and Food Drive for Akron-Newstead Food Pantry – sponsored by White Whiskers Senior Dog Sanctuary March 16 from 10 a.m. to 2 p.m.\, Buck’s Motorsports\, 13090 Main Road\, Akron\, NY 14001.
URL:https://akronbugle.com/calendar/bunnys-breakfast-and-food-drive/
LOCATION:Buck’s Motorsports\, 13090 Main Road\, Akron\, NY\, 14001\, United States
CATEGORIES:Things to Do
END:VEVENT
BEGIN:VEVENT
DTSTART;TZID=America/New_York:20231109T190000
DTEND;TZID=America/New_York:20231109T203000
DTSTAMP:20260423T181403
CREATED:20231108T212404Z
LAST-MODIFIED:20231108T212404Z
UID:4512-1699556400-1699561800@akronbugle.com
SUMMARY:Newstead Historical Society Program
DESCRIPTION:Newstead Historical Society Program – Thursday\, November 9 7 p.m. in Newstead Town Hall\, 5 Clarence Center Rd. Akron
URL:https://akronbugle.com/calendar/newstead-historical-society-program/
LOCATION:Newstead Town Hall\, 5 Clarence Center Road\, Akron\, NY\, 14001
CATEGORIES:Things to Do
END:VEVENT
BEGIN:VEVENT
DTSTART;TZID=America/New_York:20231103T100000
DTEND;TZID=America/New_York:20231103T170000
DTSTAMP:20260423T181403
CREATED:20231102T021826Z
LAST-MODIFIED:20231102T021826Z
UID:4500-1699005600-1699030800@akronbugle.com
SUMMARY:Friends of the Library Book Sale
DESCRIPTION:Friends of the Library Book Sale – Members Night Wednesday\, November 1 from 6 to 8 p.m.; Friday\, November 3 – Bag Sale from 10 a.m. – 5 p.m.; Saturday\, November 4 – Bag Sale from 10 a.m. – 3 p.m.
URL:https://akronbugle.com/calendar/friends-of-the-library-book-sale/
LOCATION:Newstead Public Library\, 33 Main St.\, Akron\, NY\, 14001
CATEGORIES:Things to Do
END:VEVENT
BEGIN:VEVENT
DTSTART;TZID=America/New_York:20231102T170000
DTEND;TZID=America/New_York:20231102T183000
DTSTAMP:20260423T181403
CREATED:20231102T022234Z
LAST-MODIFIED:20231102T022235Z
UID:4502-1698944400-1698949800@akronbugle.com
SUMMARY:Good for the Neighborhood
DESCRIPTION:Good for the Neighborhood – Thursday\, November 2\, 2023 5:00 – 6:30 p.m. Akron-Newstead Senior Center 5691 Cummings Road Akron\, NY 14001 716-542-6645.
URL:https://akronbugle.com/calendar/good-for-the-neighborhood/
LOCATION:Akron-Newstead Senior Center\, 5691 Cummings Road\, Akron\, NY\, 14001
CATEGORIES:Things to Do
END:VEVENT
BEGIN:VEVENT
DTSTART;TZID=America/New_York:20230813T090000
DTEND;TZID=America/New_York:20230813T130000
DTSTAMP:20260423T181403
CREATED:20230804T150053Z
LAST-MODIFIED:20230804T150053Z
UID:4366-1691917200-1691931600@akronbugle.com
SUMMARY:West Shore Market
DESCRIPTION:West Shore Market (Farmers Market) – in Russell Park\, Akron\, New York\, Sunday\, August 13\, 9 a.m. to 1 p.m.
URL:https://akronbugle.com/calendar/west-shore-market-7/
LOCATION:Russell Park\, Main Street\, Akron\, NY\, 14001\, United States
CATEGORIES:Things to Do
END:VEVENT
BEGIN:VEVENT
DTSTART;TZID=America/New_York:20230811T200000
DTEND;TZID=America/New_York:20230811T213000
DTSTAMP:20260423T181403
CREATED:20230804T145736Z
LAST-MODIFIED:20230804T145736Z
UID:4364-1691784000-1691789400@akronbugle.com
SUMMARY:Akron Community Band concert
DESCRIPTION:Akron Community Band Concert – Russell Park\, Akron\, NY 8 p.m. Friday\, August 11.
URL:https://akronbugle.com/calendar/akron-community-band-concert-19/
LOCATION:Russell Park\, Main Street\, Akron\, NY\, 14001\, United States
CATEGORIES:Things to Do
END:VEVENT
BEGIN:VEVENT
DTSTART;TZID=America/New_York:20230810T173000
DTEND;TZID=America/New_York:20230810T203000
DTSTAMP:20260423T181403
CREATED:20230804T145103Z
LAST-MODIFIED:20230804T145103Z
UID:4362-1691688600-1691699400@akronbugle.com
SUMMARY:Cruise Night
DESCRIPTION:Thursday Cruise Nights – sponsored by the Akron Chamber of Commerce\, Main Street\, Akron.  August 10 from 5:30 to 8:30 p.m.
URL:https://akronbugle.com/calendar/cruise-night/
LOCATION:Downtown Akron\, Akron\, NY\, 14001
CATEGORIES:Things to Do
END:VEVENT
BEGIN:VEVENT
DTSTART;TZID=America/New_York:20230806T090000
DTEND;TZID=America/New_York:20230806T130000
DTSTAMP:20260423T181403
CREATED:20230804T143906Z
LAST-MODIFIED:20230804T143906Z
UID:4356-1691312400-1691326800@akronbugle.com
SUMMARY:West Shore Market
DESCRIPTION:West Shore Market (Farmers Market) – in Russell Park\, Akron\, New York\, Sunday\, August 6\, 9 a.m. to 1 p.m.
URL:https://akronbugle.com/calendar/west-shore-market-6/
CATEGORIES:Things to Do
END:VEVENT
BEGIN:VEVENT
DTSTART;TZID=America/New_York:20230716T090000
DTEND;TZID=America/New_York:20230716T130000
DTSTAMP:20260423T181403
CREATED:20230714T212408Z
LAST-MODIFIED:20230714T212408Z
UID:4261-1689498000-1689512400@akronbugle.com
SUMMARY:West Shore Market
DESCRIPTION:West Shore Market (Farmers Market) – in Russell Park\, Akron\, New York\, Sunday\, July 16\, 9 a.m. to 1 p.m.
URL:https://akronbugle.com/calendar/west-shore-market-4/
LOCATION:Russell Park\, Main Street\, Akron\, NY\, 14001\, United States
CATEGORIES:Things to Do
END:VEVENT
BEGIN:VEVENT
DTSTART;TZID=America/New_York:20230714T200000
DTEND;TZID=America/New_York:20230714T213000
DTSTAMP:20260423T181403
CREATED:20230714T212218Z
LAST-MODIFIED:20230714T212218Z
UID:4259-1689364800-1689370200@akronbugle.com
SUMMARY:Akron Community Band concert
DESCRIPTION:Akron Community Band Concert – Russell Park\, Akron\, NY 8 p.m. Friday\, July 14.
URL:https://akronbugle.com/calendar/akron-community-band-concert-17/
LOCATION:Russell Park\, Main Street\, Akron\, NY\, 14001\, United States
CATEGORIES:Things to Do
END:VEVENT
BEGIN:VEVENT
DTSTART;TZID=America/New_York:20230703T210000
DTEND;TZID=America/New_York:20230704T210000
DTSTAMP:20260423T181403
CREATED:20230630T154712Z
LAST-MODIFIED:20230630T154712Z
UID:4202-1688418000-1688504400@akronbugle.com
SUMMARY:Akron 4th of July Celebration
DESCRIPTION:  \n4th of July Celebration schedule set
URL:https://akronbugle.com/calendar/akron-4th-of-july-celebration/
CATEGORIES:Things to Do
END:VEVENT
BEGIN:VEVENT
DTSTART;TZID=America/New_York:20230624T180000
DTEND;TZID=America/New_York:20230624T190000
DTSTAMP:20260423T181403
CREATED:20230511T171313Z
LAST-MODIFIED:20230511T171313Z
UID:4113-1687629600-1687633200@akronbugle.com
SUMMARY:WNY Celtic Spirit Pipe Band
DESCRIPTION:WNY Celtic Spirit Pipe Band concert sponsored by the Akron-Newstead Senior Citizens.  Saturday\, June 24\, 2023 at 6 p.m.
URL:https://akronbugle.com/calendar/wny-celtic-spirit-pipe-band/
LOCATION:Russell Park\, Main Street\, Akron\, NY\, 14001\, United States
CATEGORIES:Things to Do
ATTACH;FMTTYPE=image/png:https://akronbugle.com/wp-content/uploads/2023/05/Bagpiper-flyer.png
END:VEVENT
BEGIN:VEVENT
DTSTART;TZID=America/New_York:20230616T200000
DTEND;TZID=America/New_York:20230616T213000
DTSTAMP:20260423T181403
CREATED:20230609T160016Z
LAST-MODIFIED:20230609T160016Z
UID:4139-1686945600-1686951000@akronbugle.com
SUMMARY:Akron Community Band Concert
DESCRIPTION:Akron Community Band Concert – Russell Park\, Akron\, NY 8 p.m. Friday\, June 16.
URL:https://akronbugle.com/calendar/akron-community-band-concert-15/
LOCATION:Russell Park\, Main Street\, Akron\, NY\, 14001\, United States
CATEGORIES:Things to Do
END:VEVENT
BEGIN:VEVENT
DTSTART;TZID=America/New_York:20230615T173000
DTEND;TZID=America/New_York:20230615T203000
DTSTAMP:20260423T181403
CREATED:20230609T155353Z
LAST-MODIFIED:20230609T155353Z
UID:4136-1686850200-1686861000@akronbugle.com
SUMMARY:Thursday Cruise Nights
DESCRIPTION:Thursday Cruise Nights – sponsored by the Akron Chamber of Commerce\, Main Street\, Akron.  June 15 from 5:30 to 8:30 p.m. Truck Night.
URL:https://akronbugle.com/calendar/thursday-cruise-nights/
LOCATION:Russell Park\, Main Street\, Akron\, NY\, 14001\, United States
CATEGORIES:Things to Do
END:VEVENT
BEGIN:VEVENT
DTSTART;TZID=America/New_York:20230611T090000
DTEND;TZID=America/New_York:20230611T130000
DTSTAMP:20260423T181403
CREATED:20230609T154945Z
LAST-MODIFIED:20230609T154945Z
UID:4132-1686474000-1686488400@akronbugle.com
SUMMARY:West Shore Market
DESCRIPTION:West Shore Market (Farmers Market) – Sundays 9 a.m. to 1 p.m. Russell Park\, Akron\, NY. June 11 – Bubble Gum Contests sponsored by Ford Gum.
URL:https://akronbugle.com/calendar/west-shore-market-3/
LOCATION:Russell Park\, Main Street\, Akron\, NY\, 14001\, United States
CATEGORIES:Things to Do
END:VEVENT
BEGIN:VEVENT
DTSTART;TZID=America/New_York:20230507T130000
DTEND;TZID=America/New_York:20230507T150000
DTSTAMP:20260423T181403
CREATED:20230506T014759Z
LAST-MODIFIED:20230506T014759Z
UID:4085-1683464400-1683471600@akronbugle.com
SUMMARY:Knight-Sutton museum exhibit “Newstead 200 Years”
DESCRIPTION:Knight-Sutton will open their newest exhibit\, “Newstead 200 Years” \non Sunday\, May 7.  It is a special exhibit honoring the Town of Newstead’s Bicentennial.
URL:https://akronbugle.com/calendar/knight-sutton-museum-exhibit-newstead-200-years/
LOCATION:Knight-Sutton Museum\, Main Street\, Akron\, NY\, 14001\, United States
CATEGORIES:Things to Do
END:VEVENT
BEGIN:VEVENT
DTSTART;TZID=America/New_York:20230419T163000
DTEND;TZID=America/New_York:20230419T190000
DTSTAMP:20260423T181403
CREATED:20230412T120841Z
LAST-MODIFIED:20230412T120841Z
UID:4058-1681921800-1681930800@akronbugle.com
SUMMARY:Troop #559 Spaghetti Dinner
DESCRIPTION:Spaghetti Dinner – sponsored by Boy Scout Troop 559 Wednesday\, April 19 4:30 to 7 p.m. Take Out – Akron First UMC\, 7 Church St.\, Akron\, NY. \nPre-Sale $12  At the Door $13.00 \nCall 716-531-2299
URL:https://akronbugle.com/calendar/troop-559-spaghetti-dinner/
LOCATION:Akron First United Methodist Church\, 7 Church Street\, Akron\, NY\, 14001\, United States
CATEGORIES:Things to Do
ATTACH;FMTTYPE=image/jpeg:https://akronbugle.com/wp-content/uploads/2023/04/Troop559-SpaghettiApr19-1.jpg
END:VEVENT
BEGIN:VEVENT
DTSTART;TZID=America/New_York:20230305T070000
DTEND;TZID=America/New_York:20230305T130000
DTSTAMP:20260423T181403
CREATED:20230227T135546Z
LAST-MODIFIED:20230227T174343Z
UID:4045-1677999600-1678021200@akronbugle.com
SUMMARY:Pancake Breakfast
DESCRIPTION:Pancake Breakfast – Newstead Fire Hall\, 5691 Cummings Road\, Akron\, March 5 \, 2023 from 7 a.m. to 1 p.m.
URL:https://akronbugle.com/calendar/pancake-breakfast-2/
LOCATION:Newstead Fire Hall\, 5621 Cummings Road\, Akron\, NY\, 14001
CATEGORIES:Things to Do
END:VEVENT
BEGIN:VEVENT
DTSTART;TZID=America/New_York:20230212T110000
DTEND;TZID=America/New_York:20230212T130000
DTSTAMP:20260423T181403
CREATED:20230119T005236Z
LAST-MODIFIED:20230119T005236Z
UID:3974-1676199600-1676206800@akronbugle.com
SUMMARY:Chiavetta's Chicken Dinner
DESCRIPTION:Chiavetta’s Chicken Dinner – sponsored by the Akron Boy Scout Troop 559 in Russell Park\, Akron\, NY – February 12\, 2023 11:00 a.m. until sold out.  Presale tickets must be picked up by 12:30 p.m.
URL:https://akronbugle.com/calendar/chiavettas-chicken-dinner/
LOCATION:Russell Park\, Main Street\, Akron\, NY\, 14001\, United States
CATEGORIES:Things to Do
END:VEVENT
BEGIN:VEVENT
DTSTART;TZID=America/New_York:20230131T103000
DTEND;TZID=America/New_York:20230131T123000
DTSTAMP:20260423T181403
CREATED:20230123T231554Z
LAST-MODIFIED:20230123T231822Z
UID:4014-1675161000-1675168200@akronbugle.com
SUMMARY:Hawley Community Outreach event
DESCRIPTION:Assemblyman Steven M. Hawley will hold a Community Outreach event at the Newstead Public Library\, Main Street\, Akron\, on Tuesday\, January 31\, 10:30 a.m. to 12:30 p.m.
URL:https://akronbugle.com/calendar/hawley-community-outreach-event/
LOCATION:Newstead Public Library\, 33 Main St.\, Akron\, NY\, 14001
CATEGORIES:Things to Do
END:VEVENT
BEGIN:VEVENT
DTSTART;TZID=America/New_York:20230129T090000
DTEND;TZID=America/New_York:20230129T110000
DTSTAMP:20260423T181403
CREATED:20230118T222939Z
LAST-MODIFIED:20230118T222939Z
UID:3972-1674982800-1674990000@akronbugle.com
SUMMARY:Pancake Breakfast
DESCRIPTION:Pancake Breakfast – Akron Fire Hall\, Main Street\, Akron\, January 29\, 2023 beginning at 9:00 a.m.
URL:https://akronbugle.com/calendar/pancake-breakfast/
LOCATION:Akron Fire Hall\, 1 Main Street\, Akron\, NY\, 14001\, United States
CATEGORIES:Things to Do
END:VEVENT
BEGIN:VEVENT
DTSTART;TZID=America/New_York:20221231T233000
DTEND;TZID=America/New_York:20230101T003000
DTSTAMP:20260423T181403
CREATED:20221229T155344Z
LAST-MODIFIED:20221229T155344Z
UID:3930-1672529400-1672533000@akronbugle.com
SUMMARY:New Years Eve Celebration
DESCRIPTION:The Akron Celebration Committee is hosting New Year’s Eve in Russell Park again this year. The “Family Friendly” festivities begin at 11:30 p.m. with music\, hot cocoa and more. There will be a ball drop at midnight to welcome in 2023\, followed by an incredible fireworks display. This is an alcohol-free gathering and glass bottles are prohibited. \nThe event is funded entirely through donations. Without community support and our volunteers\, these traditions would not be possible. Donations can be made to the Akron Celebration Committee\, PO Box 16\, Akron NY 14001. The committee wishes everyone a safe and healthy 2023.
URL:https://akronbugle.com/calendar/new-years-eve-celebration/
LOCATION:Russell Park\, Main Street\, Akron\, NY\, 14001\, United States
CATEGORIES:Things to Do
END:VEVENT
BEGIN:VEVENT
DTSTART;TZID=America/New_York:20221210T100000
DTEND;TZID=America/New_York:20221210T190000
DTSTAMP:20260423T181403
CREATED:20221201T174614Z
LAST-MODIFIED:20221201T174614Z
UID:3845-1670666400-1670698800@akronbugle.com
SUMMARY:Light Up Akron
DESCRIPTION:Light Up Akron! Event – Russell Park and Main Street Akron – Tree lighting\, choral concert\, parade\, and more.  December 10\, Village of Akron\, NY.
URL:https://akronbugle.com/calendar/light-up-akron-3/
LOCATION:Downtown Akron\, Akron\, NY\, 14001
CATEGORIES:Things to Do
ATTACH;FMTTYPE=image/jpeg:https://akronbugle.com/wp-content/uploads/2020/11/MedDecoratedgazebo2020-11-24-05.47.08.jpg
END:VEVENT
BEGIN:VEVENT
DTSTART;TZID=America/New_York:20220917T160000
DTEND;TZID=America/New_York:20220917T210000
DTSTAMP:20260423T181403
CREATED:20220915T131404Z
LAST-MODIFIED:20220916T131608Z
UID:3696-1663430400-1663448400@akronbugle.com
SUMMARY:Annual Akron Lions Club Steak Dinner
DESCRIPTION:The Annual Akron Lions Club Steak Dinner is Saturday\, September 17 from 4 p.m. to 9 p.m. (Dinner served 5 to 8 p.m.) at the American Legion\, 9 Eckerson Avenue.  Purchase tickets online at www.akronlions.com or reserve at the Pre-Sale Price by e-mailing akronnylions@gmail.com.
URL:https://akronbugle.com/calendar/annual-akron-lions-club-steak-dinner/
LOCATION:American Legion LL Tillman Post 900\, 9 Eckerson Ave. Akron.\, 9 Eckerson Ave.\, Akron\, New York\, 14001
CATEGORIES:Things to Do
END:VEVENT
END:VCALENDAR