BEGIN:VCALENDAR
VERSION:2.0
PRODID:-//Akron Bugle - ECPv6.15.20//NONSGML v1.0//EN
CALSCALE:GREGORIAN
METHOD:PUBLISH
X-WR-CALNAME:Akron Bugle
X-ORIGINAL-URL:https://akronbugle.com
X-WR-CALDESC:Events for Akron Bugle
REFRESH-INTERVAL;VALUE=DURATION:PT1H
X-Robots-Tag:noindex
X-PUBLISHED-TTL:PT1H
BEGIN:VTIMEZONE
TZID:America/New_York
BEGIN:DAYLIGHT
TZOFFSETFROM:-0500
TZOFFSETTO:-0400
TZNAME:EDT
DTSTART:20210314T070000
END:DAYLIGHT
BEGIN:STANDARD
TZOFFSETFROM:-0400
TZOFFSETTO:-0500
TZNAME:EST
DTSTART:20211107T060000
END:STANDARD
BEGIN:DAYLIGHT
TZOFFSETFROM:-0500
TZOFFSETTO:-0400
TZNAME:EDT
DTSTART:20220313T070000
END:DAYLIGHT
BEGIN:STANDARD
TZOFFSETFROM:-0400
TZOFFSETTO:-0500
TZNAME:EST
DTSTART:20221106T060000
END:STANDARD
BEGIN:DAYLIGHT
TZOFFSETFROM:-0500
TZOFFSETTO:-0400
TZNAME:EDT
DTSTART:20230312T070000
END:DAYLIGHT
BEGIN:STANDARD
TZOFFSETFROM:-0400
TZOFFSETTO:-0500
TZNAME:EST
DTSTART:20231105T060000
END:STANDARD
BEGIN:DAYLIGHT
TZOFFSETFROM:-0500
TZOFFSETTO:-0400
TZNAME:EDT
DTSTART:20240310T070000
END:DAYLIGHT
BEGIN:STANDARD
TZOFFSETFROM:-0400
TZOFFSETTO:-0500
TZNAME:EST
DTSTART:20241103T060000
END:STANDARD
END:VTIMEZONE
BEGIN:VEVENT
DTSTART;TZID=America/New_York:20230125T190000
DTEND;TZID=America/New_York:20230125T210000
DTSTAMP:20260424T080339
CREATED:20230105T023050Z
LAST-MODIFIED:20230105T023050Z
UID:3950-1674673200-1674680400@akronbugle.com
SUMMARY:ACS Board of Education meeting
DESCRIPTION:Akron Central School Board of Education meeting – 47 Bloomingdale Ave.\, Akron 7:00 p.m.\, Wednesday\, January 25\, 2022.
URL:https://akronbugle.com/calendar/acs-board-of-education-meeting-3/
LOCATION:Akron Central School\, 47 Bloomingdale Ave.\, Akron\, NY\, 14001
CATEGORIES:Akron Central School
END:VEVENT
BEGIN:VEVENT
DTSTART;TZID=America/New_York:20230123T183000
DTEND;TZID=America/New_York:20230123T203000
DTSTAMP:20260424T080339
CREATED:20230105T021950Z
LAST-MODIFIED:20230105T022429Z
UID:3946-1674498600-1674505800@akronbugle.com
SUMMARY:Newstead Town Board Meeting
DESCRIPTION:Newstead Town Board Meeting – 5 Clarence Center Road\, Akron\, NY Work Session 6:45 p.m.; regular meeting 7:30 p.m. Monday\, January 23.
URL:https://akronbugle.com/calendar/newstead-town-board-meeting-18/
LOCATION:Newstead Town Hall\, 5 Clarence Center Road\, Akron\, NY\, 14001
CATEGORIES:Newstead Town Board,Village & Town Meetings
END:VEVENT
BEGIN:VEVENT
DTSTART;TZID=America/New_York:20230123T180000
DTEND;TZID=America/New_York:20230123T200000
DTSTAMP:20260424T080339
CREATED:20230105T022350Z
LAST-MODIFIED:20230105T022502Z
UID:3948-1674496800-1674504000@akronbugle.com
SUMMARY:Akron Village Board meeting
DESCRIPTION:Akron Village Board meeting – Monday\, January 23 at 6:00 p.m. Work Session; 7:00 p.m. meeting. Akron Village Hall\, 21 Main Street.
URL:https://akronbugle.com/calendar/akron-village-board-meeting-25/
LOCATION:Akron Village Hall\, 21 Main St.\, Akron\, NY\, 14001
CATEGORIES:Akron Village Board,Village & Town Meetings
END:VEVENT
BEGIN:VEVENT
DTSTART;TZID=America/New_York:20230111T190000
DTEND;TZID=America/New_York:20230111T203000
DTSTAMP:20260424T080339
CREATED:20230105T021638Z
LAST-MODIFIED:20230105T022608Z
UID:3944-1673463600-1673469000@akronbugle.com
SUMMARY:ACS Board of Education meeting
DESCRIPTION:Akron Central School Board of Education meeting – 47 Bloomingdale Ave.\, Akron 7:00 p.m.\, Wednesday\, January 11\, 2022.
URL:https://akronbugle.com/calendar/acs-board-of-education-meeting-2/
LOCATION:Akron Central School\, 47 Bloomingdale Ave.\, Akron\, NY\, 14001
CATEGORIES:Akron Central School
END:VEVENT
BEGIN:VEVENT
DTSTART;TZID=America/New_York:20230109T183000
DTEND;TZID=America/New_York:20230109T203000
DTSTAMP:20260424T080339
CREATED:20230105T021449Z
LAST-MODIFIED:20230105T022659Z
UID:3942-1673289000-1673296200@akronbugle.com
SUMMARY:Newstead Town Board meeting
DESCRIPTION:Newstead Town Board Meeting – 5 Clarence Center Road\, Akron\, NY Work Session 6:45 p.m.; regular meeting 7:30 p.m. Monday\, January 9.
URL:https://akronbugle.com/calendar/newstead-town-board-meeting-17/
LOCATION:Newstead Town Hall\, 5 Clarence Center Road\, Akron\, NY\, 14001
CATEGORIES:Newstead Town Board,Village & Town Meetings
END:VEVENT
BEGIN:VEVENT
DTSTART;TZID=America/New_York:20230109T180000
DTEND;TZID=America/New_York:20230109T200000
DTSTAMP:20260424T080339
CREATED:20230105T021229Z
LAST-MODIFIED:20230105T022742Z
UID:3940-1673287200-1673294400@akronbugle.com
SUMMARY:Akron Village Board meeting
DESCRIPTION:Akron Village Board meeting – Monday\, January 9 at 6:00 p.m. Work Session; 7:00 p.m. meeting. Akron Village Hall\, 21 Main Street.
URL:https://akronbugle.com/calendar/akron-village-board-meeting-24/
LOCATION:Akron Village Hall\, 21 Main St.\, Akron\, NY\, 14001
CATEGORIES:Akron Village Board,Village & Town Meetings
END:VEVENT
BEGIN:VEVENT
DTSTART;TZID=America/New_York:20221231T233000
DTEND;TZID=America/New_York:20230101T003000
DTSTAMP:20260424T080339
CREATED:20221229T155344Z
LAST-MODIFIED:20221229T155344Z
UID:3930-1672529400-1672533000@akronbugle.com
SUMMARY:New Years Eve Celebration
DESCRIPTION:The Akron Celebration Committee is hosting New Year’s Eve in Russell Park again this year. The “Family Friendly” festivities begin at 11:30 p.m. with music\, hot cocoa and more. There will be a ball drop at midnight to welcome in 2023\, followed by an incredible fireworks display. This is an alcohol-free gathering and glass bottles are prohibited. \nThe event is funded entirely through donations. Without community support and our volunteers\, these traditions would not be possible. Donations can be made to the Akron Celebration Committee\, PO Box 16\, Akron NY 14001. The committee wishes everyone a safe and healthy 2023.
URL:https://akronbugle.com/calendar/new-years-eve-celebration/
LOCATION:Russell Park\, Main Street\, Akron\, NY\, 14001\, United States
CATEGORIES:Things to Do
END:VEVENT
BEGIN:VEVENT
DTSTART;TZID=America/New_York:20221210T100000
DTEND;TZID=America/New_York:20221210T190000
DTSTAMP:20260424T080339
CREATED:20221201T174614Z
LAST-MODIFIED:20221201T174614Z
UID:3845-1670666400-1670698800@akronbugle.com
SUMMARY:Light Up Akron
DESCRIPTION:Light Up Akron! Event – Russell Park and Main Street Akron – Tree lighting\, choral concert\, parade\, and more.  December 10\, Village of Akron\, NY.
URL:https://akronbugle.com/calendar/light-up-akron-3/
LOCATION:Downtown Akron\, Akron\, NY\, 14001
CATEGORIES:Things to Do
ATTACH;FMTTYPE=image/jpeg:https://akronbugle.com/wp-content/uploads/2020/11/MedDecoratedgazebo2020-11-24-05.47.08.jpg
END:VEVENT
BEGIN:VEVENT
DTSTART;TZID=America/New_York:20221207T190000
DTEND;TZID=America/New_York:20221207T200000
DTSTAMP:20260424T080339
CREATED:20221201T174329Z
LAST-MODIFIED:20221201T174329Z
UID:3843-1670439600-1670443200@akronbugle.com
SUMMARY:Akron Central School Board of Education meeting
DESCRIPTION:Akron Central School Board of Education meeting – 47 Bloomingdale Ave.\, Akron 7:00 p.m.\, Wednesday\, December 7\, 2022.
URL:https://akronbugle.com/calendar/akron-central-school-board-of-education-meeting-5/
LOCATION:Akron Central School\, 47 Bloomingdale Ave.\, Akron\, NY\, 14001
END:VEVENT
BEGIN:VEVENT
DTSTART;TZID=America/New_York:20221205T180000
DTEND;TZID=America/New_York:20221205T200000
DTSTAMP:20260424T080339
CREATED:20221201T174133Z
LAST-MODIFIED:20221201T174133Z
UID:3841-1670263200-1670270400@akronbugle.com
SUMMARY:Akron Village Board Meeting
DESCRIPTION:Akron Village Board meeting – Monday\, December 5\, 6:00 p.m. Work Session\, 7:00 p.m. regular meeting. Akron Village Hall\, 21 Main Street.
URL:https://akronbugle.com/calendar/akron-village-board-meeting-23/
LOCATION:Akron Village Hall\, 21 Main St.\, Akron\, NY\, 14001
END:VEVENT
BEGIN:VEVENT
DTSTART;TZID=America/New_York:20221203T170000
DTEND;TZID=America/New_York:20221203T190000
DTSTAMP:20260424T080339
CREATED:20221201T173941Z
LAST-MODIFIED:20221201T173941Z
UID:3839-1670086800-1670094000@akronbugle.com
SUMMARY:Living Nativity Drive-Through
DESCRIPTION:Living Nativity Drive-through – Saturday\, December 3 beginning at 5 p.m.  Calvary Baptist Church\, Lewis Road\, Akron\, NY.
URL:https://akronbugle.com/calendar/living-nativity-drive-through/
LOCATION:Calvary Baptist Church\, Lewis Rd\, Akron\, NY\, 14001\, United States
END:VEVENT
BEGIN:VEVENT
DTSTART;TZID=America/New_York:20221121T190000
DTEND;TZID=America/New_York:20221121T203000
DTSTAMP:20260424T080339
CREATED:20221116T224530Z
LAST-MODIFIED:20221116T224530Z
UID:3810-1669057200-1669062600@akronbugle.com
SUMMARY:Akron Village Board Meeting
DESCRIPTION:Regular meeting.
URL:https://akronbugle.com/calendar/akron-village-board-meeting-22/
LOCATION:Akron Village Hall\, 21 Main St.\, Akron\, NY\, 14001
CATEGORIES:Akron Village Board,Village & Town Meetings
END:VEVENT
BEGIN:VEVENT
DTSTART;TZID=America/New_York:20220921T190000
DTEND;TZID=America/New_York:20220921T210000
DTSTAMP:20260424T080339
CREATED:20220825T134849Z
LAST-MODIFIED:20220825T134849Z
UID:3632-1663786800-1663794000@akronbugle.com
SUMMARY:Akron Central School Board of Education meeting
DESCRIPTION:Akron Central School Board of Education meeting – 47 Bloomingdale Ave.\, Akron 7:00 p.m.\, Wednesday\, September 21\, 2022.
URL:https://akronbugle.com/calendar/akron-central-school-board-of-education-meeting-4/
LOCATION:Akron Central School\, 47 Bloomingdale Ave.\, Akron\, NY\, 14001
CATEGORIES:Akron Central School
END:VEVENT
BEGIN:VEVENT
DTSTART;TZID=America/New_York:20220919T190000
DTEND;TZID=America/New_York:20220919T203000
DTSTAMP:20260424T080339
CREATED:20220825T134649Z
LAST-MODIFIED:20220825T134649Z
UID:3630-1663614000-1663619400@akronbugle.com
SUMMARY:Newstead Town Board Work Session
DESCRIPTION:Newstead Town Board Work Session – 5 Clarence Center Road\, Akron\, NY 7:00 p.m. Monday\, September 19.
URL:https://akronbugle.com/calendar/newstead-town-board-work-session-5/
LOCATION:Newstead Town Hall\, 5 Clarence Center Road\, Akron\, NY\, 14001
CATEGORIES:Newstead Town Board,Village & Town Meetings
END:VEVENT
BEGIN:VEVENT
DTSTART;TZID=America/New_York:20220919T190000
DTEND;TZID=America/New_York:20220919T203000
DTSTAMP:20260424T080339
CREATED:20220825T134405Z
LAST-MODIFIED:20220825T134405Z
UID:3628-1663614000-1663619400@akronbugle.com
SUMMARY:Akron Village Board meeting
DESCRIPTION:Akron Village Board meeting – Monday\, September 19\,  7:00 p.m. regular meeting. Akron Village Hall\, 21 Main Street.
URL:https://akronbugle.com/calendar/akron-village-board-meeting-21/
LOCATION:Akron Village Hall\, 21 Main St.\, Akron\, NY\, 14001
CATEGORIES:Akron Village Board,Village & Town Meetings
END:VEVENT
BEGIN:VEVENT
DTSTART;TZID=America/New_York:20220917T160000
DTEND;TZID=America/New_York:20220917T210000
DTSTAMP:20260424T080339
CREATED:20220915T131404Z
LAST-MODIFIED:20220916T131608Z
UID:3696-1663430400-1663448400@akronbugle.com
SUMMARY:Annual Akron Lions Club Steak Dinner
DESCRIPTION:The Annual Akron Lions Club Steak Dinner is Saturday\, September 17 from 4 p.m. to 9 p.m. (Dinner served 5 to 8 p.m.) at the American Legion\, 9 Eckerson Avenue.  Purchase tickets online at www.akronlions.com or reserve at the Pre-Sale Price by e-mailing akronnylions@gmail.com.
URL:https://akronbugle.com/calendar/annual-akron-lions-club-steak-dinner/
LOCATION:American Legion LL Tillman Post 900\, 9 Eckerson Ave. Akron.\, 9 Eckerson Ave.\, Akron\, New York\, 14001
CATEGORIES:Things to Do
END:VEVENT
BEGIN:VEVENT
DTSTART;TZID=America/New_York:20220917T090000
DTEND;TZID=America/New_York:20220917T160000
DTSTAMP:20260424T080339
CREATED:20220825T134030Z
LAST-MODIFIED:20220825T134030Z
UID:3626-1663405200-1663430400@akronbugle.com
SUMMARY:Akron Chamber of Commerce Super Cruise and Craft Show
DESCRIPTION:Akron Chamber of Commerce Super Cruise and Craft Show – Main Street Akron\, Saturday\, September 17.  9 a.m. to 4 p.m.
URL:https://akronbugle.com/calendar/akron-chamber-of-commerce-super-cruise-and-craft-show/
LOCATION:Downtown Akron\, Akron\, NY\, 14001
CATEGORIES:Things to Do
END:VEVENT
BEGIN:VEVENT
DTSTART;TZID=America/New_York:20220912T190000
DTEND;TZID=America/New_York:20220912T203000
DTSTAMP:20260424T080339
CREATED:20220825T122817Z
LAST-MODIFIED:20220825T122817Z
UID:3624-1663009200-1663014600@akronbugle.com
SUMMARY:Newstead Town Board Meeting
DESCRIPTION:Newstead Town Board Meeting – 5 Clarence Center Road\, Akron\, NY Work Session 6:45 p.m.\, Regular meeting 7:30 p.m. Monday\, September 12.
URL:https://akronbugle.com/calendar/newstead-town-board-meeting-15/
LOCATION:Newstead Town Hall\, 5 Clarence Center Road\, Akron\, NY\, 14001
CATEGORIES:Newstead Town Board,Village & Town Meetings
END:VEVENT
BEGIN:VEVENT
DTSTART;TZID=America/New_York:20220912T180000
DTEND;TZID=America/New_York:20220912T200000
DTSTAMP:20260424T080339
CREATED:20220825T122611Z
LAST-MODIFIED:20220825T122611Z
UID:3622-1663005600-1663012800@akronbugle.com
SUMMARY:Akron Village Board meeting
DESCRIPTION:Akron Village Board meeting – Monday\, September 12\, 6 p.m. Work Session\, 7:00 p.m. regular meeting.
URL:https://akronbugle.com/calendar/akron-village-board-meeting-20/
LOCATION:Akron Village Hall\, 21 Main St.\, Akron\, NY\, 14001
CATEGORIES:Akron Village Board,Village & Town Meetings
END:VEVENT
BEGIN:VEVENT
DTSTART;TZID=America/New_York:20220907T190000
DTEND;TZID=America/New_York:20220907T210000
DTSTAMP:20260424T080339
CREATED:20220825T122359Z
LAST-MODIFIED:20220825T122359Z
UID:3620-1662577200-1662584400@akronbugle.com
SUMMARY:Akron Central School Board of Education meeting
DESCRIPTION:Akron Central School Board of Education meeting – 47 Bloomingdale Ave.\, Akron 7:00 p.m.\, Wednesday\, September 7\, 2022.
URL:https://akronbugle.com/calendar/akron-central-school-board-of-education-meeting-3/
LOCATION:Akron Central School\, 47 Bloomingdale Ave.\, Akron\, NY\, 14001
CATEGORIES:Akron Central School
END:VEVENT
BEGIN:VEVENT
DTSTART;TZID=America/New_York:20220825T200000
DTEND;TZID=America/New_York:20220825T213000
DTSTAMP:20260424T080339
CREATED:20220825T122137Z
LAST-MODIFIED:20220825T122137Z
UID:3618-1661457600-1661463000@akronbugle.com
SUMMARY:Movie Nite at the Wright
DESCRIPTION:Movie Nite at the Wright – Sponsored by Akron First UMC Revive Youth\, August 25 – Hook\, 8 p.m.
URL:https://akronbugle.com/calendar/movie-nite-at-the-wright-3/
LOCATION:C. Dee Wright Community Center\, 11 Church St.\, Akron\, NY\, 14001
CATEGORIES:Things to Do
END:VEVENT
BEGIN:VEVENT
DTSTART;TZID=America/New_York:20220825T180000
DTEND;TZID=America/New_York:20220825T210000
DTSTAMP:20260424T080339
CREATED:20220825T121850Z
LAST-MODIFIED:20220825T121953Z
UID:3616-1661450400-1661461200@akronbugle.com
SUMMARY:Akron Chamber of Commerce Cruise Night
DESCRIPTION:LAST 2022 Akron Chamber of Commerce Cruise Night – Main Street Akron\, Thursday\, August 25 – Street\, Strip\, and Gassers  Night 6 to 9 p.m.
URL:https://akronbugle.com/calendar/akron-chamber-of-commerce-cruise-night-6/
LOCATION:Downtown Akron\, Akron\, NY\, 14001
CATEGORIES:Things to Do
END:VEVENT
BEGIN:VEVENT
DTSTART;TZID=America/New_York:20220818T203000
DTEND;TZID=America/New_York:20220818T220000
DTSTAMP:20260424T080339
CREATED:20220811T145837Z
LAST-MODIFIED:20220812T150333Z
UID:3600-1660854600-1660860000@akronbugle.com
SUMMARY:Movie Nite In Russell Park
DESCRIPTION:Movie Nite In Russell Park – Sponsored by Akron First UMC Revive Youth\, August 18 – ET\, Dusk.
URL:https://akronbugle.com/calendar/movie-nite-in-russell-park-4/
LOCATION:Russell Park\, Main Street\, Akron\, NY\, 14001\, United States
CATEGORIES:Things to Do
END:VEVENT
BEGIN:VEVENT
DTSTART;TZID=America/New_York:20220818T180000
DTEND;TZID=America/New_York:20220818T180000
DTSTAMP:20260424T080339
CREATED:20220811T143826Z
LAST-MODIFIED:20220812T145824Z
UID:3598-1660845600-1660845600@akronbugle.com
SUMMARY:Akron Chamber of Commerce Cruise Night
DESCRIPTION:Akron Chamber of Commerce Cruise Night – Main Street Akron\, Thursday\, August 18 – Off Road and 4×4 Night 6 to 9 p.m.
URL:https://akronbugle.com/calendar/akron-chamber-of-commerce-cruise-night-5/
LOCATION:Downtown Akron\, Akron\, NY\, 14001
CATEGORIES:Things to Do
END:VEVENT
BEGIN:VEVENT
DTSTART;TZID=America/New_York:20220817T190000
DTEND;TZID=America/New_York:20220817T210000
DTSTAMP:20260424T080339
CREATED:20220811T143100Z
LAST-MODIFIED:20220812T143238Z
UID:3596-1660762800-1660770000@akronbugle.com
SUMMARY:Akron Central School Board of Education meeting
DESCRIPTION:Akron Central School Board of Education meeting – 47 Bloomingdale Ave.\, Akron 7:00 p.m.\, Wednesday\, August 17\, 2022.
URL:https://akronbugle.com/calendar/akron-central-school-board-of-education-meeting-2/
LOCATION:Akron Central School\, 47 Bloomingdale Ave.\, Akron\, NY\, 14001
CATEGORIES:Akron Central School
END:VEVENT
BEGIN:VEVENT
DTSTART;TZID=America/New_York:20220814T090000
DTEND;TZID=America/New_York:20220814T160000
DTSTAMP:20260424T080339
CREATED:20220811T142819Z
LAST-MODIFIED:20220812T143021Z
UID:3594-1660467600-1660492800@akronbugle.com
SUMMARY:Rummage and Community Garage Sale
DESCRIPTION:Rummage and Community Garage Sale – to benefit Limerick School Restoration\, 6074 Cummings Rd. Akron August 13 and 14 from 9 – 4
URL:https://akronbugle.com/calendar/rummage-and-community-garage-sale-2/
LOCATION:Limerick Hall\, 12579 Clarence Center Road\, Akron\, NY\, 14001\, United States
CATEGORIES:Things to Do
END:VEVENT
BEGIN:VEVENT
DTSTART;TZID=America/New_York:20220813T090000
DTEND;TZID=America/New_York:20220813T090000
DTSTAMP:20260424T080339
CREATED:20220812T142736Z
LAST-MODIFIED:20220812T142810Z
UID:3592-1660381200-1660381200@akronbugle.com
SUMMARY:Rummage and Community Garage Sale
DESCRIPTION:Rummage and Community Garage Sale – to benefit Limerick School Restoration\, 6074 Cummings Rd. Akron August 13 and 14 from 9 – 4.
URL:https://akronbugle.com/calendar/rummage-and-community-garage-sale/
LOCATION:Limerick Hall\, 12579 Clarence Center Road\, Akron\, NY\, 14001\, United States
CATEGORIES:Things to Do
END:VEVENT
BEGIN:VEVENT
DTSTART;TZID=America/New_York:20220812T200000
DTEND;TZID=America/New_York:20220812T213000
DTSTAMP:20260424T080339
CREATED:20220812T142435Z
LAST-MODIFIED:20220812T142435Z
UID:3590-1660334400-1660339800@akronbugle.com
SUMMARY:Akron Community Band Concert
DESCRIPTION:Akron Community Band Concert – Russell Park Gazebo\, Main Street\, Akron.  8 p.m. Friday\, August 12.  Eighth of eight 2022 summer concerts sponsored by the Town of Newstead\, Village of Akron\, and County of Erie.
URL:https://akronbugle.com/calendar/akron-community-band-concert-14/
LOCATION:Russell Park\, Main Street\, Akron\, NY\, 14001\, United States
END:VEVENT
BEGIN:VEVENT
DTSTART;TZID=America/New_York:20220805T200000
DTEND;TZID=America/New_York:20220805T213000
DTSTAMP:20260424T080339
CREATED:20220728T214830Z
LAST-MODIFIED:20220729T215035Z
UID:3549-1659729600-1659735000@akronbugle.com
SUMMARY:Akron Community Band Concert
DESCRIPTION:Akron Community Band Concert – Russell Park Gazebo\, Main Street\, Akron.  8 p.m. Friday\, August 5.  No admission charge.  Sponsored by the Village of Akron\, Town of Newstead\, and County of Erie.
URL:https://akronbugle.com/calendar/akron-community-band-concert-13/
LOCATION:Russell Park\, Main Street\, Akron\, NY\, 14001\, United States
CATEGORIES:Things to Do
END:VEVENT
BEGIN:VEVENT
DTSTART;TZID=America/New_York:20220804T210000
DTEND;TZID=America/New_York:20220804T223000
DTSTAMP:20260424T080339
CREATED:20220728T214631Z
LAST-MODIFIED:20220729T214820Z
UID:3547-1659646800-1659652200@akronbugle.com
SUMMARY:Movie Nite in Russell Park
DESCRIPTION:Movie Nite In Russell Park – Sponsored by Akron First UMC Revive Youth\, August 4 – Ghost Busters\, Dusk.
URL:https://akronbugle.com/calendar/movie-nite-in-russell-park-3/
LOCATION:Russell Park\, Main Street\, Akron\, NY\, 14001\, United States
CATEGORIES:Things to Do
END:VEVENT
END:VCALENDAR