BEGIN:VCALENDAR
VERSION:2.0
PRODID:-//Akron Bugle - ECPv6.15.20//NONSGML v1.0//EN
CALSCALE:GREGORIAN
METHOD:PUBLISH
X-WR-CALNAME:Akron Bugle
X-ORIGINAL-URL:https://akronbugle.com
X-WR-CALDESC:Events for Akron Bugle
REFRESH-INTERVAL;VALUE=DURATION:PT1H
X-Robots-Tag:noindex
X-PUBLISHED-TTL:PT1H
BEGIN:VTIMEZONE
TZID:America/New_York
BEGIN:DAYLIGHT
TZOFFSETFROM:-0500
TZOFFSETTO:-0400
TZNAME:EDT
DTSTART:20200308T070000
END:DAYLIGHT
BEGIN:STANDARD
TZOFFSETFROM:-0400
TZOFFSETTO:-0500
TZNAME:EST
DTSTART:20201101T060000
END:STANDARD
BEGIN:DAYLIGHT
TZOFFSETFROM:-0500
TZOFFSETTO:-0400
TZNAME:EDT
DTSTART:20210314T070000
END:DAYLIGHT
BEGIN:STANDARD
TZOFFSETFROM:-0400
TZOFFSETTO:-0500
TZNAME:EST
DTSTART:20211107T060000
END:STANDARD
BEGIN:DAYLIGHT
TZOFFSETFROM:-0500
TZOFFSETTO:-0400
TZNAME:EDT
DTSTART:20220313T070000
END:DAYLIGHT
BEGIN:STANDARD
TZOFFSETFROM:-0400
TZOFFSETTO:-0500
TZNAME:EST
DTSTART:20221106T060000
END:STANDARD
BEGIN:DAYLIGHT
TZOFFSETFROM:-0500
TZOFFSETTO:-0400
TZNAME:EDT
DTSTART:20230312T070000
END:DAYLIGHT
BEGIN:STANDARD
TZOFFSETFROM:-0400
TZOFFSETTO:-0500
TZNAME:EST
DTSTART:20231105T060000
END:STANDARD
END:VTIMEZONE
BEGIN:VEVENT
DTSTART;TZID=America/New_York:20220630T180000
DTEND;TZID=America/New_York:20220630T210000
DTSTAMP:20260424T111527
CREATED:20220630T192300Z
LAST-MODIFIED:20220630T192300Z
UID:3445-1656612000-1656622800@akronbugle.com
SUMMARY:Akron Chamber of Commerce Cruise Night
DESCRIPTION:Akron Chamber of Commerce Cruise Night – Main Street Akron\, Thursday\, June 30 – Volkswagen Night 6 to 9 p.m.
URL:https://akronbugle.com/calendar/akron-chamber-of-commerce-cruise-night-2/
LOCATION:Downtown Akron\, Akron\, NY\, 14001
CATEGORIES:Things to Do
END:VEVENT
BEGIN:VEVENT
DTSTART;TZID=America/New_York:20220618T090000
DTEND;TZID=America/New_York:20220618T150000
DTSTAMP:20260424T111527
CREATED:20220610T140632Z
LAST-MODIFIED:20220610T140632Z
UID:3383-1655542800-1655564400@akronbugle.com
SUMMARY:Annual Sidewalk Sale and Craft Show
DESCRIPTION:Akron Chamber of Commerce Annual Sidewalk Sale and Craft Show – Main Street and Russell Park\, Akron.  June 18 from 9 a.m. to 3:00 p.m. Main St.\, Akron\, NY.
URL:https://akronbugle.com/calendar/annual-sidewalk-sale-and-craft-show/
LOCATION:Downtown Akron\, Akron\, NY\, 14001
CATEGORIES:Things to Do
END:VEVENT
BEGIN:VEVENT
DTSTART;TZID=America/New_York:20220617T200000
DTEND;TZID=America/New_York:20220617T213000
DTSTAMP:20260424T111527
CREATED:20220610T140350Z
LAST-MODIFIED:20220610T140350Z
UID:3381-1655496000-1655501400@akronbugle.com
SUMMARY:Akron Community Band Concert
DESCRIPTION:Akron Community Band Concert – Russell Park Gazebo\, Main Street\, Akron.  8 p.m. Friday\, June 17.
URL:https://akronbugle.com/calendar/akron-community-band-concert-7/
LOCATION:Russell Park\, Main Street\, Akron\, NY\, 14001\, United States
CATEGORIES:Things to Do
END:VEVENT
BEGIN:VEVENT
DTSTART;TZID=America/New_York:20220616T180000
DTEND;TZID=America/New_York:20220616T210000
DTSTAMP:20260424T111527
CREATED:20220610T131336Z
LAST-MODIFIED:20220610T131336Z
UID:3379-1655402400-1655413200@akronbugle.com
SUMMARY:Akron Chamber of Commerce Cruise Night
DESCRIPTION:Akron Chamber of Commerce Cruise Night – Main Street Akron\, Thursday\, June 16 – Truck Night 6 to 9 p.m.
URL:https://akronbugle.com/calendar/akron-chamber-of-commerce-cruise-night/
LOCATION:NY
CATEGORIES:Things to Do
END:VEVENT
BEGIN:VEVENT
DTSTART;TZID=America/New_York:20220613T190000
DTEND;TZID=America/New_York:20220613T203000
DTSTAMP:20260424T111527
CREATED:20220610T131110Z
LAST-MODIFIED:20220610T131110Z
UID:3377-1655146800-1655152200@akronbugle.com
SUMMARY:Newstead Town Board
DESCRIPTION:Newstead Town Board – Work Session 6:45 p.m.\, Regular meeting 7:30 p.m.\, Monday\, June 13\, 2022\, 5 Clarence Center Rd.\, Akron\, NY.
URL:https://akronbugle.com/calendar/newstead-town-board-5/
LOCATION:Newstead Town Hall\, 5 Clarence Center Road\, Akron\, NY\, 14001
CATEGORIES:Newstead Town Board
END:VEVENT
BEGIN:VEVENT
DTSTART;TZID=America/New_York:20220611T103000
DTEND;TZID=America/New_York:20220611T113000
DTSTAMP:20260424T111527
CREATED:20220610T130823Z
LAST-MODIFIED:20220610T130823Z
UID:3375-1654943400-1654947000@akronbugle.com
SUMMARY:Akron Celebration Committee meeting
DESCRIPTION:Akron Celebration Committee – meeting June 11\, at 10:30 a.m. in the Newstead Public Library\, Main Street\, Akron.
URL:https://akronbugle.com/calendar/akron-celebration-committee-meeting/
LOCATION:Newstead Public Library\, 33 Main St.\, Akron\, NY\, 14001
END:VEVENT
BEGIN:VEVENT
DTSTART;TZID=America/New_York:20220528T080000
DTEND;TZID=America/New_York:20220528T160000
DTSTAMP:20260424T111527
CREATED:20220314T142727Z
LAST-MODIFIED:20220314T142727Z
UID:3156-1653724800-1653753600@akronbugle.com
SUMMARY:Memorial Day Flea Market
DESCRIPTION:St. Teresa’s Women’s Guild \nMemorial Day Flea Market \nVENDORS WANTED!! \n\nAre you loooking to sell your unwanted items?  \nPerhaps you are a baker or jewelry maker looking to sell your products? \nWell\, look no further cause this is the PLACE to be!! \n\nSaturday\, May 28\, 2022 \n8 AM – 4 PM \n\nSt Teresa of Avila Church \n5771 Buell Rd. \nAkron\, NY 14001 \n\n Cost: $20 outdoors (20 x 20 space) or $30 indoors \nTables can be provided for an extra $5 each \n\n\nCall  542.2010 or 462.2883 to reserve your space. \nBake Sale\, Food\, Raffles\, Fun \n RAIN or SHINE
URL:https://akronbugle.com/calendar/memorial-day-flea-market/
LOCATION:St. Teresa of Avilia Church\, Akron\, NY\, 5771 Buell Rd.\, Akron\, NY\, 14001\, United States
CATEGORIES:Things to Do
END:VEVENT
BEGIN:VEVENT
DTSTART;TZID=America/New_York:20220525T190000
DTEND;TZID=America/New_York:20220525T203000
DTSTAMP:20260424T111527
CREATED:20220429T200137Z
LAST-MODIFIED:20220429T200137Z
UID:3293-1653505200-1653510600@akronbugle.com
SUMMARY:Akron Central School Board of Education
DESCRIPTION:Akron Central School Board of Education – workshop/business meeting Wednesday\, May 25\, 2022\, 7 p.m. High School Cafeteria\, 47 Bloomingdale Ave.\, Akron\, NY.
URL:https://akronbugle.com/calendar/akron-central-school-board-of-education-2/
LOCATION:Akron Central School\, 47 Bloomingdale Ave.\, Akron\, NY\, 14001
END:VEVENT
BEGIN:VEVENT
DTSTART;TZID=America/New_York:20220516T190000
DTEND;TZID=America/New_York:20220516T203000
DTSTAMP:20260424T111527
CREATED:20220429T200002Z
LAST-MODIFIED:20220429T200002Z
UID:3291-1652727600-1652733000@akronbugle.com
SUMMARY:Newstead Town Board work session
DESCRIPTION:Newstead Town Board – Work Session 7:00 p.m.\, Monday\, May 16\, 2022\, 5 Clarence Center Rd.\, Akron\, NY.
URL:https://akronbugle.com/calendar/newstead-town-board-work-session-4/
LOCATION:Newstead Town Hall\, 5 Clarence Center Road\, Akron\, NY\, 14001
END:VEVENT
BEGIN:VEVENT
DTSTART;TZID=America/New_York:20220516T190000
DTEND;TZID=America/New_York:20220516T203000
DTSTAMP:20260424T111527
CREATED:20220429T195831Z
LAST-MODIFIED:20220429T195831Z
UID:3289-1652727600-1652733000@akronbugle.com
SUMMARY:Akron Village Board meeting
DESCRIPTION:Akron Village Board –Meeting 7 p.m.\, Monday\, May 16\, at 21 Main Street\, Akron\, NY.
URL:https://akronbugle.com/calendar/akron-village-board-meeting-17/
LOCATION:Akron Village Hall\, 21 Main St.\, Akron\, NY\, 14001
CATEGORIES:Akron Village Board,Village & Town Meetings
END:VEVENT
BEGIN:VEVENT
DTSTART;TZID=America/New_York:20220514T090000
DTEND;TZID=America/New_York:20220514T160000
DTSTAMP:20260424T111527
CREATED:20220314T151229Z
LAST-MODIFIED:20220314T151229Z
UID:3160-1652518800-1652544000@akronbugle.com
SUMMARY:May's Spring Fling Basket Raffle/Vendor Show
DESCRIPTION:“May’s Spring Fling Basket Raffle/Vendor Show \nVendors – Sign up now\, while there are still spots to be had!  $20 per outdoor spot 12X12 and few indoor spaces still available at this time $25 for a table. For a vendor application: Email limerickschool@outlook.com or call Kelly Stenshorn-Brown at 716-908-6812 for more information. \nSpring Fling 2022: \nMORNING – Coffee\, Tea and Paula’s delicious donuts will be sold. \nLUNCHTIME – The OH-SO-popular Babz BBQ for sale. \nBASKET RAFFLE – Questions? Please contact Pat Popielski at 716-542-4947. Basket Drawing at 3 PM – no need to be present to win. \n 
URL:https://akronbugle.com/calendar/mays-spring-fling-basket-raffle-vendor-show/
LOCATION:Limerick Hall\, 12579 Clarence Center Road\, Akron\, NY\, 14001\, United States
END:VEVENT
BEGIN:VEVENT
DTSTART;TZID=America/New_York:20220510T190000
DTEND;TZID=America/New_York:20220510T190000
DTSTAMP:20260424T111527
CREATED:20220429T195540Z
LAST-MODIFIED:20220429T195540Z
UID:3287-1652209200-1652209200@akronbugle.com
SUMMARY:Akron Central School Board of Education Budget Hearing
DESCRIPTION:Akron Central School Board of Education – Budget Hearing/meet the candidates workshop/business meeting Tuesday\, May 10\, 2022\, 7 p.m. Edward Allen Auditorium\, 47 Bloomingdale Ave.\, Akron\, NY.
URL:https://akronbugle.com/calendar/akron-central-school-board-of-education-budget-hearing/
LOCATION:Akron Central School\, 47 Bloomingdale Ave.\, Akron\, NY\, 14001
CATEGORIES:Akron Central School
END:VEVENT
BEGIN:VEVENT
DTSTART;TZID=America/New_York:20220509T183000
DTEND;TZID=America/New_York:20220609T200000
DTSTAMP:20260424T111527
CREATED:20220429T195328Z
LAST-MODIFIED:20220429T195328Z
UID:3285-1652121000-1654804800@akronbugle.com
SUMMARY:Newstead Town Board meeting
DESCRIPTION:Work Session 6:45 p.m.\, Regular meeting 7:30 p.m.\, Monday\, May 9\, 2022\, 5 Clarence Center Rd.\, Akron\, NY. \n 
URL:https://akronbugle.com/calendar/newstead-town-board-meeting-13/
LOCATION:Newstead Town Hall\, 5 Clarence Center Road\, Akron\, NY\, 14001
CATEGORIES:Newstead Town Board,Village & Town Meetings
END:VEVENT
BEGIN:VEVENT
DTSTART;TZID=America/New_York:20220507T183000
DTEND;TZID=America/New_York:20220507T210000
DTSTAMP:20260424T111527
CREATED:20220429T195013Z
LAST-MODIFIED:20220430T184806Z
UID:3283-1651948200-1651957200@akronbugle.com
SUMMARY:Movie Nite at the Wright
DESCRIPTION:“The Princess Bride” – Movie Nite at the Wright – C Dee Wright Community Ministry Center\, 11 Church Street\, May 7 at 6:30 p.m.
URL:https://akronbugle.com/calendar/movie-nite-at-the-wright-2/
LOCATION:C. Dee Wright Community Center\, 11 Church St.\, Akron\, NY\, 14001
CATEGORIES:Things to Do
END:VEVENT
BEGIN:VEVENT
DTSTART;TZID=America/New_York:20220502T190000
DTEND;TZID=America/New_York:20220502T203000
DTSTAMP:20260424T111527
CREATED:20220429T194723Z
LAST-MODIFIED:20220429T194723Z
UID:3281-1651518000-1651523400@akronbugle.com
SUMMARY:Newstead Town Board work session
DESCRIPTION:Work Session 7:00 p.m.\, Monday\, May 2\, 2022\, 5 Clarence Center Rd.\, Akron\, NY.
URL:https://akronbugle.com/calendar/newstead-town-board-work-session-3/
LOCATION:Newstead Town Hall\, 5 Clarence Center Road\, Akron\, NY\, 14001
END:VEVENT
BEGIN:VEVENT
DTSTART;TZID=America/New_York:20220502T180000
DTEND;TZID=America/New_York:20220502T200000
DTSTAMP:20260424T111527
CREATED:20220429T192250Z
LAST-MODIFIED:20220429T192250Z
UID:3279-1651514400-1651521600@akronbugle.com
SUMMARY:Akron Village Board meeting
DESCRIPTION:Work Session 6:00 p.m.\, Meeting 7 p.m.\, Monday\, May 2\, at 21 Main Street\, Akron\, NY.
URL:https://akronbugle.com/calendar/akron-village-board-meeting-16/
LOCATION:Akron Village Hall\, 21 Main St.\, Akron\, NY\, 14001
END:VEVENT
BEGIN:VEVENT
DTSTART;TZID=America/New_York:20220430T090000
DTEND;TZID=America/New_York:20220430T123000
DTSTAMP:20260424T111527
CREATED:20220429T192028Z
LAST-MODIFIED:20220429T192028Z
UID:3277-1651309200-1651321800@akronbugle.com
SUMMARY:Food Drive for Akron-Newstead Food Pantry
DESCRIPTION:sponsored by Akron Central High School Interact and the Rotary Club of Akron Newstead April 30 from 9 a.m. to 12 p.m. Door to door to pick up (have on your doorstep by 9 a.m.) or drop off at the shelter of Russell Park during those hours.
URL:https://akronbugle.com/calendar/food-drive-for-akron-newstead-food-pantry/
LOCATION:NY
CATEGORIES:Akron Central School,Things to Do
END:VEVENT
BEGIN:VEVENT
DTSTART;TZID=America/New_York:20220404T190000
DTEND;TZID=America/New_York:20220404T210000
DTSTAMP:20260424T111527
CREATED:20220330T211532Z
LAST-MODIFIED:20220330T211532Z
UID:3190-1649098800-1649106000@akronbugle.com
SUMMARY:Newstead Town Board work session
DESCRIPTION:Newstead Town Board – Work Session 7:00 p.m.\, Monday\, April 4\, 2022\, 5 Clarence Center Rd.\, Akron\, NY.
URL:https://akronbugle.com/calendar/newstead-town-board-work-session-2/
LOCATION:Newstead Town Hall\, 5 Clarence Center Road\, Akron\, NY\, 14001
CATEGORIES:Newstead Town Board,Village & Town Meetings
END:VEVENT
BEGIN:VEVENT
DTSTART;TZID=America/New_York:20220404T180000
DTEND;TZID=America/New_York:20220404T203000
DTSTAMP:20260424T111527
CREATED:20220330T211742Z
LAST-MODIFIED:20220330T211742Z
UID:3192-1649095200-1649104200@akronbugle.com
SUMMARY:Akron Village Board meeting
DESCRIPTION:Akron Village Board – Work Session 6:00 p.m.\, Meeting 7 p.m.\, Monday\, April 4\, at 21 Main Street\, Akron\, NY.
URL:https://akronbugle.com/calendar/akron-village-board-meeting-15/
LOCATION:Akron Village Hall\, 21 Main St.\, Akron\, NY\, 14001
CATEGORIES:Akron Village Board,Village & Town Meetings
END:VEVENT
BEGIN:VEVENT
DTSTART;TZID=America/New_York:20220402T183000
DTEND;TZID=America/New_York:20220402T203000
DTSTAMP:20260424T111527
CREATED:20220330T211249Z
LAST-MODIFIED:20220330T211249Z
UID:3188-1648924200-1648931400@akronbugle.com
SUMMARY:Movie Nite at the Wright
DESCRIPTION:“The Passion of the Christ”  – Movie Nite at the Wright – C Dee Wright Community Ministry Center\, 11 Church Street\, April 2 at 6:30 p.m.
URL:https://akronbugle.com/calendar/movie-nite-at-the-wright/
LOCATION:C. Dee Wright Community Center\, 11 Church St.\, Akron\, NY\, 14001
CATEGORIES:Things to Do
END:VEVENT
BEGIN:VEVENT
DTSTART;TZID=America/New_York:20220228T190000
DTEND;TZID=America/New_York:20220228T200000
DTSTAMP:20260424T111527
CREATED:20220224T020901Z
LAST-MODIFIED:20220224T020901Z
UID:3140-1646074800-1646078400@akronbugle.com
SUMMARY:Akron Village Board Meeting
DESCRIPTION:Akron Village Board –Meeting 7 p.m.\, Monday\, February 28\, at 21 Main Street\, Akron\, NY.
URL:https://akronbugle.com/calendar/akron-village-board-meeting-14/
LOCATION:Akron Village Hall\, 21 Main St.\, Akron\, NY\, 14001
CATEGORIES:Akron Village Board,Village & Town Meetings
ATTACH;FMTTYPE=image/jpeg:https://akronbugle.com/wp-content/uploads/2020/04/VillageHall-WEB9725-e1586373585875.jpg
END:VEVENT
BEGIN:VEVENT
DTSTART;TZID=America/New_York:20220228T183000
DTEND;TZID=America/New_York:20220228T203000
DTSTAMP:20260424T111527
CREATED:20220224T021224Z
LAST-MODIFIED:20220224T021224Z
UID:3142-1646073000-1646080200@akronbugle.com
SUMMARY:Newstead Town Board Meeting
DESCRIPTION:Newstead Town Board – Work Session 6:45 p.m.\, Meeting 7:30 p.m.\, Monday\, February 28\, 2022\, 5 Clarence Center Rd.\, Akron\, NY.
URL:https://akronbugle.com/calendar/newstead-town-board-meeting-12/
LOCATION:Newstead Town Hall\, 5 Clarence Center Road\, Akron\, NY\, 14001
CATEGORIES:Newstead Town Board,Village & Town Meetings
ATTACH;FMTTYPE=image/jpeg:https://akronbugle.com/wp-content/uploads/2020/11/townlogo.jpg
END:VEVENT
BEGIN:VEVENT
DTSTART;TZID=America/New_York:20220215T183000
DTEND;TZID=America/New_York:20220215T203000
DTSTAMP:20260424T111527
CREATED:20220215T175251Z
LAST-MODIFIED:20220215T175251Z
UID:3128-1644949800-1644957000@akronbugle.com
SUMMARY:Newstead Bicentennial Committee meeting
DESCRIPTION:Tuesday\, February 15 at 6:30 p.m. at the Newstead Town Hall\, 5 Clarence Center Road\, Akron\, NY – All are welcome to attend!
URL:https://akronbugle.com/calendar/newstead-bicentennial-committee-meeting/
LOCATION:Newstead Town Hall\, 5 Clarence Center Road\, Akron\, NY\, 14001
CATEGORIES:Village & Town Meetings
ATTACH;FMTTYPE=image/jpeg:https://akronbugle.com/wp-content/uploads/2020/11/townlogo.jpg
END:VEVENT
BEGIN:VEVENT
DTSTART;TZID=America/New_York:20220207T180000
DTEND;TZID=America/New_York:20220207T200000
DTSTAMP:20260424T111527
CREATED:20220126T200809Z
LAST-MODIFIED:20220126T200809Z
UID:3084-1644256800-1644264000@akronbugle.com
SUMMARY:Akron Village Board meeting
DESCRIPTION:Akron Village Board – Work Session 6:00 p.m.\, Meeting 7 p.m.\, Monday\, February 7\, at 21 Main Street\, Akron\, NY.
URL:https://akronbugle.com/calendar/akron-village-board-meeting-13/
LOCATION:Akron Village Hall\, 21 Main St.\, Akron\, NY\, 14001
CATEGORIES:Akron Village Board,Village & Town Meetings
ATTACH;FMTTYPE=image/jpeg:https://akronbugle.com/wp-content/uploads/2020/04/IMG_7974.jpg
END:VEVENT
BEGIN:VEVENT
DTSTART;TZID=America/New_York:20220205T183000
DTEND;TZID=America/New_York:20220205T203000
DTSTAMP:20260424T111527
CREATED:20220126T200213Z
LAST-MODIFIED:20220126T200213Z
UID:3082-1644085800-1644093000@akronbugle.com
SUMMARY:Movie Night at the Wright
DESCRIPTION:Movie Night at the C. Dee Wright Community Ministry Center\, 11 Church Street\, Saturday\, February 5.  Shrek on screen. All Welcome.
URL:https://akronbugle.com/calendar/movie-night-at-the-wright/
LOCATION:C. Dee Wright Community Center\, 11 Church St.\, Akron\, NY\, 14001
CATEGORIES:Things to Do
END:VEVENT
BEGIN:VEVENT
DTSTART;TZID=America/New_York:20220115T190000
DTEND;TZID=America/New_York:20220115T210000
DTSTAMP:20260424T111527
CREATED:20220114T165102Z
LAST-MODIFIED:20220114T165102Z
UID:3058-1642273200-1642280400@akronbugle.com
SUMMARY:Heenan Brothers featured at Wright Center
DESCRIPTION:The Wright Entertainment Series at the C. Dee Wright Community Ministry Center\, 11 Church Street\, continues January 15 at 7 p.m. as the Heenan Brothers perform. \nAll are invited to come for an evening of Americana music full of folky\, bluesy music with a touch of Canal Blues.  Betty’s Bistro will be open for specialty coffee. \nMovie Night at the Wright is planned at 6:30 p.m. on Saturday\, February 5.  All are invited to come enjoy an evening with Shrek.
URL:https://akronbugle.com/calendar/heenan-brothers-featured-at-wright-center/
LOCATION:C. Dee Wright Community Center\, 11 Church St.\, Akron\, NY\, 14001
CATEGORIES:Things to Do
ATTACH;FMTTYPE=image/jpeg:https://akronbugle.com/wp-content/uploads/2022/01/WrightNight.jpg
END:VEVENT
BEGIN:VEVENT
DTSTART;TZID=America/New_York:20220112T190000
DTEND;TZID=America/New_York:20220112T210000
DTSTAMP:20260424T111527
CREATED:20220101T154551Z
LAST-MODIFIED:20220101T154551Z
UID:3020-1642014000-1642021200@akronbugle.com
SUMMARY:ACS Board of Education Meeting
DESCRIPTION:Wednesday\, January 12\, 2022\, at 7 p.m.  47 Bloomingdale Ave.\, Akron\, NY.
URL:https://akronbugle.com/calendar/acs-board-of-education-meeting/
LOCATION:Akron Central School\, 47 Bloomingdale Ave.\, Akron\, NY\, 14001
CATEGORIES:Akron Central School
END:VEVENT
BEGIN:VEVENT
DTSTART;TZID=America/New_York:20220103T190000
DTEND;TZID=America/New_York:20220103T203000
DTSTAMP:20260424T111527
CREATED:20220101T154328Z
LAST-MODIFIED:20220101T154639Z
UID:3018-1641236400-1641241800@akronbugle.com
SUMMARY:Newstead Town Board meeting
DESCRIPTION:Swearing In of newly elected officials and Organizational Meeting for 2022 – 7:00 p.m.\, Monday\, January 3\, 2022\, 5 Clarence Center Rd.\, Akron\, NY.
URL:https://akronbugle.com/calendar/newstead-town-board-meeting-11/
LOCATION:Newstead Town Hall\, 5 Clarence Center Road\, Akron\, NY\, 14001
CATEGORIES:Newstead Town Board,Village & Town Meetings
END:VEVENT
BEGIN:VEVENT
DTSTART;TZID=America/New_York:20220103T180000
DTEND;TZID=America/New_York:20220103T200000
DTSTAMP:20260424T111527
CREATED:20220101T154110Z
LAST-MODIFIED:20220101T154720Z
UID:3016-1641232800-1641240000@akronbugle.com
SUMMARY:Akron Village Board meeting
DESCRIPTION:Work Session 6 p.m.\, Meeting 7 p.m.
URL:https://akronbugle.com/calendar/akron-village-board-meeting-12/
LOCATION:Akron Village Hall\, 21 Main St.\, Akron\, NY\, 14001
CATEGORIES:Akron Village Board,Village & Town Meetings
END:VEVENT
BEGIN:VEVENT
DTSTART;TZID=America/New_York:20211231T233000
DTEND;TZID=America/New_York:20220101T003000
DTSTAMP:20260424T111527
CREATED:20211230T224742Z
LAST-MODIFIED:20211230T224742Z
UID:3003-1640993400-1640997000@akronbugle.com
SUMMARY:New Year's Eve Ball Drop
DESCRIPTION:The Akron Celebration Committee is happy to bring back New Year’s Eve in Russell Park. The “Family Friendly” festivities begin at 11:30 p.m. with music\, hats and more. There will be a ball drop at midnight to welcome in 2022\, followed by an incredible fireworks display. This is an alcohol-free gathering and glass bottles are prohibited. \nThe event is funded entirely through donations. Without community support and our volunteers\, these traditions would not be possible. Donations can be made to the Akron Celebration Committee\, PO Box 16\, Akron NY 14001. We wish everyone a safe and healthy 2022.
URL:https://akronbugle.com/calendar/new-years-eve-ball-drop/
LOCATION:Russell Park\, Main Street\, Akron\, NY\, 14001\, United States
CATEGORIES:Things to Do
END:VEVENT
END:VCALENDAR