BEGIN:VCALENDAR
VERSION:2.0
PRODID:-//Akron Bugle - ECPv6.15.20//NONSGML v1.0//EN
CALSCALE:GREGORIAN
METHOD:PUBLISH
X-WR-CALNAME:Akron Bugle
X-ORIGINAL-URL:https://akronbugle.com
X-WR-CALDESC:Events for Akron Bugle
REFRESH-INTERVAL;VALUE=DURATION:PT1H
X-Robots-Tag:noindex
X-PUBLISHED-TTL:PT1H
BEGIN:VTIMEZONE
TZID:America/New_York
BEGIN:DAYLIGHT
TZOFFSETFROM:-0500
TZOFFSETTO:-0400
TZNAME:EDT
DTSTART:20200308T070000
END:DAYLIGHT
BEGIN:STANDARD
TZOFFSETFROM:-0400
TZOFFSETTO:-0500
TZNAME:EST
DTSTART:20201101T060000
END:STANDARD
BEGIN:DAYLIGHT
TZOFFSETFROM:-0500
TZOFFSETTO:-0400
TZNAME:EDT
DTSTART:20210314T070000
END:DAYLIGHT
BEGIN:STANDARD
TZOFFSETFROM:-0400
TZOFFSETTO:-0500
TZNAME:EST
DTSTART:20211107T060000
END:STANDARD
BEGIN:DAYLIGHT
TZOFFSETFROM:-0500
TZOFFSETTO:-0400
TZNAME:EDT
DTSTART:20220313T070000
END:DAYLIGHT
BEGIN:STANDARD
TZOFFSETFROM:-0400
TZOFFSETTO:-0500
TZNAME:EST
DTSTART:20221106T060000
END:STANDARD
END:VTIMEZONE
BEGIN:VEVENT
DTSTART;TZID=America/New_York:20211108T190000
DTEND;TZID=America/New_York:20211108T190000
DTSTAMP:20260424T190319
CREATED:20211107T201048Z
LAST-MODIFIED:20211107T201048Z
UID:2880-1636398000-1636398000@akronbugle.com
SUMMARY:Newstead Town Board
DESCRIPTION:Work Session 7:00 p.m.\, Monday\, November 1\, 2021\, 5 Clarence Center Rd.\, Akron\, NY.
URL:https://akronbugle.com/calendar/newstead-town-board-3/
LOCATION:Newstead Town Hall\, 5 Clarence Center Road\, Akron\, NY\, 14001
CATEGORIES:Newstead Town Board
ATTACH;FMTTYPE=image/jpeg:https://akronbugle.com/wp-content/uploads/2020/11/townlogo.jpg
END:VEVENT
BEGIN:VEVENT
DTSTART;TZID=America/New_York:20211020T163000
DTEND;TZID=America/New_York:20211020T190000
DTSTAMP:20260424T190319
CREATED:20211007T005700Z
LAST-MODIFIED:20211007T005700Z
UID:2845-1634747400-1634756400@akronbugle.com
SUMMARY:Spaghetti Dinner Drive-thru
DESCRIPTION:sponsored by Akron Boy Scout Troop 559
URL:https://akronbugle.com/calendar/spaghetti-dinner-drive-thru/
LOCATION:NY
CATEGORIES:Things to Do
END:VEVENT
BEGIN:VEVENT
DTSTART;TZID=America/New_York:20211018T190000
DTEND;TZID=America/New_York:20211018T203000
DTSTAMP:20260424T190319
CREATED:20211007T010206Z
LAST-MODIFIED:20211007T010206Z
UID:2849-1634583600-1634589000@akronbugle.com
SUMMARY:Akron Village Board
DESCRIPTION:Meeting 
URL:https://akronbugle.com/calendar/akron-village-board/
LOCATION:Akron Village Hall\, 21 Main St.\, Akron\, NY\, 14001
CATEGORIES:Akron Village Board
END:VEVENT
BEGIN:VEVENT
DTSTART;TZID=America/New_York:20211018T190000
DTEND;TZID=America/New_York:20211018T203000
DTSTAMP:20260424T190319
CREATED:20211007T005940Z
LAST-MODIFIED:20211007T005940Z
UID:2847-1634583600-1634589000@akronbugle.com
SUMMARY:Newstead Town Board
DESCRIPTION:Work Session 7:00 p.m.
URL:https://akronbugle.com/calendar/newstead-town-board-2/
LOCATION:Newstead Town Hall\, 5 Clarence Center Road\, Akron\, NY\, 14001
CATEGORIES:Newstead Town Board
END:VEVENT
BEGIN:VEVENT
DTSTART;TZID=America/New_York:20211014T190000
DTEND;TZID=America/New_York:20211014T200000
DTSTAMP:20260424T190319
CREATED:20211007T010654Z
LAST-MODIFIED:20211007T010654Z
UID:2851-1634238000-1634241600@akronbugle.com
SUMMARY:Antique Appraisal
DESCRIPTION:Newstead Historical Society welcomes antiques expert Gary Harkness who will do appraisals for those attending and will share his expertise. Participants are encouraged to bring their early glass\, pottery\, bottles\, redware\, stoneware\, folk art\, primitives\, advertising signs or whatever items they have. \nThere will be a two dollar per appraisal donation and a limit of two items per person. The program takes place at the Newstead Town Hall\, 5 Clarence Center Rd.  All Covid protocols in place at the time of the meeting will be observed.
URL:https://akronbugle.com/calendar/antique-appraisal/
LOCATION:Newstead Town Hall\, 5 Clarence Center Road\, Akron\, NY\, 14001
CATEGORIES:Things to Do
END:VEVENT
BEGIN:VEVENT
DTSTART;TZID=America/New_York:20211014T073000
DTEND;TZID=America/New_York:20211014T083000
DTSTAMP:20260424T190319
CREATED:20210928T151539Z
LAST-MODIFIED:20210928T151539Z
UID:2794-1634196600-1634200200@akronbugle.com
SUMMARY:Rotary Club of Akron-Newstead public meeting
DESCRIPTION:The public is invited to hear Brook Tinaghia of the WNY National Cemetery in Corfu present during the Rotary meeting.  Ms Tinaghia will provide information on this new national military veterans cemetery including protocols that identify qualifications\, arrangements and other details.   The meeting starts with breakfast followed by the program.  Please RSVP to akronwds@hotmail.com.
URL:https://akronbugle.com/calendar/rotary-club-of-akron-newstead-public-meeting/
LOCATION:Akron Fire Hall\, 1 Main Street\, Akron\, NY\, 14001\, United States
CATEGORIES:Things to Do
ORGANIZER;CN="Rotary Club of Akron-Newstead":MAILTO:akronwds@hotmail.com
END:VEVENT
BEGIN:VEVENT
DTSTART;TZID=America/New_York:20211013T150000
DTEND;TZID=America/New_York:20211013T180000
DTSTAMP:20260424T190319
CREATED:20210928T154530Z
LAST-MODIFIED:20210928T154530Z
UID:2801-1634137200-1634148000@akronbugle.com
SUMMARY:Chiavetta's Chicken BBQ
DESCRIPTION:Sponsored by the Akron Faculty Association to raise funds for AFA Scholarship at the pavilion by the sports fields from 3:00 to 6:00 p.m. or until sold out.  Email bchuco@akronk12.org to reserve your dinners.
URL:https://akronbugle.com/calendar/chiavettas-chicken-bbq/
LOCATION:Akron Central School\, 47 Bloomingdale Ave.\, Akron\, NY\, 14001
CATEGORIES:Akron Central School,Things to Do
END:VEVENT
BEGIN:VEVENT
DTSTART;TZID=America/New_York:20211012T183000
DTEND;TZID=America/New_York:20211012T203000
DTSTAMP:20260424T190319
CREATED:20211007T002839Z
LAST-MODIFIED:20211007T002839Z
UID:2831-1634063400-1634070600@akronbugle.com
SUMMARY:Newstead Town Board
DESCRIPTION:Work Session 6:45; Meeting 7:30 p.m.
URL:https://akronbugle.com/calendar/newstead-town-board/
LOCATION:Newstead Town Hall\, 5 Clarence Center Road\, Akron\, NY\, 14001
CATEGORIES:Newstead Town Board
END:VEVENT
BEGIN:VEVENT
DTSTART;TZID=America/New_York:20211002T090000
DTEND;TZID=America/New_York:20211002T160000
DTSTAMP:20260424T190319
CREATED:20210928T153652Z
LAST-MODIFIED:20210928T153652Z
UID:2798-1633165200-1633190400@akronbugle.com
SUMMARY:Limerick School Fall Festival
DESCRIPTION:6074 Cummings Road\, Akron \nHuge Rummage Sale and Vendor Event \nHot dogs and chicken/noodles served for lunch \nCall Pat Popielski at 716-542-4947 to donate to Rummage Sale \nCall Nancy Eckerson at 716-542-6544 to set up a table
URL:https://akronbugle.com/calendar/limerick-school-fall-festival/
LOCATION:NY
CATEGORIES:Things to Do
END:VEVENT
BEGIN:VEVENT
DTSTART;TZID=America/New_York:20210921T140000
DTEND;TZID=America/New_York:20210921T180000
DTSTAMP:20260424T190319
CREATED:20210914T143355Z
LAST-MODIFIED:20210914T143355Z
UID:2761-1632232800-1632247200@akronbugle.com
SUMMARY:ConnectLife blood drive
DESCRIPTION:Walk ins are welcome or you can take this link to make an appointment\,\nhttps://connectlifegiveblood.org/index.cfm?group=op&es=true
URL:https://akronbugle.com/calendar/connectlife-blood-drive/
LOCATION:Akron Fire Hall\, 1 Main Street\, Akron\, NY\, 14001\, United States
END:VEVENT
BEGIN:VEVENT
DTSTART;TZID=America/New_York:20210920T190000
DTEND;TZID=America/New_York:20210920T203000
DTSTAMP:20260424T190319
CREATED:20210909T223313Z
LAST-MODIFIED:20210912T223458Z
UID:2748-1632164400-1632169800@akronbugle.com
SUMMARY:Akron Village Board meeting
DESCRIPTION:Monday\, September 20\, 2021 –7:00 p.m. meeting Akron Village Hall\, Main Street\, Akron\, NY.
URL:https://akronbugle.com/calendar/akron-village-board-meeting-10/
LOCATION:Akron Village Hall\, 21 Main St.\, Akron\, NY\, 14001
CATEGORIES:Akron Village Board,Village & Town Meetings
END:VEVENT
BEGIN:VEVENT
DTSTART;TZID=America/New_York:20210918T160000
DTEND;TZID=America/New_York:20210918T210000
DTSTAMP:20260424T190319
CREATED:20210909T223020Z
LAST-MODIFIED:20210912T223233Z
UID:2746-1631980800-1631998800@akronbugle.com
SUMMARY:Akron Lions Club Steak Dinner Fundraiser
DESCRIPTION:Pre-sale tickets available.
URL:https://akronbugle.com/calendar/akron-lions-club-steak-dinner-fundraiser/
LOCATION:American Legion LL Tillman Post 900\, 9 Eckerson Ave. Akron.\, 9 Eckerson Ave.\, Akron\, New York\, 14001
CATEGORIES:Things to Do
END:VEVENT
BEGIN:VEVENT
DTSTART;TZID=America/New_York:20210918T090000
DTEND;TZID=America/New_York:20210918T160000
DTSTAMP:20260424T190319
CREATED:20210909T222544Z
LAST-MODIFIED:20210912T223011Z
UID:2743-1631955600-1631980800@akronbugle.com
SUMMARY:Annual Akron Chamber of Commerce Super Cruise
DESCRIPTION:
URL:https://akronbugle.com/calendar/annual-akron-chamber-of-commerce-super-cruise/
LOCATION:Downtown Akron\, Akron\, NY\, 14001
CATEGORIES:Things to Do
END:VEVENT
BEGIN:VEVENT
DTSTART;TZID=America/New_York:20210913T183000
DTEND;TZID=America/New_York:20210913T210000
DTSTAMP:20260424T190319
CREATED:20210909T221859Z
LAST-MODIFIED:20210912T222214Z
UID:2739-1631557800-1631566800@akronbugle.com
SUMMARY:Newstead Town Board meeting
DESCRIPTION:Work Session 6:45; Meeting 7:30 p.m.\, 5 Clarence Center Rd.\, Akron\, NY.
URL:https://akronbugle.com/calendar/newstead-town-board-meeting-10/
LOCATION:Newstead Town Hall\, 5 Clarence Center Road\, Akron\, NY\, 14001
CATEGORIES:Newstead Town Board
END:VEVENT
BEGIN:VEVENT
DTSTART;TZID=America/New_York:20210913T180000
DTEND;TZID=America/New_York:20210913T200000
DTSTAMP:20260424T190319
CREATED:20210909T222248Z
LAST-MODIFIED:20210912T222518Z
UID:2741-1631556000-1631563200@akronbugle.com
SUMMARY:Akron Village Board meeting
DESCRIPTION:Akron Village Hall\, Main Street\, Akron\, NY.
URL:https://akronbugle.com/calendar/akron-village-board-meeting-9/
LOCATION:Akron Village Hall\, 21 Main St.\, Akron\, NY\, 14001
CATEGORIES:Akron Village Board,Village & Town Meetings
END:VEVENT
BEGIN:VEVENT
DTSTART;TZID=America/New_York:20210912T080000
DTEND;TZID=America/New_York:20210912T170000
DTSTAMP:20260424T190319
CREATED:20210909T221440Z
LAST-MODIFIED:20210912T221842Z
UID:2737-1631433600-1631466000@akronbugle.com
SUMMARY:Akron Village Board meeting
DESCRIPTION:Monday\, September 13\, 2021 – 6:00 p.m. work session\, 7:00 p.m. meeting Akron Village Hall\, Main Street\, Akron\, NY.
URL:https://akronbugle.com/calendar/akron-village-board-meeting-8/
LOCATION:NY
CATEGORIES:Village & Town Meetings
END:VEVENT
BEGIN:VEVENT
DTSTART;TZID=America/New_York:20210823T193000
DTEND;TZID=America/New_York:20210823T193000
DTSTAMP:20260424T190319
CREATED:20210717T133645Z
LAST-MODIFIED:20210717T133645Z
UID:2606-1629747000-1629747000@akronbugle.com
SUMMARY:Newstead Town Board Meeting
DESCRIPTION:The Newstead Town Board will host its meeting at 7:30 p.m. on Monday\, Aug. 23 at the Town Hall\, 5 Clarence Center Rd.\, Akron. The meeting will be preceded by a work session at 6:45 p.m.
URL:https://akronbugle.com/calendar/newstead-town-board-meeting-9/
LOCATION:Newstead Town Hall\, 5 Clarence Center Road\, Akron\, NY\, 14001
CATEGORIES:Newstead Town Board
END:VEVENT
BEGIN:VEVENT
DTSTART;TZID=America/New_York:20210823T173000
DTEND;TZID=America/New_York:20210823T173000
DTSTAMP:20260424T190319
CREATED:20210717T133539Z
LAST-MODIFIED:20210717T133539Z
UID:2604-1629739800-1629739800@akronbugle.com
SUMMARY:Akron Village Board Special Meeting
DESCRIPTION:The Akron Village Board will host a special meeting at 5:30 p.m. on Monday\, Aug. 23 at the Village Hall on Main Street.
URL:https://akronbugle.com/calendar/akron-village-board-special-meeting-2/
LOCATION:Akron Village Hall\, 21 Main St.\, Akron\, NY\, 14001
CATEGORIES:Akron Village Board
END:VEVENT
BEGIN:VEVENT
DTSTART;TZID=America/New_York:20210813T200000
DTEND;TZID=America/New_York:20210813T200000
DTSTAMP:20260424T190319
CREATED:20210702T212342Z
LAST-MODIFIED:20210702T212342Z
UID:2525-1628884800-1628884800@akronbugle.com
SUMMARY:Akron Community Band Concert
DESCRIPTION:The Akron Community Band performs each Friday night at the Russell Park Gazebo at 8 p.m. through Aug. 13.
URL:https://akronbugle.com/calendar/akron-community-band-concert-8/
LOCATION:Russell Park\, Main Street\, Akron\, NY\, 14001\, United States
CATEGORIES:Things to Do
END:VEVENT
BEGIN:VEVENT
DTSTART;TZID=America/New_York:20210809T193000
DTEND;TZID=America/New_York:20210809T193000
DTSTAMP:20260424T190319
CREATED:20210717T133436Z
LAST-MODIFIED:20210717T133436Z
UID:2602-1628537400-1628537400@akronbugle.com
SUMMARY:Newstead Town Board Meeting
DESCRIPTION:The Newstead Town Board will host its meeting at 7:30 p.m. on Monday\, Aug. 9 at the Town Hall\, 5 Clarence Center Rd.\, Akron. The meeting will be preceded by a work session at 6:45 p.m.
URL:https://akronbugle.com/calendar/newstead-town-board-meeting-8/
LOCATION:Newstead Town Hall\, 5 Clarence Center Road\, Akron\, NY\, 14001
CATEGORIES:Newstead Town Board
END:VEVENT
BEGIN:VEVENT
DTSTART;TZID=America/New_York:20210806T200000
DTEND;TZID=America/New_York:20210806T200000
DTSTAMP:20260424T190319
CREATED:20210702T212217Z
LAST-MODIFIED:20210702T212217Z
UID:2520-1628280000-1628280000@akronbugle.com
SUMMARY:Akron Community Band Concert
DESCRIPTION:The Akron Community Band performs each Friday night at the Russell Park Gazebo at 8 p.m. through Aug. 13.
URL:https://akronbugle.com/calendar/akron-community-band-concert-6/
LOCATION:NY
CATEGORIES:Things to Do
END:VEVENT
BEGIN:VEVENT
DTSTART;TZID=America/New_York:20210805T180000
DTEND;TZID=America/New_York:20210805T210000
DTSTAMP:20260424T190319
CREATED:20210717T132311Z
LAST-MODIFIED:20210717T132311Z
UID:2590-1628186400-1628197200@akronbugle.com
SUMMARY:Akron Cruise Night
DESCRIPTION:The Akron Chamber of Commerce hosts cruise nights each Thursday night during the summer from 6 to 9 p.m. on Main Street in Akron.
URL:https://akronbugle.com/calendar/akron-cruise-night-5/
LOCATION:Downtown Akron\, Akron\, NY\, 14001
CATEGORIES:Things to Do
END:VEVENT
BEGIN:VEVENT
DTSTART;TZID=America/New_York:20210802T190000
DTEND;TZID=America/New_York:20210802T190000
DTSTAMP:20260424T190319
CREATED:20210717T133300Z
LAST-MODIFIED:20210717T133300Z
UID:2600-1627930800-1627930800@akronbugle.com
SUMMARY:Akron Village Board Meeting
DESCRIPTION:The Akron Village Board will host its meeting at 7 p.m. on Monday\, Aug. 2 at the Village Hall on Main Street. The meeting will be preceded by a work session at 6 p.m.
URL:https://akronbugle.com/calendar/akron-village-board-meeting-7/
LOCATION:Akron Village Hall\, 21 Main St.\, Akron\, NY\, 14001
CATEGORIES:Akron Village Board
END:VEVENT
BEGIN:VEVENT
DTSTART;TZID=America/New_York:20210730T200000
DTEND;TZID=America/New_York:20210730T200000
DTSTAMP:20260424T190319
CREATED:20210702T212144Z
LAST-MODIFIED:20210702T212144Z
UID:2518-1627675200-1627675200@akronbugle.com
SUMMARY:Akron Community Band Concert
DESCRIPTION:The Akron Community Band performs each Friday night at the Russell Park Gazebo at 8 p.m. through Aug. 13.
URL:https://akronbugle.com/calendar/akron-community-band-concert-5/
LOCATION:Russell Park\, Main Street\, Akron\, NY\, 14001\, United States
CATEGORIES:Things to Do
END:VEVENT
BEGIN:VEVENT
DTSTART;TZID=America/New_York:20210729T180000
DTEND;TZID=America/New_York:20210729T210000
DTSTAMP:20260424T190319
CREATED:20210717T132217Z
LAST-MODIFIED:20210717T132217Z
UID:2588-1627581600-1627592400@akronbugle.com
SUMMARY:Akron Cruise Night
DESCRIPTION:The Akron Chamber of Commerce hosts cruise nights each Thursday night during the summer from 6 to 9 p.m. on Main Street in Akron.
URL:https://akronbugle.com/calendar/akron-cruise-night-4/
LOCATION:Downtown Akron\, Akron\, NY\, 14001
CATEGORIES:Things to Do
END:VEVENT
BEGIN:VEVENT
DTSTART;TZID=America/New_York:20210726T193000
DTEND;TZID=America/New_York:20210726T193000
DTSTAMP:20260424T190319
CREATED:20210717T133154Z
LAST-MODIFIED:20210717T133154Z
UID:2598-1627327800-1627327800@akronbugle.com
SUMMARY:Newstead Town Board Meeting
DESCRIPTION:The Newstead Town Board will host its meeting at 7:30 p.m. on Monday\, July 26 at the Town Hall\, 5 Clarence Center Rd.\, Akron. The meeting will be preceded by a work session beginning at 6:45 p.m.
URL:https://akronbugle.com/calendar/newstead-town-board-meeting-7/
LOCATION:Newstead Town Hall\, 5 Clarence Center Road\, Akron\, NY\, 14001
CATEGORIES:Newstead Town Board
END:VEVENT
BEGIN:VEVENT
DTSTART;TZID=America/New_York:20210723T200000
DTEND;TZID=America/New_York:20210723T200000
DTSTAMP:20260424T190319
CREATED:20210702T212104Z
LAST-MODIFIED:20210717T134213Z
UID:2516-1627070400-1627070400@akronbugle.com
SUMMARY:Akron Community Band Christmas in July Concert
DESCRIPTION:The Akron Community Band performs each Friday night at the Russell Park Gazebo at 8 p.m. through Aug. 13. \nAudience participation — come early and set up your Christmas display in Russell Park! There will be prizes for the best holiday display! Judging will begin at 7:30 p.m. \n  \n 
URL:https://akronbugle.com/calendar/akron-community-band-concert-4/
LOCATION:Russell Park\, Main Street\, Akron\, NY\, 14001\, United States
CATEGORIES:Things to Do
END:VEVENT
BEGIN:VEVENT
DTSTART;TZID=America/New_York:20210722T180000
DTEND;TZID=America/New_York:20210722T210000
DTSTAMP:20260424T190319
CREATED:20210717T132135Z
LAST-MODIFIED:20210717T132135Z
UID:2586-1626976800-1626987600@akronbugle.com
SUMMARY:Akron Cruise Night
DESCRIPTION:The Akron Chamber of Commerce hosts cruise nights each Thursday night during the summer from 6 to 9 p.m. on Main Street in Akron.
URL:https://akronbugle.com/calendar/akron-cruise-night-3/
LOCATION:Downtown Akron\, Akron\, NY\, 14001
CATEGORIES:Things to Do
END:VEVENT
BEGIN:VEVENT
DTSTART;TZID=America/New_York:20210719T190000
DTEND;TZID=America/New_York:20210719T190000
DTSTAMP:20260424T190319
CREATED:20210717T133033Z
LAST-MODIFIED:20210717T133033Z
UID:2596-1626721200-1626721200@akronbugle.com
SUMMARY:Newstead Town Board Meeting
DESCRIPTION:The Newstead Town Board will host a work session at 7 p.m. on Monday\, July 19 at the Town Hall\, 5 Clarence Center Rd.\, Akron.
URL:https://akronbugle.com/calendar/newstead-town-board-meeting-6/
LOCATION:Newstead Town Hall\, 5 Clarence Center Road\, Akron\, NY\, 14001
CATEGORIES:Newstead Town Board
END:VEVENT
BEGIN:VEVENT
DTSTART;TZID=America/New_York:20210719T173000
DTEND;TZID=America/New_York:20210719T173000
DTSTAMP:20260424T190319
CREATED:20210717T132858Z
LAST-MODIFIED:20210717T132858Z
UID:2594-1626715800-1626715800@akronbugle.com
SUMMARY:Akron Village Board Special Meeting
DESCRIPTION:The Akron Village Board will host a special meeting at 5:30 p.m. on Monday\, July 19 at the Akron Village Hall on Main Street.
URL:https://akronbugle.com/calendar/akron-village-board-special-meeting/
LOCATION:Akron Village Hall\, 21 Main St.\, Akron\, NY\, 14001
CATEGORIES:Akron Village Board
END:VEVENT
END:VCALENDAR