BEGIN:VCALENDAR
VERSION:2.0
PRODID:-//Akron Bugle - ECPv6.15.20//NONSGML v1.0//EN
CALSCALE:GREGORIAN
METHOD:PUBLISH
X-WR-CALNAME:Akron Bugle
X-ORIGINAL-URL:https://akronbugle.com
X-WR-CALDESC:Events for Akron Bugle
REFRESH-INTERVAL;VALUE=DURATION:PT1H
X-Robots-Tag:noindex
X-PUBLISHED-TTL:PT1H
BEGIN:VTIMEZONE
TZID:America/New_York
BEGIN:DAYLIGHT
TZOFFSETFROM:-0500
TZOFFSETTO:-0400
TZNAME:EDT
DTSTART:20230312T070000
END:DAYLIGHT
BEGIN:STANDARD
TZOFFSETFROM:-0400
TZOFFSETTO:-0500
TZNAME:EST
DTSTART:20231105T060000
END:STANDARD
BEGIN:DAYLIGHT
TZOFFSETFROM:-0500
TZOFFSETTO:-0400
TZNAME:EDT
DTSTART:20240310T070000
END:DAYLIGHT
BEGIN:STANDARD
TZOFFSETFROM:-0400
TZOFFSETTO:-0500
TZNAME:EST
DTSTART:20241103T060000
END:STANDARD
BEGIN:DAYLIGHT
TZOFFSETFROM:-0500
TZOFFSETTO:-0400
TZNAME:EDT
DTSTART:20250309T070000
END:DAYLIGHT
BEGIN:STANDARD
TZOFFSETFROM:-0400
TZOFFSETTO:-0500
TZNAME:EST
DTSTART:20251102T060000
END:STANDARD
END:VTIMEZONE
BEGIN:VEVENT
DTSTART;TZID=America/New_York:20241031T073000
DTEND;TZID=America/New_York:20241031T083000
DTSTAMP:20260423T192549
CREATED:20240823T130526Z
LAST-MODIFIED:20240823T130526Z
UID:5115-1730359800-1730363400@akronbugle.com
SUMMARY:Rotary Club of Akron-Newstead meeting
DESCRIPTION:Weekly Meeting
URL:https://akronbugle.com/calendar/rotary-club-of-akron-newstead-meeting-8/
LOCATION:American Legion LL Tillman Post 900\, 9 Eckerson Ave. Akron.\, 9 Eckerson Ave.\, Akron\, New York\, 14001
CATEGORIES:Organizations
END:VEVENT
BEGIN:VEVENT
DTSTART;TZID=America/New_York:20241024T180000
DTEND;TZID=America/New_York:20241024T220000
DTSTAMP:20260423T192549
CREATED:20240823T130409Z
LAST-MODIFIED:20240823T130409Z
UID:5113-1729792800-1729807200@akronbugle.com
SUMMARY:Rotary Club of Akron-Newstead Annual Raffle
DESCRIPTION:Annual Raffle – Time TBD
URL:https://akronbugle.com/calendar/rotary-club-of-akron-newstead-annual-raffle/
LOCATION:NY
CATEGORIES:Things to Do
END:VEVENT
BEGIN:VEVENT
DTSTART;TZID=America/New_York:20241017T073000
DTEND;TZID=America/New_York:20241017T083000
DTSTAMP:20260423T192549
CREATED:20240823T130219Z
LAST-MODIFIED:20240823T130219Z
UID:5111-1729150200-1729153800@akronbugle.com
SUMMARY:Rotary Club of Akron-Newstead meeting
DESCRIPTION:Weekly Meeting
URL:https://akronbugle.com/calendar/rotary-club-of-akron-newstead-meeting-7/
LOCATION:American Legion LL Tillman Post 900\, 9 Eckerson Ave. Akron.\, 9 Eckerson Ave.\, Akron\, New York\, 14001
CATEGORIES:Organizations
END:VEVENT
BEGIN:VEVENT
DTSTART;TZID=America/New_York:20241010T073000
DTEND;TZID=America/New_York:20241010T083000
DTSTAMP:20260423T192549
CREATED:20240823T130049Z
LAST-MODIFIED:20240823T130049Z
UID:5109-1728545400-1728549000@akronbugle.com
SUMMARY:Rotary Club of Akron-Newstead meeting
DESCRIPTION:Weekly meeting
URL:https://akronbugle.com/calendar/rotary-club-of-akron-newstead-meeting-6/
LOCATION:American Legion LL Tillman Post 900\, 9 Eckerson Ave. Akron.\, 9 Eckerson Ave.\, Akron\, New York\, 14001
CATEGORIES:Organizations
END:VEVENT
BEGIN:VEVENT
DTSTART;TZID=America/New_York:20241003T073000
DTEND;TZID=America/New_York:20241003T083000
DTSTAMP:20260423T192549
CREATED:20240823T125941Z
LAST-MODIFIED:20240823T125941Z
UID:5107-1727940600-1727944200@akronbugle.com
SUMMARY:Rotary Club of Akron-Newstead meeting
DESCRIPTION:Club Assembly Meeting
URL:https://akronbugle.com/calendar/rotary-club-of-akron-newstead-meeting-5/
LOCATION:American Legion LL Tillman Post 900\, 9 Eckerson Ave. Akron.\, 9 Eckerson Ave.\, Akron\, New York\, 14001
CATEGORIES:Organizations
END:VEVENT
BEGIN:VEVENT
DTSTART;TZID=America/New_York:20241002T173000
DTEND;TZID=America/New_York:20241002T210000
DTSTAMP:20260423T192549
CREATED:20240824T163056Z
LAST-MODIFIED:20240824T163056Z
UID:5127-1727890200-1727902800@akronbugle.com
SUMMARY:Oktoberfest
DESCRIPTION:Newstead Republican Party sponsored Oktoberfest Wednesday\, October 2\, 2024 5:30 to 9:00 p.m.
URL:https://akronbugle.com/calendar/oktoberfest/
LOCATION:Akron Acres\, 12607 Stage Rd.\, Akron\, NY\, 14001\, United States
CATEGORIES:Things to Do
ATTACH;FMTTYPE=application/pdf:https://akronbugle.com/wp-content/uploads/securepdfs/2024/08/August-24-Updated-Oktoberfest-ad-poster.pdf
END:VEVENT
BEGIN:VEVENT
DTSTART;TZID=America/New_York:20240928T160000
DTEND;TZID=America/New_York:20240928T200000
DTSTAMP:20260423T192549
CREATED:20240824T162557Z
LAST-MODIFIED:20240824T162557Z
UID:5125-1727539200-1727553600@akronbugle.com
SUMMARY:Akron Lions Club Steak-Roast Dinner
DESCRIPTION:Steak-Roast Dinner\, Saturday\, September 28\, 2024 to benefit community projects
URL:https://akronbugle.com/calendar/akron-lions-club-steak-roast-dinner/
LOCATION:American Legion LL Tillman Post 900\, 9 Eckerson Ave. Akron.\, 9 Eckerson Ave.\, Akron\, New York\, 14001
CATEGORIES:Things to Do
ATTACH;FMTTYPE=image/jpeg:https://akronbugle.com/wp-content/uploads/2024/08/LionsClubAdcmyk.jpg
END:VEVENT
BEGIN:VEVENT
DTSTART;TZID=America/New_York:20240928T120000
DTEND;TZID=America/New_York:20240928T150000
DTSTAMP:20260423T192549
CREATED:20240824T164607Z
LAST-MODIFIED:20240824T164607Z
UID:5137-1727524800-1727535600@akronbugle.com
SUMMARY:Trinity's Annual Chowder Sale
DESCRIPTION:Trinity’s Annual Chowder Sale and Basket Raffle.  Trinity Lutheran Church South Newstead\, South Newstead Rd.\, Akron.  12 to 3 p.m.
URL:https://akronbugle.com/calendar/trinitys-annual-chowder-sale/
LOCATION:Trinity Lutheran Church\, 4809 South Newstead Rd.\, Akron\, NY\, 14001
CATEGORIES:Things to Do
END:VEVENT
BEGIN:VEVENT
DTSTART;TZID=America/New_York:20240926T073000
DTEND;TZID=America/New_York:20240926T083000
DTSTAMP:20260423T192549
CREATED:20240823T125813Z
LAST-MODIFIED:20240823T125813Z
UID:5105-1727335800-1727339400@akronbugle.com
SUMMARY:Rotary Club of Akron-Newstead meeting
DESCRIPTION:Weekly Meeting
URL:https://akronbugle.com/calendar/rotary-club-of-akron-newstead-meeting-4/
LOCATION:American Legion LL Tillman Post 900\, 9 Eckerson Ave. Akron.\, 9 Eckerson Ave.\, Akron\, New York\, 14001
CATEGORIES:Organizations
END:VEVENT
BEGIN:VEVENT
DTSTART;TZID=America/New_York:20240919T180000
DTEND;TZID=America/New_York:20240919T200000
DTSTAMP:20260423T192549
CREATED:20240823T125654Z
LAST-MODIFIED:20240823T125654Z
UID:5103-1726768800-1726776000@akronbugle.com
SUMMARY:Rotary Club of Akron-Newstead meeting
DESCRIPTION:Club Special Evening Event – TBD
URL:https://akronbugle.com/calendar/rotary-club-of-akron-newstead-meeting-3/
LOCATION:NY
CATEGORIES:Organizations
END:VEVENT
BEGIN:VEVENT
DTSTART;TZID=America/New_York:20240914T130000
DTEND;TZID=America/New_York:20240914T160000
DTSTAMP:20260423T192549
CREATED:20240824T163758Z
LAST-MODIFIED:20240824T163758Z
UID:5134-1726318800-1726329600@akronbugle.com
SUMMARY:Veteran Picnic
DESCRIPTION:All local Veterans and families are invited to a family picnic.  September 14\, 2024\, American Legion Post #900\, 9 Eckerson Ave.\, Akron from 1 to 4 p.m.  Please RSVP to Fred Pask 716-542-2065
URL:https://akronbugle.com/calendar/veteran-picnic/
LOCATION:American Legion LL Tillman Post 900\, 9 Eckerson Ave. Akron.\, 9 Eckerson Ave.\, Akron\, New York\, 14001
CATEGORIES:Organizations,Things to Do
ATTACH;FMTTYPE=image/jpeg:https://akronbugle.com/wp-content/uploads/2024/08/CommuntityVeteranPicniccmyk.jpg
END:VEVENT
BEGIN:VEVENT
DTSTART;TZID=America/New_York:20240912T073000
DTEND;TZID=America/New_York:20240912T083000
DTSTAMP:20260423T192549
CREATED:20240823T125528Z
LAST-MODIFIED:20240823T125528Z
UID:5101-1726126200-1726129800@akronbugle.com
SUMMARY:Rotary Club of Akron-Newstead meeting
DESCRIPTION:Weekly meeting
URL:https://akronbugle.com/calendar/rotary-club-of-akron-newstead-meeting-2/
LOCATION:L.L. Tillman Post\, 9 Eckerson Ave.\, Akron\, NY\, 14001
CATEGORIES:Organizations
END:VEVENT
BEGIN:VEVENT
DTSTART;TZID=America/New_York:20240910T190000
DTEND;TZID=America/New_York:20240910T210000
DTSTAMP:20260423T192549
CREATED:20240824T163436Z
LAST-MODIFIED:20240824T163436Z
UID:5131-1725994800-1726002000@akronbugle.com
SUMMARY:Meet the Masons Night
DESCRIPTION:Open “Meet the Masons” Night a the Akron Masonic Lodge\, Tuesday\, September 10\, 2024 at 7 p.m.
URL:https://akronbugle.com/calendar/meet-the-masons-night/
LOCATION:Akron Masonic Lodge\, 63 John St.\, Akron\, NY\, 14001
CATEGORIES:Organizations
ATTACH;FMTTYPE=application/pdf:https://akronbugle.com/wp-content/uploads/securepdfs/2024/08/LodgeMembership9-10.pdf
END:VEVENT
BEGIN:VEVENT
DTSTART;TZID=America/New_York:20240905T073000
DTEND;TZID=America/New_York:20240905T083000
DTSTAMP:20260423T192549
CREATED:20240822T163645Z
LAST-MODIFIED:20240823T125342Z
UID:5099-1725521400-1725525000@akronbugle.com
SUMMARY:Rotary Club of Akron-Newstead meeting
DESCRIPTION:Rotary Club of Akron-Newstead meeting\, Thursday\, September 5 – Club Assembly
URL:https://akronbugle.com/calendar/rotary-club-of-akron-newstead-meeting/
LOCATION:American Legion LL Tillman Post 900\, 9 Eckerson Ave. Akron.\, 9 Eckerson Ave.\, Akron\, New York\, 14001
CATEGORIES:Organizations
END:VEVENT
BEGIN:VEVENT
DTSTART;TZID=America/New_York:20240829T173000
DTEND;TZID=America/New_York:20240829T203000
DTSTAMP:20260423T192549
CREATED:20240801T145453Z
LAST-MODIFIED:20240801T145453Z
UID:5026-1724952600-1724963400@akronbugle.com
SUMMARY:Thursday Night Cruise
DESCRIPTION:Thursday Night Cruise Nights – sponsored by Akron Chamber of Commerce.  August 29 Street\, Strip\, Willy’s Night sponsored by Whiting Door  – Main Street Akron from 5:30 to 8:30 p.m.
URL:https://akronbugle.com/calendar/thursday-night-cruise-4/
LOCATION:Downtown Akron\, Akron\, NY\, 14001
CATEGORIES:Things to Do
END:VEVENT
BEGIN:VEVENT
DTSTART;TZID=America/New_York:20240826T183000
DTEND;TZID=America/New_York:20240826T203000
DTSTAMP:20260423T192549
CREATED:20240801T145332Z
LAST-MODIFIED:20240801T145332Z
UID:5024-1724697000-1724704200@akronbugle.com
SUMMARY:Newstead Town Board meeting
DESCRIPTION:Newstead Town Board meeting – Monday\, August 26 – Work Session 6:45 p.m.\, Regular meeting 7:30 p.m.  5 Clarence Center Road\, Akron\, NY.
URL:https://akronbugle.com/calendar/newstead-town-board-meeting-34/
LOCATION:Newstead Town Hall\, 5 Clarence Center Road\, Akron\, NY\, 14001
CATEGORIES:Newstead Town Board,Village & Town Meetings
END:VEVENT
BEGIN:VEVENT
DTSTART;TZID=America/New_York:20240822T173000
DTEND;TZID=America/New_York:20240822T203000
DTSTAMP:20260423T192549
CREATED:20240801T145213Z
LAST-MODIFIED:20240801T145213Z
UID:5022-1724347800-1724358600@akronbugle.com
SUMMARY:Thursday Night Cruise
DESCRIPTION:Thursday Night Cruise Nights – sponsored by Akron Chamber of Commerce.  August 22 Offroad A & 4×4 Night sponsored by Niagara Label  – Main Street Akron from 5:30 to 8:30 p.m.
URL:https://akronbugle.com/calendar/thursday-night-cruise-3/
LOCATION:Downtown Akron\, Akron\, NY\, 14001
CATEGORIES:Things to Do
END:VEVENT
BEGIN:VEVENT
DTSTART;TZID=America/New_York:20240819T190000
DTEND;TZID=America/New_York:20240819T210000
DTSTAMP:20260423T192549
CREATED:20240801T145059Z
LAST-MODIFIED:20240801T145059Z
UID:5020-1724094000-1724101200@akronbugle.com
SUMMARY:Newstead Town Board meeting
DESCRIPTION:Newstead Town Board meeting – Monday\, August 19 – Work Session  7:00 p.m.  5 Clarence Center Road\, Akron\, NY.
URL:https://akronbugle.com/calendar/newstead-town-board-meeting-33/
LOCATION:Newstead Town Hall\, 5 Clarence Center Road\, Akron\, NY\, 14001
CATEGORIES:Newstead Town Board,Village & Town Meetings
END:VEVENT
BEGIN:VEVENT
DTSTART;TZID=America/New_York:20240819T173000
DTEND;TZID=America/New_York:20240819T190000
DTSTAMP:20260423T192549
CREATED:20240801T144925Z
LAST-MODIFIED:20240801T144925Z
UID:5018-1724088600-1724094000@akronbugle.com
SUMMARY:Akron Village Board
DESCRIPTION:Akron Village Board meeting – Monday\, August 19 – Special meeting 5:30 p.m.\, Akron Village Hall\, 21 Main St.\, Akron.
URL:https://akronbugle.com/calendar/akron-village-board-3/
LOCATION:Akron Village Hall\, 21 Main St.\, Akron\, NY\, 14001
CATEGORIES:Akron Village Board,Village & Town Meetings
END:VEVENT
BEGIN:VEVENT
DTSTART;TZID=America/New_York:20240818T130000
DTEND;TZID=America/New_York:20240818T150000
DTSTAMP:20260423T192549
CREATED:20240801T144636Z
LAST-MODIFIED:20240801T144752Z
UID:5016-1723986000-1723993200@akronbugle.com
SUMMARY:Knight-Sutton Museum
DESCRIPTION:Knight-Sutton Museum & Research Center Exhibits – Sunday\, August 18 from 1-3pm\, 123 Main St. Akron\, NY
URL:https://akronbugle.com/calendar/knight-sutton-museum/
LOCATION:Knight-Sutton Museum\, Main Street\, Akron\, NY\, 14001\, United States
CATEGORIES:Things to Do
END:VEVENT
BEGIN:VEVENT
DTSTART;TZID=America/New_York:20240818T130000
DTEND;TZID=America/New_York:20240818T150000
DTSTAMP:20260423T192549
CREATED:20240801T144514Z
LAST-MODIFIED:20240801T144514Z
UID:5014-1723986000-1723993200@akronbugle.com
SUMMARY:Octagon House Tours
DESCRIPTION:Highlights of the Octagon House Tours– Sunday\, August 18 from  1 -3 pm\, 145 Main St. Akron\, NY.
URL:https://akronbugle.com/calendar/octagon-house-tours/
LOCATION:Rich-Twin Octagon House\, 145 Main Street\, Akron\, NY\, 14001\, United States
CATEGORIES:Things to Do
END:VEVENT
BEGIN:VEVENT
DTSTART;TZID=America/New_York:20240816T200000
DTEND;TZID=America/New_York:20240816T213000
DTSTAMP:20260423T192549
CREATED:20240801T144324Z
LAST-MODIFIED:20240801T144324Z
UID:5012-1723838400-1723843800@akronbugle.com
SUMMARY:Akron Community Band Concert
DESCRIPTION:Akron Community Band Concert  – Friday\, August 16\, Russell Park\, Akron 8 to 9:30 p.m.  Sponsored by Village of Akron\, Town of Newstead\, and County of Erie.
URL:https://akronbugle.com/calendar/akron-community-band-concert-24/
LOCATION:Russell Park\, Main Street\, Akron\, NY\, 14001\, United States
CATEGORIES:Things to Do
END:VEVENT
BEGIN:VEVENT
DTSTART;TZID=America/New_York:20240815T173000
DTEND;TZID=America/New_York:20240815T203000
DTSTAMP:20260423T192549
CREATED:20240801T144139Z
LAST-MODIFIED:20240801T144139Z
UID:5010-1723743000-1723753800@akronbugle.com
SUMMARY:Thursday Night Cruise
DESCRIPTION:Thursday Night Cruise Nights – sponsored by Akron Chamber of Commerce.  August 15 Tractor Night sponsored by Whiting Door  – Main Street Akron from 5:30 to 8:30 p.m.
URL:https://akronbugle.com/calendar/thursday-night-cruise-2/
LOCATION:Downtown Akron\, Akron\, NY\, 14001
CATEGORIES:Things to Do
END:VEVENT
BEGIN:VEVENT
DTSTART;TZID=America/New_York:20240812T193000
DTEND;TZID=America/New_York:20240812T210000
DTSTAMP:20260423T192549
CREATED:20240801T144000Z
LAST-MODIFIED:20240801T144000Z
UID:5008-1723491000-1723496400@akronbugle.com
SUMMARY:Newstead Town Board meeting
DESCRIPTION:Newstead Town Board meeting – Monday\, August 12 – Work Session 6:45 p.m.\, Regular meeting 7:30 p.m.  5 Clarence Center Road\, Akron\, NY.
URL:https://akronbugle.com/calendar/newstead-town-board-meeting-32/
LOCATION:Newstead Town Hall\, 5 Clarence Center Road\, Akron\, NY\, 14001
CATEGORIES:Newstead Town Board,Village & Town Meetings
END:VEVENT
BEGIN:VEVENT
DTSTART;TZID=America/New_York:20240809T200000
DTEND;TZID=America/New_York:20240809T213000
DTSTAMP:20260423T192549
CREATED:20240801T143746Z
LAST-MODIFIED:20240801T143746Z
UID:5006-1723233600-1723239000@akronbugle.com
SUMMARY:Akron Community Band Concert
DESCRIPTION:Akron Community Band Concert  – Friday\, August 9\, Russell Park\, Akron 8 to 9:30 p.m.  Sponsored by Village of Akron\, Town of Newstead\, and County of Erie.
URL:https://akronbugle.com/calendar/akron-community-band-concert-23/
LOCATION:Russell Park\, Main Street\, Akron\, NY\, 14001\, United States
CATEGORIES:Things to Do
END:VEVENT
BEGIN:VEVENT
DTSTART;TZID=America/New_York:20240808T173000
DTEND;TZID=America/New_York:20240808T203000
DTSTAMP:20260423T192549
CREATED:20240801T143608Z
LAST-MODIFIED:20240801T143608Z
UID:5004-1723138200-1723149000@akronbugle.com
SUMMARY:Thursday Night Cruise Nights
DESCRIPTION:Thursday Night Cruise Nights – sponsored by Akron Chamber of Commerce.  August 8 Corvette Night sponsored by Old Scotland Road – Main Street Akron from 5:30 to 8:30 p.m.  “Retro Phonics” in concert on Main Street.
URL:https://akronbugle.com/calendar/thursday-night-cruise-nights/
LOCATION:Downtown Akron\, Akron\, NY\, 14001
CATEGORIES:Things to Do
END:VEVENT
BEGIN:VEVENT
DTSTART;TZID=America/New_York:20240806T190000
DTEND;TZID=America/New_York:20240806T210000
DTSTAMP:20260423T192549
CREATED:20240801T143448Z
LAST-MODIFIED:20240801T143448Z
UID:5002-1722970800-1722978000@akronbugle.com
SUMMARY:ACS Board of Education
DESCRIPTION:Akron Central School Board of Education – meeting Tuesday\, August 6 – 7 p.m.  47 Bloomingdale Ave.  High School Cafeteria.
URL:https://akronbugle.com/calendar/acs-board-of-education/
LOCATION:Akron Central School\, 47 Bloomingdale Ave.\, Akron\, NY\, 14001
CATEGORIES:Akron Central School
END:VEVENT
BEGIN:VEVENT
DTSTART;TZID=America/New_York:20240805T190000
DTEND;TZID=America/New_York:20240805T210000
DTSTAMP:20260423T192549
CREATED:20240801T143318Z
LAST-MODIFIED:20240801T143318Z
UID:5000-1722884400-1722891600@akronbugle.com
SUMMARY:Newstead Town Board meeting
DESCRIPTION:Newstead Town Board meeting – Monday\, August 5 – Work Session  7:00 p.m.  5 Clarence Center Road\, Akron\, NY.
URL:https://akronbugle.com/calendar/newstead-town-board-meeting-31/
LOCATION:Newstead Town Hall\, 5 Clarence Center Road\, Akron\, NY\, 14001
CATEGORIES:Newstead Town Board,Village & Town Meetings
END:VEVENT
BEGIN:VEVENT
DTSTART;TZID=America/New_York:20240805T180000
DTEND;TZID=America/New_York:20240805T203000
DTSTAMP:20260423T192549
CREATED:20240801T143200Z
LAST-MODIFIED:20240801T143200Z
UID:4998-1722880800-1722889800@akronbugle.com
SUMMARY:Akron Village Board meeting
DESCRIPTION:Akron Village Board meeting – Monday\, August 5 – Work Session 6 p.m.; Regular meeting 7 p.m.\, Akron Village Hall\, 21 Main St.\, Akron.
URL:https://akronbugle.com/calendar/akron-village-board-meeting-32/
LOCATION:Akron Village Hall\, 21 Main St.\, Akron\, NY\, 14001
CATEGORIES:Akron Village Board,Village & Town Meetings
END:VEVENT
BEGIN:VEVENT
DTSTART;TZID=America/New_York:20240804T130000
DTEND;TZID=America/New_York:20240804T150000
DTSTAMP:20260423T192549
CREATED:20240801T143019Z
LAST-MODIFIED:20240801T143019Z
UID:4996-1722776400-1722783600@akronbugle.com
SUMMARY:Knight-Sutton Museum exhibits
DESCRIPTION:Knight-Sutton Museum & Research Center Exhibits – Sunday\, August 4 from 1-3pm\, 123 Main St. Akron\, NY
URL:https://akronbugle.com/calendar/knight-sutton-museum-exhibits-2/
LOCATION:Knight-Sutton Museum\, Main Street\, Akron\, NY\, 14001\, United States
CATEGORIES:Things to Do
END:VEVENT
END:VCALENDAR