BEGIN:VCALENDAR
VERSION:2.0
PRODID:-//Akron Bugle - ECPv6.15.20//NONSGML v1.0//EN
CALSCALE:GREGORIAN
METHOD:PUBLISH
X-WR-CALNAME:Akron Bugle
X-ORIGINAL-URL:https://akronbugle.com
X-WR-CALDESC:Events for Akron Bugle
REFRESH-INTERVAL;VALUE=DURATION:PT1H
X-Robots-Tag:noindex
X-PUBLISHED-TTL:PT1H
BEGIN:VTIMEZONE
TZID:America/New_York
BEGIN:DAYLIGHT
TZOFFSETFROM:-0500
TZOFFSETTO:-0400
TZNAME:EDT
DTSTART:20190310T070000
END:DAYLIGHT
BEGIN:STANDARD
TZOFFSETFROM:-0400
TZOFFSETTO:-0500
TZNAME:EST
DTSTART:20191103T060000
END:STANDARD
BEGIN:DAYLIGHT
TZOFFSETFROM:-0500
TZOFFSETTO:-0400
TZNAME:EDT
DTSTART:20200308T070000
END:DAYLIGHT
BEGIN:STANDARD
TZOFFSETFROM:-0400
TZOFFSETTO:-0500
TZNAME:EST
DTSTART:20201101T060000
END:STANDARD
BEGIN:DAYLIGHT
TZOFFSETFROM:-0500
TZOFFSETTO:-0400
TZNAME:EDT
DTSTART:20210314T070000
END:DAYLIGHT
BEGIN:STANDARD
TZOFFSETFROM:-0400
TZOFFSETTO:-0500
TZNAME:EST
DTSTART:20211107T060000
END:STANDARD
BEGIN:DAYLIGHT
TZOFFSETFROM:-0500
TZOFFSETTO:-0400
TZNAME:EDT
DTSTART:20220313T070000
END:DAYLIGHT
BEGIN:STANDARD
TZOFFSETFROM:-0400
TZOFFSETTO:-0500
TZNAME:EST
DTSTART:20221106T060000
END:STANDARD
END:VTIMEZONE
BEGIN:VEVENT
DTSTART;TZID=America/New_York:20210701T180000
DTEND;TZID=America/New_York:20210701T200000
DTSTAMP:20260425T000347
CREATED:20210529T005258Z
LAST-MODIFIED:20210529T005258Z
UID:2374-1625162400-1625169600@akronbugle.com
SUMMARY:Akron Cruise Night
DESCRIPTION:The first Akron Cruise Night will take place from 6 to 8 p.m. on Thursday\, July 1.
URL:https://akronbugle.com/calendar/akron-cruise-night/
LOCATION:Downtown Akron\, Akron\, NY\, 14001
CATEGORIES:Things to Do
END:VEVENT
BEGIN:VEVENT
DTSTART;TZID=America/New_York:20210625T190000
DTEND;TZID=America/New_York:20210625T190000
DTSTAMP:20260425T000347
CREATED:20210529T013000Z
LAST-MODIFIED:20210529T013003Z
UID:2409-1624647600-1624647600@akronbugle.com
SUMMARY:Akron High School Graduation
DESCRIPTION:The Akron High School Class of 2021 will hold its commencement at 7 p.m. on the football field behind the high school on Bloomingdale Avenue.
URL:https://akronbugle.com/calendar/akron-high-school-graduation/
LOCATION:Akron Central School\, 47 Bloomingdale Ave.\, Akron\, NY\, 14001
CATEGORIES:Akron Central School,Things to Do
END:VEVENT
BEGIN:VEVENT
DTSTART;TZID=America/New_York:20210623T190000
DTEND;TZID=America/New_York:20210623T190000
DTSTAMP:20260425T000347
CREATED:20210529T013245Z
LAST-MODIFIED:20210529T013245Z
UID:2413-1624474800-1624474800@akronbugle.com
SUMMARY:Akron School Board of Education Meeting
DESCRIPTION:The Akron School Board of Education will hold a regular meeting at 7 p.m. in the high school cafeteria.
URL:https://akronbugle.com/calendar/akron-school-board-of-education-meeting-3/
LOCATION:Akron Central School\, 47 Bloomingdale Ave.\, Akron\, NY\, 14001
CATEGORIES:Akron Central School
END:VEVENT
BEGIN:VEVENT
DTSTART;TZID=America/New_York:20210619T090000
DTEND;TZID=America/New_York:20210619T140000
DTSTAMP:20260425T000347
CREATED:20210529T004511Z
LAST-MODIFIED:20210529T004511Z
UID:2371-1624093200-1624111200@akronbugle.com
SUMMARY:40th Annual Akron Chamber of Commerce Sidewalk Sale
DESCRIPTION:The annual Akron Chamber of Commerce Sidewalk Sale is planned for Saturday\, June 19 in the Main Street business district from 9 a.m. to 2 p.m. \nPlans include live music\, a basket raffle\, games\, vendors\, and local business participation. \nParticipants can sign up on the Akron Chamber of Commerce website. There is no charge for local organizations\, churches\, and businesses with store fronts on Main Street. Vendors will have a fee. \nVolunteers to help on Friday evening and/or Saturday are welcome.
URL:https://akronbugle.com/calendar/40th-annual-akron-chamber-of-commerce-sidewalk-sale/
LOCATION:Downtown Akron\, Akron\, NY\, 14001
CATEGORIES:Things to Do
END:VEVENT
BEGIN:VEVENT
DTSTART;TZID=America/New_York:20210614T193000
DTEND;TZID=America/New_York:20210614T193000
DTSTAMP:20260425T000347
CREATED:20210529T011014Z
LAST-MODIFIED:20210529T011014Z
UID:2392-1623699000-1623699000@akronbugle.com
SUMMARY:Newstead Town Board Meeting
DESCRIPTION:The Newstead Town Board will hold a regular meeting at 7:30 p.m. on Monday\, June 14 at the Town Hall\, 5 Clarence Center Road. The meeting is preceded by a work session at 6:45 p.m.
URL:https://akronbugle.com/calendar/newstead-town-board-meeting-5/
LOCATION:Newstead Town Hall\, 5 Clarence Center Road\, Akron\, NY\, 14001
CATEGORIES:Newstead Town Board
END:VEVENT
BEGIN:VEVENT
DTSTART;TZID=America/New_York:20210610T190000
DTEND;TZID=America/New_York:20210610T190000
DTSTAMP:20260425T000347
CREATED:20210603T220806Z
LAST-MODIFIED:20210603T220806Z
UID:2422-1623351600-1623351600@akronbugle.com
SUMMARY:'Emblem of Equality: Women's Suffrage in WNY' Presentation
DESCRIPTION:The Newstead Historical Society will welcome local historian Susan Eck on Thursday\, June 19 in the Newstead Cultural Center\, 33 Main St.\, bottom floor of the library\, at 7 p.m. Eck will present her program “Emblem of Equality: Women’s Suffrage in WNY.” \nThis year marks the 100th anniversary of the ratification of the 19th Amendment\, grating American women the right to vote. Susan will examine the contributions of many area women to this major movement\, its long struggle and its eventual success. \nAttendance will be in person only. Following COVID-19 guidelines\, attendance will be limited and registration is required. To reserve your spot\, either send an email to info at newsteadhistoricalsociety.org or call either 542 – 7022 or 542 – 4191 and leave a message. \nTo learn more about future events\, visit newsteadhistoricalsociety.org.
URL:https://akronbugle.com/calendar/emblem-of-equality-womens-suffrage-in-wny-presentation/
LOCATION:Newstead Public Library\, 33 Main St.\, Akron\, NY\, 14001
CATEGORIES:Things to Do
END:VEVENT
BEGIN:VEVENT
DTSTART;TZID=America/New_York:20210610T173000
DTEND;TZID=America/New_York:20210610T183000
DTSTAMP:20260425T000347
CREATED:20210529T011444Z
LAST-MODIFIED:20210529T011444Z
UID:2394-1623346200-1623349800@akronbugle.com
SUMMARY:Good for the Neighborhood Drive-Thru Produce Event
DESCRIPTION:A Good for the Neighborhood Drive-Thru Produce Event is planned for Thursday\, June 10 from 5:30 to 6:30 p.m. at the Akron-Newstead Senior Center. This is a first-come\, first-service basis and brought to you by Independent Health Foundation and the Akron-Newstead Alliance.
URL:https://akronbugle.com/calendar/good-for-the-neighborhood-drive-thru-produce-event/
LOCATION:Akron-Newstead Senior Center\, 5691 Cummings Road\, Akron\, NY\, 14001
CATEGORIES:Senior Citizens,Things to Do
END:VEVENT
BEGIN:VEVENT
DTSTART;TZID=America/New_York:20210609T190000
DTEND;TZID=America/New_York:20210609T190000
DTSTAMP:20260425T000347
CREATED:20210529T013152Z
LAST-MODIFIED:20210529T013152Z
UID:2411-1623265200-1623265200@akronbugle.com
SUMMARY:Akron School Board of Education Meeting
DESCRIPTION:The Akron School Board of Education will hold a workshop meeting at 7 p.m. in the high school cafeteria.
URL:https://akronbugle.com/calendar/akron-school-board-of-education-meeting-2/
LOCATION:Akron Central School\, 47 Bloomingdale Ave.\, Akron\, NY\, 14001
CATEGORIES:Akron Central School
END:VEVENT
BEGIN:VEVENT
DTSTART;TZID=America/New_York:20210607T190000
DTEND;TZID=America/New_York:20210607T190000
DTSTAMP:20260425T000347
CREATED:20210529T010850Z
LAST-MODIFIED:20210529T010909Z
UID:2389-1623092400-1623092400@akronbugle.com
SUMMARY:Newstead Town Board Work Session
DESCRIPTION:The Newstead Town Board will hold a work session at 7 p.m. on Monday\, June 7 at the Town Hall\, 5 Clarence Center Road.
URL:https://akronbugle.com/calendar/newstead-town-board-meeting-4/
LOCATION:Newstead Town Hall\, 5 Clarence Center Road\, Akron\, NY\, 14001
CATEGORIES:Newstead Town Board
END:VEVENT
BEGIN:VEVENT
DTSTART;TZID=America/New_York:20210607T190000
DTEND;TZID=America/New_York:20210607T190000
DTSTAMP:20260425T000347
CREATED:20210529T010739Z
LAST-MODIFIED:20210529T010739Z
UID:2387-1623092400-1623092400@akronbugle.com
SUMMARY:Akron Village Board Meeting
DESCRIPTION:The Akron Village Board will host a work session on Monday\, June 7 at 6 p.m. at the Akron Village Hall\, followed by a regular meeting at 7 p.m.
URL:https://akronbugle.com/calendar/akron-village-board-meeting-6/
LOCATION:Akron Village Hall\, 21 Main St.\, Akron\, NY\, 14001
CATEGORIES:Akron Village Board
END:VEVENT
BEGIN:VEVENT
DTSTART;TZID=America/New_York:20210606T090000
DTEND;TZID=America/New_York:20210606T140000
DTSTAMP:20260425T000347
CREATED:20210529T003904Z
LAST-MODIFIED:20210529T003904Z
UID:2369-1622970000-1622988000@akronbugle.com
SUMMARY:West Shore Market
DESCRIPTION:The Market is designed to support all local businesses\, organizations and individuals and organizers welcome anyone with a passion for what they do. It will be open on the triangle of Village of Akron property at Cedar Street and Eckerson Ave. on Sundays from 9 a.m. to 2 p.m. Starting the last weekend in May through the last Sunday in October. \nAll vendor fees will go back to the community for festivals\, family crafts and fundraisers.
URL:https://akronbugle.com/calendar/west-shore-market-2/
LOCATION:West Shore Market\, Cedar St. & Eckerson Ave.\, Akron\, NY\, 14001
CATEGORIES:Things to Do
END:VEVENT
BEGIN:VEVENT
DTSTART;TZID=America/New_York:20210605T140000
DTEND;TZID=America/New_York:20210605T220000
DTSTAMP:20260425T000347
CREATED:20210529T010557Z
LAST-MODIFIED:20210529T011906Z
UID:2383-1622901600-1622930400@akronbugle.com
SUMMARY:2nd Annual Akron Lady Lions Destroyer Park Golf Tourney
DESCRIPTION:The Akron Lady Lions are planning their second annual Golf Tourney at Destroyer Park Golf\, Sandhill Road in Akron\, on Saturday\, June 5. \nMusic will be provided by DJ Don; door prizes; adult beverage tent; food trucks; basket raffles and silent auctions are part of the event. \nThe Lady Lions are offering two game options this year: an Early Bird Round begins with registration at 2 p.m. with a 3 p.m. shotgun start. A Night Owl Round begins with registration at 6 p.m. and a shotgun start at 7 p.m. \nTickets are available at Market on Main\, 77 Main St.\, Akron.
URL:https://akronbugle.com/calendar/2nd-annual-akron-lady-lions-destroyer-park-golf-tourney/
LOCATION:Destroyer Park Golf\, 7065 Sand Hill Road\, Akron\, NY\, 14001
CATEGORIES:Things to Do
END:VEVENT
BEGIN:VEVENT
DTSTART;TZID=America/New_York:20210531T090000
DTEND;TZID=America/New_York:20210531T110000
DTSTAMP:20260425T000347
CREATED:20210529T001959Z
LAST-MODIFIED:20210529T001959Z
UID:2362-1622451600-1622458800@akronbugle.com
SUMMARY:Memorial Day Parade & Ceremonies
DESCRIPTION:The Akron-Newstead Memorial Day Parade will be held at 9 a.m. and begin on Main Street\, followed by ceremonies in Russell Park and behind the Akron Fire Hall.
URL:https://akronbugle.com/calendar/memorial-day-parade-ceremonies/
LOCATION:Russell Park\, Main Street\, Akron\, NY\, 14001\, United States
CATEGORIES:Things to Do
END:VEVENT
BEGIN:VEVENT
DTSTART;TZID=America/New_York:20210531T080000
DTEND;TZID=America/New_York:20210531T120000
DTSTAMP:20260425T000347
CREATED:20210529T010028Z
LAST-MODIFIED:20210529T010204Z
UID:2378-1622448000-1622462400@akronbugle.com
SUMMARY:Memorial Day Fly-in Pancake Breakfast
DESCRIPTION:The Akron Rotary Club will host a Memorial Day Fly-In Pancake Breakfast at the Akron Airport’s Jesson Field from 8 a.m. to noon on Monday\, May 31. Tickets are $8 for Age 12 & Up\, $5 for kids ages 5-12 and free for children under 5. Proceeds benefit the Rotary Scholarship Program at Akron High School.
URL:https://akronbugle.com/calendar/memorial-day-fly-in-pancake-breakfast/
LOCATION:Akron Airport\, John St.\, Akron\, NY\, 14001
CATEGORIES:Things to Do
END:VEVENT
BEGIN:VEVENT
DTSTART;TZID=America/New_York:20210530T110000
DTEND;TZID=America/New_York:20210530T110000
DTSTAMP:20260425T000347
CREATED:20210529T012612Z
LAST-MODIFIED:20210529T012612Z
UID:2407-1622372400-1622372400@akronbugle.com
SUMMARY:Akron-Newstead Seniors Chicken BBQ
DESCRIPTION:The Akron-Newstead Seniors will host a Chicken BBQ at 11 a.m. on Sunday\, May 30 at Russell Park. Tickets are $10 pre-sale and $12 the day of the event.
URL:https://akronbugle.com/calendar/akron-newstead-seniors-chicken-bbq/
LOCATION:Russell Park\, Main Street\, Akron\, NY\, 14001\, United States
CATEGORIES:Things to Do
END:VEVENT
BEGIN:VEVENT
DTSTART;TZID=America/New_York:20210530T100000
DTEND;TZID=America/New_York:20210530T110000
DTSTAMP:20260425T000347
CREATED:20210529T001229Z
LAST-MODIFIED:20210529T001229Z
UID:2353-1622368800-1622372400@akronbugle.com
SUMMARY:Veterans Church Service
DESCRIPTION:The Calvary Baptist Church\, 12752 Lewis Road\, Akron\, will host a Veterans Church Service at 10 a.m. Veterans\, family and friends and are invited to a patriotic service honoring those who have served in the U.S. military. Guest speaker David Freeman will talk about those who gave their lives in service to their country and why Memorial Day still matters to us.
URL:https://akronbugle.com/calendar/veterans-church-service/
LOCATION:Calvary Baptist Church\, Lewis Rd\, Akron\, NY\, 14001\, United States
CATEGORIES:Things to Do
END:VEVENT
BEGIN:VEVENT
DTSTART;TZID=America/New_York:20210530T090000
DTEND;TZID=America/New_York:20210530T140000
DTSTAMP:20260425T000347
CREATED:20210529T003548Z
LAST-MODIFIED:20210529T003822Z
UID:2364-1622365200-1622383200@akronbugle.com
SUMMARY:West Shore Market
DESCRIPTION:West Shore Market\, a collaboration with the Village of Akron and Akron Chamber of Commerce\, will open this Sunday\, May 30. \nVendors wanting to participate may apply on the West Shore Market website. \nThe Market is designed to support all local businesses\, organizations and individuals and organizers welcome anyone with a passion for what they do. It will be open on the triangle of Village of Akron property at Cedar Street and Eckerson Ave. on Sundays from 9 a.m. to 2 p.m. Starting the last weekend in May through the last Sunday in October. \nAll vendor fees will go back to the community for festivals\, family crafts and fundraisers.
URL:https://akronbugle.com/calendar/west-shore-market/
LOCATION:West Shore Market\, Cedar St. & Eckerson Ave.\, Akron\, NY\, 14001
CATEGORIES:Things to Do
END:VEVENT
BEGIN:VEVENT
DTSTART;TZID=America/New_York:20210529T083000
DTEND;TZID=America/New_York:20210529T110000
DTSTAMP:20260425T000347
CREATED:20210529T000706Z
LAST-MODIFIED:20210529T000706Z
UID:2351-1622277000-1622286000@akronbugle.com
SUMMARY:Gravesite Flag Placement
DESCRIPTION:The VFW Post 3180 will host a Gravesite Flag Placement beginning with a continental breakfast at 8:30 a.m. at the Post\, located at 35 Lewis Road. At 9 a.m.\, volunteers will pick up flags and ceremony assignments at the VFW and place flags thru 11 a.m.
URL:https://akronbugle.com/calendar/gravesite-flag-placement/
LOCATION:VFW Post 3180 of Akron/Newstead\, 35 Lewis Road\, Akron\, NY\, 14001
CATEGORIES:Things to Do
END:VEVENT
BEGIN:VEVENT
DTSTART;TZID=America/New_York:20210526T190000
DTEND;TZID=America/New_York:20210526T190000
DTSTAMP:20260425T000347
CREATED:20210529T005601Z
LAST-MODIFIED:20210529T005601Z
UID:2376-1622055600-1622055600@akronbugle.com
SUMMARY:Akron School Board of Education Meeting
DESCRIPTION:The Akron School Board of Education will meet at 7 p.m. on Wednesday\, May 26 in the high school cafeteria or on Zoom.
URL:https://akronbugle.com/calendar/akron-school-board-of-education-meeting/
LOCATION:Akron Central School\, 47 Bloomingdale Ave.\, Akron\, NY\, 14001
CATEGORIES:Akron Central School
END:VEVENT
BEGIN:VEVENT
DTSTART;TZID=America/New_York:20210418T130000
DTEND;TZID=America/New_York:20210418T150000
DTSTAMP:20260425T000347
CREATED:20210412T181827Z
LAST-MODIFIED:20210412T181903Z
UID:2246-1618750800-1618758000@akronbugle.com
SUMMARY:Knight-Sutton Museum opens
DESCRIPTION:The Newstead Historical Society  “Akron Through the Years” exhibit opens on Sunday\, April 18 from 1 to 3 p.m. at the museum on Main Street\, Akron.
URL:https://akronbugle.com/calendar/knight-sutton-museum-opens/
LOCATION:Knight-Sutton Museum\, Main Street\, Akron\, NY\, 14001\, United States
CATEGORIES:Things to Do
END:VEVENT
BEGIN:VEVENT
DTSTART;TZID=America/New_York:20210301T180000
DTEND;TZID=America/New_York:20210301T200000
DTSTAMP:20260425T000347
CREATED:20210212T222852Z
LAST-MODIFIED:20210212T222852Z
UID:2094-1614621600-1614628800@akronbugle.com
SUMMARY:Akron Village Board meeting
DESCRIPTION:Akron Village Board meeting – Monday\, March 1\, 2021 – 6:00 p.m. work session\, 7:00 p.m. meeting Akron Village Hall\, Main Street\, Akron\, NY.  Please note – Under the current COVID-19 protocol the Village Board can meet by email\, video chat\, phone call without public present if they need too.
URL:https://akronbugle.com/calendar/akron-village-board-meeting-5/
LOCATION:NY
CATEGORIES:Akron Village Board,Village & Town Meetings
ATTACH;FMTTYPE=image/jpeg:https://akronbugle.com/wp-content/uploads/2020/04/VillageHall-WEB9725-e1586373585875.jpg
END:VEVENT
BEGIN:VEVENT
DTSTART;TZID=America/New_York:20210222T183000
DTEND;TZID=America/New_York:20210222T203000
DTSTAMP:20260425T000347
CREATED:20210212T222523Z
LAST-MODIFIED:20210212T222523Z
UID:2092-1614018600-1614025800@akronbugle.com
SUMMARY:Newstead Town Board meeting
DESCRIPTION:Work Session 6:45; Meeting 7:30 p.m.\, Monday\, February 22\, 2021\, 5 Clarence Center Rd.\, Akron\, NY.  Please note – Under the current COVID-19 protocol the Town Board can meet by email\, video chat\, phone call without public present if they need too.
URL:https://akronbugle.com/calendar/newstead-town-board-meeting-3/
LOCATION:NY
CATEGORIES:Newstead Town Board,Village & Town Meetings
END:VEVENT
BEGIN:VEVENT
DTSTART;TZID=America/New_York:20210222T180000
DTEND;TZID=America/New_York:20210222T203000
DTSTAMP:20260425T000347
CREATED:20210212T222148Z
LAST-MODIFIED:20210212T222148Z
UID:2090-1614016800-1614025800@akronbugle.com
SUMMARY:Akron Village Board meeting
DESCRIPTION:  \n6:00 p.m. work session \n7:00 p.m. meeting \nPlease note – Under the current COVID-19 protocol the Village Board can meet by email\, video chat\, phone call without public present if they need too.
URL:https://akronbugle.com/calendar/akron-village-board-meeting-4/
LOCATION:Akron Village Hall\, 21 Main St.\, Akron\, NY\, 14001
CATEGORIES:Akron Village Board,Village & Town Meetings
ATTACH;FMTTYPE=image/jpeg:https://akronbugle.com/wp-content/uploads/2020/04/VillageHall-WEB9725-e1586373585875.jpg
END:VEVENT
BEGIN:VEVENT
DTSTART;TZID=America/New_York:20201216T190000
DTEND;TZID=America/New_York:20201216T203000
DTSTAMP:20260425T000347
CREATED:20201203T225341Z
LAST-MODIFIED:20201206T225534Z
UID:1969-1608145200-1608150600@akronbugle.com
SUMMARY:Akron Central School Board of Education business meeting
DESCRIPTION:Public via ZOOM link at akronschools.org
URL:https://akronbugle.com/calendar/akron-central-school-board-of-education-business-meeting-2/
LOCATION:Akron Central School\, 47 Bloomingdale Ave.\, Akron\, NY\, 14001
CATEGORIES:Akron Central School
END:VEVENT
BEGIN:VEVENT
DTSTART;TZID=America/New_York:20201214T183000
DTEND;TZID=America/New_York:20201214T203000
DTSTAMP:20260425T000347
CREATED:20201203T225035Z
LAST-MODIFIED:20201206T225317Z
UID:1967-1607970600-1607977800@akronbugle.com
SUMMARY:Newstead Town Board work session and meeting
DESCRIPTION:Work Session 6:45 p.m.\, regular meeting 7:30 p.m. Please note – Under the current COVID-19 protocol the Town Board can meet by email\, video chat\, phone call without public present if they need too.
URL:https://akronbugle.com/calendar/newstead-town-board-work-session-and-meeting/
LOCATION:Newstead Town Hall\, 5 Clarence Center Road\, Akron\, NY\, 14001
CATEGORIES:Newstead Town Board,Village & Town Meetings
END:VEVENT
BEGIN:VEVENT
DTSTART;TZID=America/New_York:20201212T120000
DTEND;TZID=America/New_York:20201212T190000
DTSTAMP:20260425T000347
CREATED:20201203T224200Z
LAST-MODIFIED:20201206T224941Z
UID:1965-1607774400-1607799600@akronbugle.com
SUMMARY:"Light Up Akron"
DESCRIPTION:Chicken barbecue \nAkron Music Parents will host their Annual Chicken BBQ\, at the Russell Park shelter. Saturday\, December 12 from Noon to 3 p.m. \nPresale tickets will be available from Akron Central Music Students or by calling Amy Cummings at 716-316-3069.  Cut off for pre-sale is Monday\, December 7.  There will be a drive-up zone for presale orders and a food line for day of sales.  Participants must wear a mask\, follow guidelines\, must social distance in line. Pick up food and exit. \nAll proceeds benefit the AMP Senior Scholarship fund. \nCar/Firetruck Parade weaving through the village begins at 4 p.m. \nThis year participants are to line up at the Joint Department of Public Works Facility located at 12707 Clarence Center Rd.\, in Akron. Lineup will begin at 3:30 p.m. and anyone participating must have cars or trucks brightly decorated.  Sadly\, there will be no foot parade this year and no floats will be allowed. \nTree lighting – during parade – watch live stream \nShopping – See individual stores for details \nMusic – along Main Street \n 
URL:https://akronbugle.com/calendar/light-up-akron/
LOCATION:Russell Park\, Main Street\, Akron\, NY\, 14001\, United States
CATEGORIES:Things to Do
END:VEVENT
BEGIN:VEVENT
DTSTART;TZID=America/New_York:20201207T190000
DTEND;TZID=America/New_York:20201207T210000
DTSTAMP:20260425T000347
CREATED:20201203T223922Z
LAST-MODIFIED:20201206T224117Z
UID:1963-1607367600-1607374800@akronbugle.com
SUMMARY:Newstead Town Board work session
DESCRIPTION:Please note – Under the current COVID-19 protocol the Town Board can meet by email\, video chat\, phone call without public present if they need too.
URL:https://akronbugle.com/calendar/newstead-town-board-work-session/
LOCATION:Newstead Town Hall\, 5 Clarence Center Road\, Akron\, NY\, 14001
CATEGORIES:Newstead Town Board,Village & Town Meetings
END:VEVENT
BEGIN:VEVENT
DTSTART;TZID=America/New_York:20201207T180000
DTEND;TZID=America/New_York:20201207T200000
DTSTAMP:20260425T000347
CREATED:20201203T223333Z
LAST-MODIFIED:20201206T223847Z
UID:1961-1607364000-1607371200@akronbugle.com
SUMMARY:Akron Village Board work session and meeting
DESCRIPTION:Please note – Under the current COVID-19 protocol the Village Board can meet by email\, video chat\, phone call without public present if they need too.
URL:https://akronbugle.com/calendar/akron-village-board-work-session-and-meeting/
LOCATION:Akron Village Hall\, 21 Main St.\, Akron\, NY\, 14001
CATEGORIES:Akron Village Board,Village & Town Meetings
END:VEVENT
BEGIN:VEVENT
DTSTART;TZID=America/New_York:20201205T170000
DTEND;TZID=America/New_York:20201205T193000
DTSTAMP:20260425T000347
CREATED:20201126T220622Z
LAST-MODIFIED:20201130T220940Z
UID:1935-1607187600-1607196600@akronbugle.com
SUMMARY:Drive Through Living Nativity
DESCRIPTION:
URL:https://akronbugle.com/calendar/drive-through-living-nativity/
LOCATION:Calvary Baptist Church\, Lewis Rd\, Akron\, NY\, 14001\, United States
CATEGORIES:Things to Do
END:VEVENT
BEGIN:VEVENT
DTSTART;TZID=America/New_York:20201203T140000
DTEND;TZID=America/New_York:20201203T180000
DTSTAMP:20260425T000347
CREATED:20201126T220140Z
LAST-MODIFIED:20201130T220524Z
UID:1932-1607004000-1607018400@akronbugle.com
SUMMARY:American Red Cross bloodmobile
DESCRIPTION:
URL:https://akronbugle.com/calendar/american-red-cross-bloodmobile/
LOCATION:American Legion LL Tillman Post 900\, 9 Eckerson Ave. Akron.\, 9 Eckerson Ave.\, Akron\, New York\, 14001
CATEGORIES:Things to Do
END:VEVENT
END:VCALENDAR