BEGIN:VCALENDAR
VERSION:2.0
PRODID:-//Akron Bugle - ECPv6.15.20//NONSGML v1.0//EN
CALSCALE:GREGORIAN
METHOD:PUBLISH
X-WR-CALNAME:Akron Bugle
X-ORIGINAL-URL:https://akronbugle.com
X-WR-CALDESC:Events for Akron Bugle
REFRESH-INTERVAL;VALUE=DURATION:PT1H
X-Robots-Tag:noindex
X-PUBLISHED-TTL:PT1H
BEGIN:VTIMEZONE
TZID:America/New_York
BEGIN:DAYLIGHT
TZOFFSETFROM:-0500
TZOFFSETTO:-0400
TZNAME:EDT
DTSTART:20190310T070000
END:DAYLIGHT
BEGIN:STANDARD
TZOFFSETFROM:-0400
TZOFFSETTO:-0500
TZNAME:EST
DTSTART:20191103T060000
END:STANDARD
BEGIN:DAYLIGHT
TZOFFSETFROM:-0500
TZOFFSETTO:-0400
TZNAME:EDT
DTSTART:20200308T070000
END:DAYLIGHT
BEGIN:STANDARD
TZOFFSETFROM:-0400
TZOFFSETTO:-0500
TZNAME:EST
DTSTART:20201101T060000
END:STANDARD
BEGIN:DAYLIGHT
TZOFFSETFROM:-0500
TZOFFSETTO:-0400
TZNAME:EDT
DTSTART:20210314T070000
END:DAYLIGHT
BEGIN:STANDARD
TZOFFSETFROM:-0400
TZOFFSETTO:-0500
TZNAME:EST
DTSTART:20211107T060000
END:STANDARD
END:VTIMEZONE
BEGIN:VEVENT
DTSTART;TZID=America/New_York:20200914T190000
DTEND;TZID=America/New_York:20200914T190000
DTSTAMP:20260425T062131
CREATED:20200905T195749Z
LAST-MODIFIED:20200905T200701Z
UID:1600-1600110000-1600110000@akronbugle.com
SUMMARY:Akron Village Board Meeting
DESCRIPTION:The Akron Village Board will meet on Monday\, Sept. 14 with a work session at 6 p.m. followed by the meeting at 7 pm.m. at Akron Village Hall\, Main Street in Akron. Please note — under the current COVID-19 protocol the Village Board can meet by mail\, video chat or phone call without public present if needed.
URL:https://akronbugle.com/calendar/akron-village-board-meeting/
LOCATION:Akron Village Hall\, 21 Main St.\, Akron\, NY\, 14001
CATEGORIES:Akron Village Board,Village & Town Meetings
END:VEVENT
BEGIN:VEVENT
DTSTART;TZID=America/New_York:20200914T180000
DTEND;TZID=America/New_York:20200914T200000
DTSTAMP:20260425T062131
CREATED:20200912T151609Z
LAST-MODIFIED:20200912T151609Z
UID:1757-1600106400-1600113600@akronbugle.com
SUMMARY:Scouts Interest Meeting
DESCRIPTION:All of those interested in participating in Scouts this year are invited to our signup\, kickoff meeting on Monday\, Sept. 14 from 6 to 8 p.m. at the Akron Masonic Lodge parking lot\, 63 John St. \nWe will have hot dogs\, beverages and have games provided. The age group will be 11-18 years old\, Grade 6 and above. If you enjoy camping\, learning lifelong skills and participating in events with students your age\, come check out what Scouts has to offer.
URL:https://akronbugle.com/calendar/scouts-interest-meeting/
LOCATION:Akron Masonic Lodge\, 63 John St.\, Akron\, NY\, 14001
END:VEVENT
BEGIN:VEVENT
DTSTART;TZID=America/New_York:20200912T110000
DTEND;TZID=America/New_York:20200912T140000
DTSTAMP:20260425T062131
CREATED:20200908T224422Z
LAST-MODIFIED:20200908T230737Z
UID:1712-1599908400-1599919200@akronbugle.com
SUMMARY:Girl Scout fundraiser
DESCRIPTION:Basket raffle\, games\, dogs looking for a home\, and food.  Masks must be worn.
URL:https://akronbugle.com/calendar/girl-scout-fundraiser/
LOCATION:Russell Park\, Main Street\, Akron\, NY\, 14001\, United States
CATEGORIES:Things to Do
END:VEVENT
BEGIN:VEVENT
DTSTART;TZID=America/New_York:20200912T100000
DTEND;TZID=America/New_York:20200912T150000
DTSTAMP:20260425T062131
CREATED:20200905T201648Z
LAST-MODIFIED:20200907T160812Z
UID:1607-1599904800-1599922800@akronbugle.com
SUMMARY:Eagle Scout Project Fundraiser
DESCRIPTION:Dylan Scotch is fundraising for his Community Garden Eagle Scout Project on Saturday\, Sept. 12 from 10 a.m. to 3 p.m. at the garden at the Wright Center. \nPaula’s Donuts\, hot dogs\, desserts\, etc. are on the fundraiser menu. Information about the garden\, its planned layout\, related garden programs and plants and flowers will be selected for the project will be shared. \nInformation about the C. Dee Wright Community Ministry Center programs\, REACH\, Tender Paws Pet Food Pantry\, and other community programs will also be available. \nMasks and social distancing will be in effect.
URL:https://akronbugle.com/calendar/eagle-scout-project-fundraiser/
LOCATION:C. Dee Wright Community Center\, 11 Church St.\, Akron\, NY\, 14001
CATEGORIES:Things to Do
END:VEVENT
BEGIN:VEVENT
DTSTART;TZID=America/New_York:20200905T130000
DTEND;TZID=America/New_York:20200905T130000
DTSTAMP:20260425T062131
CREATED:20200904T174341Z
LAST-MODIFIED:20200905T200632Z
UID:1559-1599310800-1599310800@akronbugle.com
SUMMARY:Drive-Thru Chicken BBQ & Chowder
DESCRIPTION:The Akron V.F.W. Post 3180 will host a Drive-Thru Chicken BBQ & Chowder Sale on Saturday\, Sept. 5 beginning at 1 p.m. until sold out. \nRick’s Chicks Delicious BBQ Chicken dinners will include salt potatoes\, Cole slaw\, baked beans and roll and butter. Cost is $12 per dinner. Dawn’s Famous Chicken & Clam Chowder is $8 per quart and $25 per gallon. \nThere will also be a drive-thru 50/50 raffle. \nV.F.W. Post 3180 is located on Lewis Road in Akron.
URL:https://akronbugle.com/calendar/drive-thru-chicken-bbq-chowder/
LOCATION:V.F.W. Post 3180\, Lewis Road\, Akron\, NY\, 14001
END:VEVENT
END:VCALENDAR