BEGIN:VCALENDAR
VERSION:2.0
PRODID:-//Akron Bugle - ECPv6.15.20//NONSGML v1.0//EN
CALSCALE:GREGORIAN
METHOD:PUBLISH
X-WR-CALNAME:Akron Bugle
X-ORIGINAL-URL:https://akronbugle.com
X-WR-CALDESC:Events for Akron Bugle
REFRESH-INTERVAL;VALUE=DURATION:PT1H
X-Robots-Tag:noindex
X-PUBLISHED-TTL:PT1H
BEGIN:VTIMEZONE
TZID:America/New_York
BEGIN:DAYLIGHT
TZOFFSETFROM:-0500
TZOFFSETTO:-0400
TZNAME:EDT
DTSTART:20230312T070000
END:DAYLIGHT
BEGIN:STANDARD
TZOFFSETFROM:-0400
TZOFFSETTO:-0500
TZNAME:EST
DTSTART:20231105T060000
END:STANDARD
BEGIN:DAYLIGHT
TZOFFSETFROM:-0500
TZOFFSETTO:-0400
TZNAME:EDT
DTSTART:20240310T070000
END:DAYLIGHT
BEGIN:STANDARD
TZOFFSETFROM:-0400
TZOFFSETTO:-0500
TZNAME:EST
DTSTART:20241103T060000
END:STANDARD
BEGIN:DAYLIGHT
TZOFFSETFROM:-0500
TZOFFSETTO:-0400
TZNAME:EDT
DTSTART:20250309T070000
END:DAYLIGHT
BEGIN:STANDARD
TZOFFSETFROM:-0400
TZOFFSETTO:-0500
TZNAME:EST
DTSTART:20251102T060000
END:STANDARD
END:VTIMEZONE
BEGIN:VEVENT
DTSTART;TZID=America/New_York:20240706T100000
DTEND;TZID=America/New_York:20240706T140000
DTSTAMP:20260423T220919
CREATED:20240705T122934Z
LAST-MODIFIED:20240705T122934Z
UID:4884-1720260000-1720274400@akronbugle.com
SUMMARY:Annual Kids' Day at Limerick School
DESCRIPTION:Second Annual Kids’ Day at Limerick School – July 6 from 10 a.m. to 2 p.m. Free Event
URL:https://akronbugle.com/calendar/annual-kids-day-at-limerick-school/
LOCATION:Limerick Hall\, 12579 Clarence Center Road\, Akron\, NY\, 14001\, United States
CATEGORIES:Things to Do
END:VEVENT
BEGIN:VEVENT
DTSTART;TZID=America/New_York:20240705T200000
DTEND;TZID=America/New_York:20240705T213000
DTSTAMP:20260423T220919
CREATED:20240705T122453Z
LAST-MODIFIED:20240705T122453Z
UID:4882-1720209600-1720215000@akronbugle.com
SUMMARY:Akron Community Band concert
DESCRIPTION:Akron Community Band Concert  – Friday\, July 5\, Russell Park\, Akron 8 to 9:30 p.m.  Sponsored by Village of Akron\, Town of Newstead\, and County of Erie.
URL:https://akronbugle.com/calendar/akron-community-band-concert-20/
LOCATION:Russell Park\, Main Street\, Akron\, NY\, 14001\, United States
CATEGORIES:Things to Do
END:VEVENT
BEGIN:VEVENT
DTSTART;TZID=America/New_York:20240704T130000
DTEND;TZID=America/New_York:20240704T150000
DTSTAMP:20260423T220919
CREATED:20240629T225714Z
LAST-MODIFIED:20240629T225714Z
UID:4876-1720098000-1720105200@akronbugle.com
SUMMARY:Walk Through Tour of the Octagon House
DESCRIPTION:Walk Through Tour of the Octagon House – Thursday\, July 4 from 10am -12pm & 1pm -3pm\, 145 Main St. Akron\, NY.
URL:https://akronbugle.com/calendar/walk-through-tour-of-the-octagon-house/
LOCATION:New York
CATEGORIES:Things to Do
END:VEVENT
BEGIN:VEVENT
DTSTART;TZID=America/New_York:20240704T100000
DTEND;TZID=America/New_York:20240704T160000
DTSTAMP:20260423T220919
CREATED:20240629T225958Z
LAST-MODIFIED:20240629T225958Z
UID:4878-1720087200-1720108800@akronbugle.com
SUMMARY:Knight-Sutton Museum & Research Center Exhibits
DESCRIPTION:Knight-Sutton Museum & Research Center Exhibits – Thursday\, July 4 from 10am -4pm\, 123 Main St. Akron\, NY
URL:https://akronbugle.com/calendar/knight-sutton-museum-research-center-exhibits/
LOCATION:Knight-Sutton Museum\, Main Street\, Akron\, NY\, 14001\, United States
CATEGORIES:Things to Do
END:VEVENT
BEGIN:VEVENT
DTSTART;TZID=America/New_York:20240704T100000
DTEND;TZID=America/New_York:20240704T120000
DTSTAMP:20260423T220919
CREATED:20240629T011319Z
LAST-MODIFIED:20240629T011319Z
UID:4874-1720087200-1720094400@akronbugle.com
SUMMARY:Walk Through Tour of Octagon House
DESCRIPTION:Walk Through Tour of the Octagon House – Thursday\, July 4 from 10am -12pm & 1pm -3pm\, 145 Main St. Akron\, NY.
URL:https://akronbugle.com/calendar/walk-through-tour-of-octagon-house/
LOCATION:Rich-Twin Octagon House\, 145 Main Street\, Akron\, NY\, 14001\, United States
CATEGORIES:Things to Do
END:VEVENT
BEGIN:VEVENT
DTSTART;TZID=America/New_York:20240701T180000
DTEND;TZID=America/New_York:20240701T200000
DTSTAMP:20260423T220919
CREATED:20240629T011045Z
LAST-MODIFIED:20240629T011045Z
UID:4872-1719856800-1719864000@akronbugle.com
SUMMARY:Akron Village Board meeting
DESCRIPTION:Akron Village Board meeting – Monday\, July 1 – Work Session 6 p.m.; Regular meeting 7 p.m.\, Akron Village Hall\, 21 Main St.\, Akron.
URL:https://akronbugle.com/calendar/akron-village-board-meeting-31/
LOCATION:Akron Village Hall\, 21 Main St.\, Akron\, NY\, 14001
CATEGORIES:Akron Village Board,Village & Town Meetings
END:VEVENT
BEGIN:VEVENT
DTSTART;TZID=America/New_York:20240627T173000
DTEND;TZID=America/New_York:20240627T203000
DTSTAMP:20260423T220919
CREATED:20240629T010551Z
LAST-MODIFIED:20240629T010551Z
UID:4869-1719509400-1719520200@akronbugle.com
SUMMARY:Thursday Night Cruise Night
DESCRIPTION:Thursday Night Cruise Nights – sponsored by Akron Chamber of Commerce.  June 27 Mopar Night  sponsored by Jan’s Smoke Shop and Gas – Main Street Akron from 5:30 to 8:30 p.m.
URL:https://akronbugle.com/calendar/thursday-night-cruise-night/
LOCATION:Downtown Akron\, Akron\, NY\, 14001
CATEGORIES:Things to Do
END:VEVENT
BEGIN:VEVENT
DTSTART;TZID=America/New_York:20240510T190000
DTEND;TZID=America/New_York:20240510T213000
DTSTAMP:20260423T220919
CREATED:20240503T163254Z
LAST-MODIFIED:20240503T163318Z
UID:4806-1715367600-1715376600@akronbugle.com
SUMMARY:Corfu Grange Open House
DESCRIPTION:Corfu Grange Open House to Celebrate their 150th Birthday – 7 p.m. on Friday\, May 10 – Free public concert by the Alexander Firemen’s band at the Grange hall\, rain or shine. (outdoors\, weather permitting) Bring a lawn chair. Birthday cake will be served and the annual baking contest held. Recognition of 40 and 50-year Grange membership.
URL:https://akronbugle.com/calendar/corfu-grange-open-house/
LOCATION:Corfu Grange\, 71 Alleghany Rd\, Corfu\, NY\, 14036\, United States
CATEGORIES:Things to Do
END:VEVENT
BEGIN:VEVENT
DTSTART;TZID=America/New_York:20240509T190000
DTEND;TZID=America/New_York:20240509T203000
DTSTAMP:20260423T220919
CREATED:20240503T162806Z
LAST-MODIFIED:20240503T162806Z
UID:4804-1715281200-1715286600@akronbugle.com
SUMMARY:History of the Railroads that Served Akron and Newstead
DESCRIPTION:History of the Railroads that Served Akron and Newstead – Thursday – May 9\, 7 p.m.\, Newstead Town Hall\, 5 Clarence Center Rd.
URL:https://akronbugle.com/calendar/history-of-the-railroads-that-served-akron-and-newstead/
LOCATION:Newstead Town Hall\, 5 Clarence Center Road\, Akron\, NY\, 14001
CATEGORIES:Things to Do
END:VEVENT
BEGIN:VEVENT
DTSTART;TZID=America/New_York:20240507T123000
DTEND;TZID=America/New_York:20240507T133000
DTSTAMP:20260423T220919
CREATED:20240503T162605Z
LAST-MODIFIED:20240503T162605Z
UID:4802-1715085000-1715088600@akronbugle.com
SUMMARY:FeedMore Farm Market Truck
DESCRIPTION:FeedMore Farm Market Truck will visit Akron-Newstead Senior Center every 1st and 3rd Tuesday and the Newstead Public Library every 2nd and 3rd Tuesday from 12:30 p.m. until 1:30 p.m.  Beginning Tuesday\, May 7.
URL:https://akronbugle.com/calendar/feedmore-farm-market-truck/
LOCATION:Akron-Newstead Senior Center\, 5691 Cummings Road\, Akron\, NY\, 14001
CATEGORIES:Things to Do
END:VEVENT
BEGIN:VEVENT
DTSTART;TZID=America/New_York:20240506T190000
DTEND;TZID=America/New_York:20240506T210000
DTSTAMP:20260423T220919
CREATED:20240503T162359Z
LAST-MODIFIED:20240503T162359Z
UID:4800-1715022000-1715029200@akronbugle.com
SUMMARY:Newstead Town Board work session
DESCRIPTION:Newstead Town Board meeting – Monday\, May 6 – Work Session 7:00 p.m.  5 Clarence Center Road\, Akron\, NY.
URL:https://akronbugle.com/calendar/newstead-town-board-work-session-8/
LOCATION:Newstead Town Hall\, 5 Clarence Center Road\, Akron\, NY\, 14001
CATEGORIES:Newstead Town Board,Village & Town Meetings
END:VEVENT
BEGIN:VEVENT
DTSTART;TZID=America/New_York:20240505T130000
DTEND;TZID=America/New_York:20240505T150000
DTSTAMP:20260423T220919
CREATED:20240503T151146Z
LAST-MODIFIED:20240503T151146Z
UID:4798-1714914000-1714921200@akronbugle.com
SUMMARY:Knight-Sutton Museum Exhibits
DESCRIPTION:Knight-Sutton Museum & Research Center Exhibits – Sunday\, May 5 from 1-3 p.m.\, 123 Main St. Akron\, NY
URL:https://akronbugle.com/calendar/knight-sutton-museum-exhibits/
LOCATION:Knight-Sutton Museum\, Main Street\, Akron\, NY\, 14001\, United States
CATEGORIES:Things to Do
END:VEVENT
BEGIN:VEVENT
DTSTART;TZID=America/New_York:20240505T130000
DTEND;TZID=America/New_York:20240505T150000
DTSTAMP:20260423T220919
CREATED:20240503T150904Z
LAST-MODIFIED:20240503T150904Z
UID:4795-1714914000-1714921200@akronbugle.com
SUMMARY:Octagon House tour
DESCRIPTION:Highlights of the Octagon House Tours– Sunday\, May 5 from 1 -3 p.m.\, 145 Main St. Akron\, NY.
URL:https://akronbugle.com/calendar/octagon-house-tour/
LOCATION:Rich-Twin Octagon House\, 145 Main Street\, Akron\, NY\, 14001\, United States
CATEGORIES:Things to Do
END:VEVENT
BEGIN:VEVENT
DTSTART;TZID=America/New_York:20240505T130000
DTEND;TZID=America/New_York:20240505T150000
DTSTAMP:20260423T220919
CREATED:20240503T150416Z
LAST-MODIFIED:20240503T150416Z
UID:4793-1714914000-1714921200@akronbugle.com
SUMMARY:Limerick School/Hall Tours
DESCRIPTION:Limerick School/Hall Tours – open free of charge Sunday\, May 5\, 6074 Cummings Rd. Akron\, NY.
URL:https://akronbugle.com/calendar/limerick-school-hall-tours/
LOCATION:New York
CATEGORIES:Things to Do
END:VEVENT
BEGIN:VEVENT
DTSTART;TZID=America/New_York:20240504T100000
DTEND;TZID=America/New_York:20240504T140000
DTSTAMP:20260423T220919
CREATED:20240503T150145Z
LAST-MODIFIED:20240503T150145Z
UID:4791-1714816800-1714831200@akronbugle.com
SUMMARY:'Fashion in Akron'
DESCRIPTION:“Fashion in Akron” sponsored by NHS Knight-Sutton Museum and Main Street Merchants\, on Saturday\, May 4\, from 10 a.m. to 2 p.m.
URL:https://akronbugle.com/calendar/fashion-in-akron/
LOCATION:Downtown Akron\, Akron\, NY\, 14001
CATEGORIES:Things to Do
END:VEVENT
BEGIN:VEVENT
DTSTART;TZID=America/New_York:20240415T190000
DTEND;TZID=America/New_York:20240415T200000
DTSTAMP:20260423T220919
CREATED:20240407T230837Z
LAST-MODIFIED:20240407T230837Z
UID:4773-1713207600-1713211200@akronbugle.com
SUMMARY:Newstead Town Board work session
DESCRIPTION:Newstead Town Board meeting – Monday\, April 15 – Work Session 7:00 p.m.
URL:https://akronbugle.com/calendar/newstead-town-board-work-session-7/
LOCATION:Newstead Town Hall\, 5 Clarence Center Road\, Akron\, NY\, 14001
END:VEVENT
BEGIN:VEVENT
DTSTART;TZID=America/New_York:20240412T180000
DTEND;TZID=America/New_York:20240412T213000
DTSTAMP:20260423T220919
CREATED:20240407T230656Z
LAST-MODIFIED:20240407T230656Z
UID:4771-1712944800-1712957400@akronbugle.com
SUMMARY:Meat Raffle
DESCRIPTION:Meat Raffle – sponsored by Newstead Fire Co. Auxiliary and Exempts\, Friday\, April 12\, 2024\, 5691 Cummings Road\, Akron\, NY.
URL:https://akronbugle.com/calendar/meat-raffle-2/
LOCATION:Newstead Fire Hall\, 5621 Cummings Road\, Akron\, NY\, 14001
END:VEVENT
BEGIN:VEVENT
DTSTART;TZID=America/New_York:20240411T190000
DTEND;TZID=America/New_York:20240411T203000
DTSTAMP:20260423T220919
CREATED:20240407T230343Z
LAST-MODIFIED:20240407T230343Z
UID:4769-1712862000-1712867400@akronbugle.com
SUMMARY:Whiting Roll-Up Door Presentation
DESCRIPTION:Whiting Roll-Up Door Presentation – Thursday – April 11\, 7 p.m.\, Newstead Town Hall\, 5 Clarence Center Rd
URL:https://akronbugle.com/calendar/whiting-roll-up-door-presentation/
LOCATION:Newstead Town Hall\, 5 Clarence Center Road\, Akron\, NY\, 14001
END:VEVENT
BEGIN:VEVENT
DTSTART;TZID=America/New_York:20240327T190000
DTEND;TZID=America/New_York:20240327T203000
DTSTAMP:20260423T220919
CREATED:20240322T200411Z
LAST-MODIFIED:20240322T200411Z
UID:4759-1711566000-1711571400@akronbugle.com
SUMMARY:Akron Central School Board of Education meeting
DESCRIPTION:Akron Central School Board of Education meeting – Wednesday\, March 27\, 7:00 p.m. 47 Bloomingdale Ave.\, Akron\, NY.
URL:https://akronbugle.com/calendar/akron-central-school-board-of-education-meeting-8/
LOCATION:Akron Central School\, 47 Bloomingdale Ave.\, Akron\, NY\, 14001
END:VEVENT
BEGIN:VEVENT
DTSTART;TZID=America/New_York:20240325T183000
DTEND;TZID=America/New_York:20240325T203000
DTSTAMP:20260423T220919
CREATED:20240322T195307Z
LAST-MODIFIED:20240322T195307Z
UID:4757-1711391400-1711398600@akronbugle.com
SUMMARY:Newstead Town Board meeting
DESCRIPTION:Newstead Town Board meeting – Monday\, March 25 – Work Session 6:45 p.m.\, Regular meeting 7:30 p.m.
URL:https://akronbugle.com/calendar/newstead-town-board-meeting-29/
LOCATION:Akron Village Hall\, 21 Main St.\, Akron\, NY\, 14001
CATEGORIES:Akron Village Board,Village & Town Meetings
END:VEVENT
BEGIN:VEVENT
DTSTART;TZID=America/New_York:20240323T100000
DTEND;TZID=America/New_York:20240323T110000
DTSTAMP:20260423T220919
CREATED:20240322T194819Z
LAST-MODIFIED:20240322T194819Z
UID:4752-1711188000-1711191600@akronbugle.com
SUMMARY:Easter Egg Hunt
DESCRIPTION:Easter Egg Hunt – sponsored by Newstead Fire Company\, 5691 Cummings Road\, Akron\, NY\, March 23\, 2024.
URL:https://akronbugle.com/calendar/easter-egg-hunt/
LOCATION:Newstead Fire Hall\, 5621 Cummings Road\, Akron\, NY\, 14001
END:VEVENT
BEGIN:VEVENT
DTSTART;TZID=America/New_York:20240323T090000
DTEND;TZID=America/New_York:20240323T090000
DTSTAMP:20260423T220919
CREATED:20240322T195139Z
LAST-MODIFIED:20240322T195139Z
UID:4754-1711184400-1711184400@akronbugle.com
SUMMARY:Easter Egg Hunt
DESCRIPTION:Easter Egg Hunt – sponsored by St. Michael’s Lutheran Church\, 6379 Wolcottsville Road\, Akron\, NY 9 a.m. sharp.  Ages 2 – 12.  Photos with the Easter bunny.
URL:https://akronbugle.com/calendar/easter-egg-hunt-2/
LOCATION:St. Michael’s Lutheran Church\, Wolcottsville Rd.\, Akron\, NY\, 14001\, United States
END:VEVENT
BEGIN:VEVENT
DTSTART;TZID=America/New_York:20240316T180000
DTEND;TZID=America/New_York:20240316T220000
DTSTAMP:20260423T220919
CREATED:20240309T125853Z
LAST-MODIFIED:20240309T125853Z
UID:4725-1710612000-1710626400@akronbugle.com
SUMMARY:Meat Raffle
DESCRIPTION:Meat Raffle – sponsored by Akron Newstead Rotary\, Saturday March 16\, 2024 from 6 p.m. To 10 p.m. at the American Legion\, 9 Eckerson Avenue\, Akron\, NY.  Tickets available at akronnewsteadrotary.square.site
URL:https://akronbugle.com/calendar/meat-raffle/
LOCATION:American Legion LL Tillman Post 900\, 9 Eckerson Ave. Akron.\, 9 Eckerson Ave.\, Akron\, New York\, 14001
CATEGORIES:Things to Do
END:VEVENT
BEGIN:VEVENT
DTSTART;TZID=America/New_York:20240316T100000
DTEND;TZID=America/New_York:20240316T140000
DTSTAMP:20260423T220919
CREATED:20240309T125152Z
LAST-MODIFIED:20240309T125152Z
UID:4722-1710583200-1710597600@akronbugle.com
SUMMARY:Bunny's Breakfast and Food Drive
DESCRIPTION:Bunny’s Breakfast and Food Drive for Akron-Newstead Food Pantry – sponsored by White Whiskers Senior Dog Sanctuary March 16 from 10 a.m. to 2 p.m.\, Buck’s Motorsports\, 13090 Main Road\, Akron\, NY 14001.
URL:https://akronbugle.com/calendar/bunnys-breakfast-and-food-drive/
LOCATION:Buck’s Motorsports\, 13090 Main Road\, Akron\, NY\, 14001\, United States
CATEGORIES:Things to Do
END:VEVENT
BEGIN:VEVENT
DTSTART;TZID=America/New_York:20240313T190000
DTEND;TZID=America/New_York:20240313T203000
DTSTAMP:20260423T220919
CREATED:20240309T124815Z
LAST-MODIFIED:20240309T125326Z
UID:4720-1710356400-1710361800@akronbugle.com
SUMMARY:Akron Central School Board of Education Meeting
DESCRIPTION:Akron Central School Board of Education meeting – Wednesday\, March 13\, 7:00 p.m. 47 Bloomingdale Ave.\, Akron\, NY.
URL:https://akronbugle.com/calendar/akron-central-school-board-of-education-meeting-7/
LOCATION:Akron Central School\, 47 Bloomingdale Ave.\, Akron\, NY\, 14001
CATEGORIES:Akron Central School
END:VEVENT
BEGIN:VEVENT
DTSTART;TZID=America/New_York:20240226T183000
DTEND;TZID=America/New_York:20240226T203000
DTSTAMP:20260423T220919
CREATED:20240223T224922Z
LAST-MODIFIED:20240223T224922Z
UID:4693-1708972200-1708979400@akronbugle.com
SUMMARY:Newstead Town Board meeting
DESCRIPTION:Newstead Town Board meeting – Monday\, February 26 – Work Session 6:45 p.m.\, Public Hearing proposed Community Center\, Regular meeting 7:30 p.m.
URL:https://akronbugle.com/calendar/newstead-town-board-meeting-28/
LOCATION:Newstead Town Hall\, 5 Clarence Center Road\, Akron\, NY\, 14001
END:VEVENT
BEGIN:VEVENT
DTSTART;TZID=America/New_York:20240205T180000
DTEND;TZID=America/New_York:20240205T200000
DTSTAMP:20260423T220919
CREATED:20240111T235336Z
LAST-MODIFIED:20240111T235336Z
UID:4611-1707156000-1707163200@akronbugle.com
SUMMARY:Akron Village Board meeting
DESCRIPTION:Akron Village Board meeting – Monday\, February 5 – Work Session 6 p.m.\, regular meeting 7 p.m.\, Akron Village Hall\, 21 Main St.\, Akron
URL:https://akronbugle.com/calendar/akron-village-board-meeting-30/
LOCATION:Akron Village Hall\, 21 Main St.\, Akron\, NY\, 14001
CATEGORIES:Akron Village Board,Village & Town Meetings
END:VEVENT
BEGIN:VEVENT
DTSTART;TZID=America/New_York:20240124T190000
DTEND;TZID=America/New_York:20240124T200000
DTSTAMP:20260423T220919
CREATED:20240111T235057Z
LAST-MODIFIED:20240111T235057Z
UID:4609-1706122800-1706126400@akronbugle.com
SUMMARY:Akron Central School Board of Education meeting
DESCRIPTION:Akron Central School Board of Education meeting – Wednesday\, January 24\, 7:00 p.m. 47 Bloomingdale Ave.\, Akron\, NY.
URL:https://akronbugle.com/calendar/akron-central-school-board-of-education-meeting-6/
LOCATION:Akron Central School\, 47 Bloomingdale Ave.\, Akron\, NY\, 14001
CATEGORIES:Akron Central School
END:VEVENT
BEGIN:VEVENT
DTSTART;TZID=America/New_York:20240122T190000
DTEND;TZID=America/New_York:20240122T200000
DTSTAMP:20260423T220919
CREATED:20240111T234733Z
LAST-MODIFIED:20240111T234733Z
UID:4607-1705950000-1705953600@akronbugle.com
SUMMARY:Akron Village Board meeting
DESCRIPTION:Akron Village Board meeting – Monday\, January 22 – Regular meeting 7 p.m.\, Akron Village Hall\, 21 Main St.\, Akron.
URL:https://akronbugle.com/calendar/akron-village-board-meeting-29/
LOCATION:Akron Village Hall\, 21 Main St.\, Akron\, NY\, 14001
CATEGORIES:Akron Village Board,Village & Town Meetings
END:VEVENT
BEGIN:VEVENT
DTSTART;TZID=America/New_York:20240122T183000
DTEND;TZID=America/New_York:20240122T203000
DTSTAMP:20260423T220919
CREATED:20240111T234533Z
LAST-MODIFIED:20240111T234815Z
UID:4605-1705948200-1705955400@akronbugle.com
SUMMARY:Newstead Town Board meeting
DESCRIPTION:Newstead Town Board meeting – Monday\, January 22 – Work Session 6:45 p.m.\, Regular meeting 7:30 p.m.
URL:https://akronbugle.com/calendar/newstead-town-board-meeting-27/
LOCATION:Newstead Town Hall\, 5 Clarence Center Road\, Akron\, NY\, 14001
CATEGORIES:Newstead Town Board,Village & Town Meetings
END:VEVENT
END:VCALENDAR